BEGIN:VCALENDAR
VERSION:2.0
PRODID:-//Litchfield Community Center - ECPv6.15.18//NONSGML v1.0//EN
CALSCALE:GREGORIAN
METHOD:PUBLISH
X-WR-CALNAME:Litchfield Community Center
X-ORIGINAL-URL:https://thecommunitycenter.org
X-WR-CALDESC:Events for Litchfield Community Center
REFRESH-INTERVAL;VALUE=DURATION:PT1H
X-Robots-Tag:noindex
X-PUBLISHED-TTL:PT1H
BEGIN:VTIMEZONE
TZID:America/New_York
BEGIN:DAYLIGHT
TZOFFSETFROM:-0500
TZOFFSETTO:-0400
TZNAME:EDT
DTSTART:20240310T070000
END:DAYLIGHT
BEGIN:STANDARD
TZOFFSETFROM:-0400
TZOFFSETTO:-0500
TZNAME:EST
DTSTART:20241103T060000
END:STANDARD
BEGIN:DAYLIGHT
TZOFFSETFROM:-0500
TZOFFSETTO:-0400
TZNAME:EDT
DTSTART:20250309T070000
END:DAYLIGHT
BEGIN:STANDARD
TZOFFSETFROM:-0400
TZOFFSETTO:-0500
TZNAME:EST
DTSTART:20251102T060000
END:STANDARD
BEGIN:DAYLIGHT
TZOFFSETFROM:-0500
TZOFFSETTO:-0400
TZNAME:EDT
DTSTART:20260308T070000
END:DAYLIGHT
BEGIN:STANDARD
TZOFFSETFROM:-0400
TZOFFSETTO:-0500
TZNAME:EST
DTSTART:20261101T060000
END:STANDARD
BEGIN:DAYLIGHT
TZOFFSETFROM:-0500
TZOFFSETTO:-0400
TZNAME:EDT
DTSTART:20270314T070000
END:DAYLIGHT
BEGIN:STANDARD
TZOFFSETFROM:-0400
TZOFFSETTO:-0500
TZNAME:EST
DTSTART:20271107T060000
END:STANDARD
END:VTIMEZONE
BEGIN:VEVENT
DTSTART;TZID=America/New_York:20260416T111500
DTEND;TZID=America/New_York:20260416T143000
DTSTAMP:20260423T090528
CREATED:20251210T174544Z
LAST-MODIFIED:20260409T193316Z
UID:10004844-1776338100-1776349800@thecommunitycenter.org
SUMMARY:Table Tennis
DESCRIPTION:Table Tennis is played weekly on Thursdays. Drop in. New or experienced players welcome! Paddles available. \nCost: Free
URL:https://thecommunitycenter.org/event/table-tennis-3/2026-04-16/
LOCATION:Rec Area
CATEGORIES:Exercise,Family/All Ages,Free
ATTACH;FMTTYPE=image/jpeg:https://thecommunitycenter.org/wp-content/uploads/2025/12/Table-Tennis.jpg
END:VEVENT
BEGIN:VEVENT
DTSTART;TZID=America/New_York:20260409T111500
DTEND;TZID=America/New_York:20260409T143000
DTSTAMP:20260423T090528
CREATED:20251210T174544Z
LAST-MODIFIED:20260409T193316Z
UID:10004843-1775733300-1775745000@thecommunitycenter.org
SUMMARY:Table Tennis
DESCRIPTION:Table Tennis is played weekly on Thursdays. Drop in. New or experienced players welcome! Paddles available. \nCost: Free
URL:https://thecommunitycenter.org/event/table-tennis-3/2026-04-09/
LOCATION:Rec Area
CATEGORIES:Exercise,Family/All Ages,Free
ATTACH;FMTTYPE=image/jpeg:https://thecommunitycenter.org/wp-content/uploads/2025/12/Table-Tennis.jpg
END:VEVENT
BEGIN:VEVENT
DTSTART;TZID=America/New_York:20260402T111500
DTEND;TZID=America/New_York:20260402T143000
DTSTAMP:20260423T090528
CREATED:20251210T174544Z
LAST-MODIFIED:20260409T193316Z
UID:10004842-1775128500-1775140200@thecommunitycenter.org
SUMMARY:Table Tennis
DESCRIPTION:Table Tennis is played weekly on Thursdays. Drop in. New or experienced players welcome! Paddles available. \nCost: Free
URL:https://thecommunitycenter.org/event/table-tennis-3/2026-04-02/
LOCATION:Rec Area
CATEGORIES:Exercise,Family/All Ages,Free
ATTACH;FMTTYPE=image/jpeg:https://thecommunitycenter.org/wp-content/uploads/2025/12/Table-Tennis.jpg
END:VEVENT
BEGIN:VEVENT
DTSTART;TZID=America/New_York:20260326T111500
DTEND;TZID=America/New_York:20260326T143000
DTSTAMP:20260423T090528
CREATED:20251210T174544Z
LAST-MODIFIED:20260409T193316Z
UID:10004841-1774523700-1774535400@thecommunitycenter.org
SUMMARY:Table Tennis
DESCRIPTION:Table Tennis is played weekly on Thursdays. Drop in. New or experienced players welcome! Paddles available. \nCost: Free
URL:https://thecommunitycenter.org/event/table-tennis-3/2026-03-26/
LOCATION:Rec Area
CATEGORIES:Exercise,Family/All Ages,Free
ATTACH;FMTTYPE=image/jpeg:https://thecommunitycenter.org/wp-content/uploads/2025/12/Table-Tennis.jpg
END:VEVENT
BEGIN:VEVENT
DTSTART;TZID=America/New_York:20260319T111500
DTEND;TZID=America/New_York:20260319T131500
DTSTAMP:20260423T090528
CREATED:20260316T180426Z
LAST-MODIFIED:20260316T180426Z
UID:10005802-1773918900-1773926100@thecommunitycenter.org
SUMMARY:*EARLY END TIME* Table Tennis
DESCRIPTION:*Early end time: Table Tennis this week* \n  \nTable Tennis is played weekly on Thursdays. Drop in. New or experienced players welcome! Paddles available. \nCost: Free
URL:https://thecommunitycenter.org/event/early-end-time-table-tennis/
LOCATION:Rec Area
END:VEVENT
BEGIN:VEVENT
DTSTART;TZID=America/New_York:20260312T111500
DTEND;TZID=America/New_York:20260312T143000
DTSTAMP:20260423T090528
CREATED:20251210T174544Z
LAST-MODIFIED:20260409T193316Z
UID:10004839-1773314100-1773325800@thecommunitycenter.org
SUMMARY:Table Tennis
DESCRIPTION:Table Tennis is played weekly on Thursdays. Drop in. New or experienced players welcome! Paddles available. \nCost: Free
URL:https://thecommunitycenter.org/event/table-tennis-3/2026-03-12/
LOCATION:Rec Area
CATEGORIES:Exercise,Family/All Ages,Free
ATTACH;FMTTYPE=image/jpeg:https://thecommunitycenter.org/wp-content/uploads/2025/12/Table-Tennis.jpg
END:VEVENT
BEGIN:VEVENT
DTSTART;TZID=America/New_York:20260305T111500
DTEND;TZID=America/New_York:20260305T143000
DTSTAMP:20260423T090528
CREATED:20251210T174544Z
LAST-MODIFIED:20260409T193316Z
UID:10004838-1772709300-1772721000@thecommunitycenter.org
SUMMARY:Table Tennis
DESCRIPTION:Table Tennis is played weekly on Thursdays. Drop in. New or experienced players welcome! Paddles available. \nCost: Free
URL:https://thecommunitycenter.org/event/table-tennis-3/2026-03-05/
LOCATION:Rec Area
CATEGORIES:Exercise,Family/All Ages,Free
ATTACH;FMTTYPE=image/jpeg:https://thecommunitycenter.org/wp-content/uploads/2025/12/Table-Tennis.jpg
END:VEVENT
BEGIN:VEVENT
DTSTART;TZID=America/New_York:20260226T111500
DTEND;TZID=America/New_York:20260226T143000
DTSTAMP:20260423T090528
CREATED:20251210T174544Z
LAST-MODIFIED:20260409T193316Z
UID:10004837-1772104500-1772116200@thecommunitycenter.org
SUMMARY:Table Tennis
DESCRIPTION:Table Tennis is played weekly on Thursdays. Drop in. New or experienced players welcome! Paddles available. \nCost: Free
URL:https://thecommunitycenter.org/event/table-tennis-3/2026-02-26/
LOCATION:Rec Area
CATEGORIES:Exercise,Family/All Ages,Free
ATTACH;FMTTYPE=image/jpeg:https://thecommunitycenter.org/wp-content/uploads/2025/12/Table-Tennis.jpg
END:VEVENT
BEGIN:VEVENT
DTSTART;TZID=America/New_York:20260219T111500
DTEND;TZID=America/New_York:20260219T143000
DTSTAMP:20260423T090528
CREATED:20251210T174544Z
LAST-MODIFIED:20260409T193316Z
UID:10004836-1771499700-1771511400@thecommunitycenter.org
SUMMARY:Table Tennis
DESCRIPTION:Table Tennis is played weekly on Thursdays. Drop in. New or experienced players welcome! Paddles available. \nCost: Free
URL:https://thecommunitycenter.org/event/table-tennis-3/2026-02-19/
LOCATION:Rec Area
CATEGORIES:Exercise,Family/All Ages,Free
ATTACH;FMTTYPE=image/jpeg:https://thecommunitycenter.org/wp-content/uploads/2025/12/Table-Tennis.jpg
END:VEVENT
BEGIN:VEVENT
DTSTART;TZID=America/New_York:20260212T111500
DTEND;TZID=America/New_York:20260212T143000
DTSTAMP:20260423T090528
CREATED:20251210T174544Z
LAST-MODIFIED:20260409T193316Z
UID:10004835-1770894900-1770906600@thecommunitycenter.org
SUMMARY:Table Tennis
DESCRIPTION:Table Tennis is played weekly on Thursdays. Drop in. New or experienced players welcome! Paddles available. \nCost: Free
URL:https://thecommunitycenter.org/event/table-tennis-3/2026-02-12/
LOCATION:Rec Area
CATEGORIES:Exercise,Family/All Ages,Free
ATTACH;FMTTYPE=image/jpeg:https://thecommunitycenter.org/wp-content/uploads/2025/12/Table-Tennis.jpg
END:VEVENT
BEGIN:VEVENT
DTSTART;TZID=America/New_York:20260205T111500
DTEND;TZID=America/New_York:20260205T143000
DTSTAMP:20260423T090528
CREATED:20251210T174544Z
LAST-MODIFIED:20260409T193316Z
UID:10004834-1770290100-1770301800@thecommunitycenter.org
SUMMARY:Table Tennis
DESCRIPTION:Table Tennis is played weekly on Thursdays. Drop in. New or experienced players welcome! Paddles available. \nCost: Free
URL:https://thecommunitycenter.org/event/table-tennis-3/2026-02-05/
LOCATION:Rec Area
CATEGORIES:Exercise,Family/All Ages,Free
ATTACH;FMTTYPE=image/jpeg:https://thecommunitycenter.org/wp-content/uploads/2025/12/Table-Tennis.jpg
END:VEVENT
BEGIN:VEVENT
DTSTART;TZID=America/New_York:20260129T111500
DTEND;TZID=America/New_York:20260129T143000
DTSTAMP:20260423T090528
CREATED:20251210T174544Z
LAST-MODIFIED:20260409T193316Z
UID:10004833-1769685300-1769697000@thecommunitycenter.org
SUMMARY:Table Tennis
DESCRIPTION:Table Tennis is played weekly on Thursdays. Drop in. New or experienced players welcome! Paddles available. \nCost: Free
URL:https://thecommunitycenter.org/event/table-tennis-3/2026-01-29/
LOCATION:Rec Area
CATEGORIES:Exercise,Family/All Ages,Free
ATTACH;FMTTYPE=image/jpeg:https://thecommunitycenter.org/wp-content/uploads/2025/12/Table-Tennis.jpg
END:VEVENT
BEGIN:VEVENT
DTSTART;TZID=America/New_York:20260122T111500
DTEND;TZID=America/New_York:20260122T143000
DTSTAMP:20260423T090528
CREATED:20251210T174544Z
LAST-MODIFIED:20260409T193316Z
UID:10004832-1769080500-1769092200@thecommunitycenter.org
SUMMARY:Table Tennis
DESCRIPTION:Table Tennis is played weekly on Thursdays. Drop in. New or experienced players welcome! Paddles available. \nCost: Free
URL:https://thecommunitycenter.org/event/table-tennis-3/2026-01-22/
LOCATION:Rec Area
CATEGORIES:Exercise,Family/All Ages,Free
ATTACH;FMTTYPE=image/jpeg:https://thecommunitycenter.org/wp-content/uploads/2025/12/Table-Tennis.jpg
END:VEVENT
BEGIN:VEVENT
DTSTART;TZID=America/New_York:20260115T111500
DTEND;TZID=America/New_York:20260115T143000
DTSTAMP:20260423T090528
CREATED:20251210T174544Z
LAST-MODIFIED:20260409T193316Z
UID:10004831-1768475700-1768487400@thecommunitycenter.org
SUMMARY:Table Tennis
DESCRIPTION:Table Tennis is played weekly on Thursdays. Drop in. New or experienced players welcome! Paddles available. \nCost: Free
URL:https://thecommunitycenter.org/event/table-tennis-3/2026-01-15/
LOCATION:Rec Area
CATEGORIES:Exercise,Family/All Ages,Free
ATTACH;FMTTYPE=image/jpeg:https://thecommunitycenter.org/wp-content/uploads/2025/12/Table-Tennis.jpg
END:VEVENT
BEGIN:VEVENT
DTSTART;TZID=America/New_York:20260108T111500
DTEND;TZID=America/New_York:20260108T143000
DTSTAMP:20260423T090528
CREATED:20251210T174544Z
LAST-MODIFIED:20260409T193316Z
UID:10004830-1767870900-1767882600@thecommunitycenter.org
SUMMARY:Table Tennis
DESCRIPTION:Table Tennis is played weekly on Thursdays. Drop in. New or experienced players welcome! Paddles available. \nCost: Free
URL:https://thecommunitycenter.org/event/table-tennis-3/2026-01-08/
LOCATION:Rec Area
CATEGORIES:Exercise,Family/All Ages,Free
ATTACH;FMTTYPE=image/jpeg:https://thecommunitycenter.org/wp-content/uploads/2025/12/Table-Tennis.jpg
END:VEVENT
BEGIN:VEVENT
DTSTART;TZID=America/New_York:20251218T111500
DTEND;TZID=America/New_York:20251218T143000
DTSTAMP:20260423T090528
CREATED:20251106T161000Z
LAST-MODIFIED:20251106T161044Z
UID:10001394-1766056500-1766068200@thecommunitycenter.org
SUMMARY:*NO* Table Tennis
DESCRIPTION:*No Table Tennis this week* \n  \nTable Tennis is played weekly on Thursdays. Drop in. New or experienced players welcome! Paddles available. \nCost: Free
URL:https://thecommunitycenter.org/event/table-tennis-2/
LOCATION:Rec Area
END:VEVENT
BEGIN:VEVENT
DTSTART;TZID=America/New_York:20251211T111500
DTEND;TZID=America/New_York:20251211T143000
DTSTAMP:20260423T090528
CREATED:20251210T174544Z
LAST-MODIFIED:20260409T193316Z
UID:10003775-1765451700-1765463400@thecommunitycenter.org
SUMMARY:Table Tennis
DESCRIPTION:Table Tennis is played weekly on Thursdays. Drop in. New or experienced players welcome! Paddles available. \nCost: Free
URL:https://thecommunitycenter.org/event/table-tennis-3/2025-12-11/
LOCATION:Rec Area
CATEGORIES:Exercise,Family/All Ages,Free
ATTACH;FMTTYPE=image/jpeg:https://thecommunitycenter.org/wp-content/uploads/2025/12/Table-Tennis.jpg
END:VEVENT
BEGIN:VEVENT
DTSTART;TZID=America/New_York:20251029T170000
DTEND;TZID=America/New_York:20251029T190000
DTSTAMP:20260423T090528
CREATED:20250820T162438Z
LAST-MODIFIED:20251027T121416Z
UID:10001981-1761757200-1761764400@thecommunitycenter.org
SUMMARY:Family Dinner
DESCRIPTION:* *Pre registration is required.  CLICK HERE TO REGISTER \n\n\nJoin us for our Oct Family Dinner! \nMenu: Pork Loin\, Apple Sauce\, Corn Bread & Veggies\nPre-registration is required by Monday\, Oct 27th.
URL:https://thecommunitycenter.org/event/family-dinner-2/
LOCATION:Atrium
CATEGORIES:Adults,Family/All Ages,Free
ATTACH;FMTTYPE=image/jpeg:https://thecommunitycenter.org/wp-content/uploads/2025/08/Litchfield_Community_Center__8_.jpg
END:VEVENT
BEGIN:VEVENT
DTSTART;TZID=America/New_York:20250807T111500
DTEND;TZID=America/New_York:20250807T143000
DTSTAMP:20260423T090528
CREATED:20250729T184329Z
LAST-MODIFIED:20251201T162938Z
UID:10001376-1754565300-1754577000@thecommunitycenter.org
SUMMARY:Table Tennis
DESCRIPTION:Table Tennis is played weekly on Thursdays. Drop in. New or experienced players welcome! Paddles available. \nCost: Free
URL:https://thecommunitycenter.org/event/table-tennis/
LOCATION:Rec Area
END:VEVENT
END:VCALENDAR