BEGIN:VCALENDAR
VERSION:2.0
PRODID:-//Litchfield Community Center - ECPv6.15.18//NONSGML v1.0//EN
CALSCALE:GREGORIAN
METHOD:PUBLISH
X-ORIGINAL-URL:https://thecommunitycenter.org
X-WR-CALDESC:Events for Litchfield Community Center
REFRESH-INTERVAL;VALUE=DURATION:PT1H
X-Robots-Tag:noindex
X-PUBLISHED-TTL:PT1H
BEGIN:VTIMEZONE
TZID:America/New_York
BEGIN:DAYLIGHT
TZOFFSETFROM:-0500
TZOFFSETTO:-0400
TZNAME:EDT
DTSTART:20240310T070000
END:DAYLIGHT
BEGIN:STANDARD
TZOFFSETFROM:-0400
TZOFFSETTO:-0500
TZNAME:EST
DTSTART:20241103T060000
END:STANDARD
BEGIN:DAYLIGHT
TZOFFSETFROM:-0500
TZOFFSETTO:-0400
TZNAME:EDT
DTSTART:20250309T070000
END:DAYLIGHT
BEGIN:STANDARD
TZOFFSETFROM:-0400
TZOFFSETTO:-0500
TZNAME:EST
DTSTART:20251102T060000
END:STANDARD
BEGIN:DAYLIGHT
TZOFFSETFROM:-0500
TZOFFSETTO:-0400
TZNAME:EDT
DTSTART:20260308T070000
END:DAYLIGHT
BEGIN:STANDARD
TZOFFSETFROM:-0400
TZOFFSETTO:-0500
TZNAME:EST
DTSTART:20261101T060000
END:STANDARD
BEGIN:DAYLIGHT
TZOFFSETFROM:-0500
TZOFFSETTO:-0400
TZNAME:EDT
DTSTART:20270314T070000
END:DAYLIGHT
BEGIN:STANDARD
TZOFFSETFROM:-0400
TZOFFSETTO:-0500
TZNAME:EST
DTSTART:20271107T060000
END:STANDARD
END:VTIMEZONE
BEGIN:VEVENT
DTSTART;TZID=America/New_York:20260223T100000
DTEND;TZID=America/New_York:20260223T120000
DTSTAMP:20260421T113318
CREATED:20251106T195522Z
LAST-MODIFIED:20251201T200549Z
UID:10002638-1771840800-1771848000@thecommunitycenter.org
SUMMARY:Pierogi Class
DESCRIPTION:Instructor: Charlene Dutka\, Ciesco Catering \n  \n\n\n\n\n\n\n\n\n\n\n\n\n\n\n\n\n\n\n\n\n\n\n\n\n\n\n\n\n\n\n\n\n\n\n\n\n\n\n\n\n\n\n\n\n\n\n\n\n\n\n\n\n\n\n\n\n\n\n\n\n\n\n\n\n\n\n\n\n\n\n\n\n\n\n\n\n\n\n\n\n\n\n\n\n\n\n\n\n\n\n\n\n\n\n\n\n\n\n\n\n\n\n\n\n\n\n\n\n\n\n\n\n\n\n\n\n\n\n\n\n\n\n\n\nCharlene Goodman Dutka lives in Goshen with her husband Ed\, youngest son Matthew\, and three rescue dogs. She was born and raised in Torrington in an Italian-American family. Her grandmother prepared food with love\, often using ingredients from her grandfather’s garden.\n\n\n\n\n\n\nCharlene started collecting cookbooks and reading them like novels at a young age. When time allowed\, she continually experimented in the kitchen while pursuing her corporate career and raising four children.\n\nOver ten years ago\, Charlene took a leap of faith to open Ciesco Catering\, which was named in honor of her maternal grandparents. Like her grandmother\, Charlene prepares food with love.\n\n\n\n\n\n\n\n\n\n\n\nDenise Pastore Ciesco lives in North Granby with her husband\, Gary\, and their two horses. She was born in Torrington and raised in an Italian-American family\, relocating to Italy with her family as a teenager. Denise immersed herself in Italian culture while celebrating traditional American Holidays with family and friends. The consummate hostess\, Denise’s dinners were always famous among anyone who knew her.\n\nWhen Denise’s two children were grown\, she and her former spouse\, who was in the construction business\, built and owned a resort with two restaurants. Denise would ask her world-renowned chefs for tips and ideas and continues incorporating this knowledge into her recipes.\n\nDenise and Charlene met shortly after the catering company opened through Charlene’s cousin\, Denise’s husband. They are cousins in every way possible. Together\, they create unique menu items while having fun—sometimes too much fun with a dash of mischief.\n\n\n\n\n\n\n\n\n\n\n\n\n\n\n\n\n\n\n\n\n\n\n\n\n\n\n\n\n\n\n\n\n\n\n\n\n\n\n\n\n\n\n\n\n\n\n\n\n\n\n\n\n\n\n\n\n\n\n\n\n\n\n\n\n\n\n\n\n\n\n\n\n\n\n\n\n\n\n\n\n\n\n\n\n\n\n\n\n\n\n\n\n\n\n\n\n\n\n\n\n\n\n\n\n\n\n\n\n\n\n\n\n\n\n\n\n\n\n\n\n\n\n\n\n\n\n\nClick here to Register
URL:https://thecommunitycenter.org/event/pierogi-class/
LOCATION:Kitchen
CATEGORIES:Adults
ATTACH;FMTTYPE=image/jpeg:https://thecommunitycenter.org/wp-content/uploads/2025/11/Pierogi.jpg
END:VEVENT
BEGIN:VEVENT
DTSTART;TZID=America/New_York:20251208T180000
DTEND;TZID=America/New_York:20251208T200000
DTSTAMP:20260421T113318
CREATED:20251106T175310Z
LAST-MODIFIED:20251201T200634Z
UID:10002635-1765216800-1765224000@thecommunitycenter.org
SUMMARY:Baking with Puff Pastry
DESCRIPTION:Cooking class with Chef Charlene Dutka of Ciesco Catering. \n  \nCharlene Goodman Dutka lives in Goshen with her husband Ed\, youngest son Matthew\, and three rescue dogs. She was born and raised in Torrington in an Italian-American family. Her grandmother prepared food with love\, often using ingredients from her grandfather’s garden. \nCharlene started collecting cookbooks and reading them like novels at a young age. When time allowed\, she continually experimented in the kitchen while pursuing her corporate career and raising four children. \nOver ten years ago\, Charlene took a leap of faith to open Ciesco Catering\, which was named in honor of her maternal grandparents. Like her grandmother\, Charlene prepares food with love. \nDenise Pastore Ciesco lives in North Granby with her husband\, Gary\, and their two horses. She was born in Torrington and raised in an Italian-American family\, relocating to Italy with her family as a teenager. Denise immersed herself in Italian culture while celebrating traditional American Holidays with family and friends. The consummate hostess\, Denise’s dinners were always famous among anyone who knew her. \nWhen Denise’s two children were grown\, she and her former spouse\, who was in the construction business\, built and owned a resort with two restaurants. Denise would ask her world-renowned chefs for tips and ideas and continues incorporating this knowledge into her recipes. \nDenise and Charlene met shortly after the catering company opened through Charlene’s cousin\, Denise’s husband. They are cousins in every way possible. Together\, they create unique menu items while having fun—sometimes too much fun with a dash of mischief. \nClick here to Register
URL:https://thecommunitycenter.org/event/baking-with-puff-pastry/
LOCATION:Kitchen
CATEGORIES:Adults
ATTACH;FMTTYPE=image/png:https://thecommunitycenter.org/wp-content/uploads/2025/11/Puff-Pastry.png
END:VEVENT
BEGIN:VEVENT
DTSTART;TZID=America/New_York:20251206T100000
DTEND;TZID=America/New_York:20251206T233000
DTSTAMP:20260421T113318
CREATED:20251106T194020Z
LAST-MODIFIED:20251106T194239Z
UID:10002636-1765015200-1765063800@thecommunitycenter.org
SUMMARY:Cooking with Kids: Baking Breakfast Cookies
DESCRIPTION:Instructor: Chef Charlene Dutka of Ciesco Catering \nClick to Register \n 
URL:https://thecommunitycenter.org/event/cooking-with-kids-baking-breakfast-cookies/
LOCATION:Kitchen
CATEGORIES:Youth
ATTACH;FMTTYPE=image/jpeg:https://thecommunitycenter.org/wp-content/uploads/2025/11/Cooking-with-Kids.jpg
END:VEVENT
BEGIN:VEVENT
DTSTART;TZID=America/New_York:20251117T180000
DTEND;TZID=America/New_York:20251117T203000
DTSTAMP:20260421T113318
CREATED:20251106T151700Z
LAST-MODIFIED:20251106T160047Z
UID:10002609-1763402400-1763411400@thecommunitycenter.org
SUMMARY:Cooking with Locally Grown
DESCRIPTION:Instructed by Chef Charlene Dutka of Ciesco Catering \nClick here to register
URL:https://thecommunitycenter.org/event/cooking-with-locally-grown/
LOCATION:Kitchen
CATEGORIES:Adults
ATTACH;FMTTYPE=image/png:https://thecommunitycenter.org/wp-content/uploads/2025/11/Locally-Grown-1.png
END:VEVENT
BEGIN:VEVENT
DTSTART;TZID=America/New_York:20251001T170000
DTEND;TZID=America/New_York:20251001T200000
DTSTAMP:20260421T113318
CREATED:20250820T153225Z
LAST-MODIFIED:20250820T153225Z
UID:10001878-1759338000-1759348800@thecommunitycenter.org
SUMMARY:Thai Cooking Class
DESCRIPTION:Cost: $60.00* Pre-registration and pre-payment required \nJoin Jeanine Kelly for a fun and social cooking class designed to expand your palette! \nPlease register on Active Health’s website at https://tinyurl.com/mtuwdta
URL:https://thecommunitycenter.org/event/thai-cooking-class/
LOCATION:Kitchen
CATEGORIES:Adults
ATTACH;FMTTYPE=image/jpeg:https://thecommunitycenter.org/wp-content/uploads/2025/08/Thai_Cooking_Oct_2025.jpg
END:VEVENT
BEGIN:VEVENT
DTSTART;TZID=America/New_York:20250903T170000
DTEND;TZID=America/New_York:20250903T200000
DTSTAMP:20260421T113318
CREATED:20250818T174455Z
LAST-MODIFIED:20250818T174455Z
UID:10001455-1756918800-1756929600@thecommunitycenter.org
SUMMARY:Gut Friendly Cooking Class
DESCRIPTION:Join Jeanine Kelly for a fun and social cooking class designed to expand your palette!\nPlease register at https://tinyurl.com/yf5se948 on Active Health’s website. \n  \n* Pre-registration and pre-payment required
URL:https://thecommunitycenter.org/event/gut-friendly-cooking-class/
LOCATION:Kitchen
CATEGORIES:Adults
ATTACH;FMTTYPE=image/jpeg:https://thecommunitycenter.org/wp-content/uploads/2025/08/Gut_Friendly_Sept_2025.jpg
END:VEVENT
END:VCALENDAR