BEGIN:VCALENDAR
VERSION:2.0
PRODID:-//Litchfield Community Center - ECPv6.15.18//NONSGML v1.0//EN
CALSCALE:GREGORIAN
METHOD:PUBLISH
X-ORIGINAL-URL:https://thecommunitycenter.org
X-WR-CALDESC:Events for Litchfield Community Center
REFRESH-INTERVAL;VALUE=DURATION:PT1H
X-Robots-Tag:noindex
X-PUBLISHED-TTL:PT1H
BEGIN:VTIMEZONE
TZID:America/New_York
BEGIN:DAYLIGHT
TZOFFSETFROM:-0500
TZOFFSETTO:-0400
TZNAME:EDT
DTSTART:20240310T070000
END:DAYLIGHT
BEGIN:STANDARD
TZOFFSETFROM:-0400
TZOFFSETTO:-0500
TZNAME:EST
DTSTART:20241103T060000
END:STANDARD
BEGIN:DAYLIGHT
TZOFFSETFROM:-0500
TZOFFSETTO:-0400
TZNAME:EDT
DTSTART:20250309T070000
END:DAYLIGHT
BEGIN:STANDARD
TZOFFSETFROM:-0400
TZOFFSETTO:-0500
TZNAME:EST
DTSTART:20251102T060000
END:STANDARD
BEGIN:DAYLIGHT
TZOFFSETFROM:-0500
TZOFFSETTO:-0400
TZNAME:EDT
DTSTART:20260308T070000
END:DAYLIGHT
BEGIN:STANDARD
TZOFFSETFROM:-0400
TZOFFSETTO:-0500
TZNAME:EST
DTSTART:20261101T060000
END:STANDARD
END:VTIMEZONE
BEGIN:VEVENT
DTSTART;TZID=America/New_York:20250915T101500
DTEND;TZID=America/New_York:20250915T111500
DTSTAMP:20260420T210628
CREATED:20250818T205540Z
LAST-MODIFIED:20250820T154341Z
UID:10001591-1757931300-1757934900@thecommunitycenter.org
SUMMARY:Mindfulness Meditation
DESCRIPTION:Instruction & Practice\nMindfulness Meditation\nAll levels of experience welcome\n1st & 3rd Monday of the month \nMonday’s: With Mindfulness Meditation Led by Sheila Klapper \n$5 at the door / Walk-ins welcome \n* Registration appreciated – Walk-ins welcome \nSangha:\nA community of friends practicing together to maintain awareness
URL:https://thecommunitycenter.org/event/mindfulness-meditation/2025-09-15/
LOCATION:Community Room
CATEGORIES:Adults
ATTACH;FMTTYPE=image/jpeg:https://thecommunitycenter.org/wp-content/uploads/2025/08/msc-mindfulness.jpg
END:VEVENT
BEGIN:VEVENT
DTSTART;TZID=America/New_York:20250913T100000
DTEND;TZID=America/New_York:20250913T120000
DTSTAMP:20260420T210628
CREATED:20250818T200451Z
LAST-MODIFIED:20250902T181417Z
UID:10001587-1757757600-1757764800@thecommunitycenter.org
SUMMARY:Lego Saturdays With Noah
DESCRIPTION:Join us for a creative and fun-filled series of LEGO-building events at the Litchfield Community Center! Our Saturday LEGOs program\, led by our Program Coordinator Noah\, invites children to dive into themed LEGO projects once a month on Saturdays. \nSchedule: \nSeptember 13th: Fall Landscapes & Cities\nOctober 11th: Haunted Houses! \nTime: 10 AM – 12 PM \nThese sessions provide a wonderful opportunity for kids to express their creativity\, enhance their problem-solving skills\, and make new friends in a supportive and engaging environment. Don’t miss out on this exciting LEGO adventure at the Litchfield Community Center! \nCost: FREE* \nOnline Registration Required – CLICK HERE TO REGISTER
URL:https://thecommunitycenter.org/event/lego-saturdays-with-noah/2025-09-13/
LOCATION:Community Room
CATEGORIES:Free,Youth
ATTACH;FMTTYPE=image/jpeg:https://thecommunitycenter.org/wp-content/uploads/2025/08/Lego_Saturdays__April-_May__10_.jpg
END:VEVENT
BEGIN:VEVENT
DTSTART;TZID=America/New_York:20250912T100000
DTEND;TZID=America/New_York:20250912T113000
DTSTAMP:20260420T210628
CREATED:20250729T185111Z
LAST-MODIFIED:20250729T185111Z
UID:10001405-1757671200-1757676600@thecommunitycenter.org
SUMMARY:Bereavement Circle
DESCRIPTION:Finding a Path Forward After the Loss of a Spouse or Partner \nLearning how to navigate through the grieving process? This peer support group will help you to understand the uncertainty\, vulnerability and trauma associated with such an immeasurable loss. There is help. There is hope. You are not alone in this journey. \n8-week session\nSeptember 5 – October 31\, 2025 (no session: September 26th) \nPreregistration required/more information: Please contact Doreen at tangohampton@gmail.com. \nTogether we will hold and point a compass toward comfort
URL:https://thecommunitycenter.org/event/bereavement-circle/2025-09-12/
LOCATION:Community Room
ATTACH;FMTTYPE=image/jpeg:https://thecommunitycenter.org/wp-content/uploads/2025/07/bereavement.jpg
END:VEVENT
BEGIN:VEVENT
DTSTART;TZID=America/New_York:20250911T160000
DTEND;TZID=America/New_York:20250911T180000
DTSTAMP:20260420T210628
CREATED:20250818T200019Z
LAST-MODIFIED:20250902T173014Z
UID:10001528-1757606400-1757613600@thecommunitycenter.org
SUMMARY:Skill Seekers After School Program (grades 1-3)
DESCRIPTION:COST: Free \nTime- Every Thursday\, Sept 11 – Oct 16 4:00-6:00pm \nWelcome to Skill Seekers\, an engaging after-school program designed for students in grades 1-3. Our mission is to help young learners develop essential life skills that complement their regular school curriculum. In Skill Seekers\, students will explore and practice valuable abilities such as effective communication\, teamwork\, good sportsmanship\, and critical thinking. \nOptional School Pickup from Center School is available\, if you would like to participate all we ask is you provide a booster seat if needed for the Thursday Sessions. Join us and watch your child grow into a confident\, well-rounded individual ready to take on life’s challenges! \nCLICK HERE TO REGISTER
URL:https://thecommunitycenter.org/event/skill-seekers-after-school-program-grades-1-3/2025-09-11/
LOCATION:Community Room
CATEGORIES:Free,Youth
ATTACH;FMTTYPE=image/jpeg:https://thecommunitycenter.org/wp-content/uploads/2025/08/skill-seekers.jpg
END:VEVENT
BEGIN:VEVENT
DTSTART;TZID=America/New_York:20250911T090000
DTEND;TZID=America/New_York:20250911T110000
DTSTAMP:20260420T210628
CREATED:20250729T183640Z
LAST-MODIFIED:20251107T195647Z
UID:10001059-1757581200-1757588400@thecommunitycenter.org
SUMMARY:Tech Help
DESCRIPTION:Technology made easy! \nAre you having trouble with your computer\, smart phone\, Firestick\, or other technology??? Well look no further! FREE help with JC Tieman is available at the LCC. Help is available for all ages\, and tech abilities. \nThursdays from 9-11m\, call to sign up for a one hour time slot for one on one help with an experienced IT professional. \nFree help is available for but not limited to:\n*Tutorials\n*Programming and app installation\n*General Maintenance\n*Minor Repairs\n*Software Upgrades\n*Digital Photography\n*Email\n*Minor Repairs\n*Amazon Firesticks \nCost: FREE – CALL TO RESERVE*\nCALL FOR RESERVATION: 860 567 8302 \n 
URL:https://thecommunitycenter.org/event/tech-help/2025-09-11/
LOCATION:Community Room
END:VEVENT
BEGIN:VEVENT
DTSTART;TZID=America/New_York:20250910T100000
DTEND;TZID=America/New_York:20250910T140000
DTSTAMP:20260420T210628
CREATED:20250729T182414Z
LAST-MODIFIED:20251126T143717Z
UID:10000996-1757498400-1757512800@thecommunitycenter.org
SUMMARY:Duplicate Bridge
DESCRIPTION:Cost: $6*\nBring a partner\, bring a lunch!\nFacilitated by David Bill.
URL:https://thecommunitycenter.org/event/duplicate-bridge/2025-09-10/
LOCATION:Community Room
CATEGORIES:Adults
ATTACH;FMTTYPE=image/jpeg:https://thecommunitycenter.org/wp-content/uploads/2025/07/IMG_1353-scaled.jpeg
END:VEVENT
BEGIN:VEVENT
DTSTART;TZID=America/New_York:20250909T160000
DTEND;TZID=America/New_York:20250909T180000
DTSTAMP:20260420T210628
CREATED:20250818T194719Z
LAST-MODIFIED:20250902T164706Z
UID:10001463-1757433600-1757440800@thecommunitycenter.org
SUMMARY:Skill Seekers After School Program (grades 4-5)
DESCRIPTION:COST:Free \nTime- Every Tuesday\, Sept 9 – Oct 14 4:00-6:00pm \nWelcome to Skill Seekers\, an engaging after-school program designed for students in grades 4-5. Our mission is to help young learners develop essential life skills that complement their regular school curriculum. In Skill Seekers\, students will explore and practice valuable abilities such as effective communication\, teamwork\, good sportsmanship\, and critical thinking. \nOptional school pickup is available for your convenience. Join us and watch your child grow into a confident\, well-rounded individual ready to take on life’s challenges! \nClick here to Register
URL:https://thecommunitycenter.org/event/skill-seekers-after-school-program-grades-4-5/2025-09-09/
LOCATION:Community Room
CATEGORIES:Free,Youth
ATTACH;FMTTYPE=image/jpeg:https://thecommunitycenter.org/wp-content/uploads/2025/08/skill-seekers.jpg
END:VEVENT
BEGIN:VEVENT
DTSTART;TZID=America/New_York:20250905T100000
DTEND;TZID=America/New_York:20250905T113000
DTSTAMP:20260420T210628
CREATED:20250729T185111Z
LAST-MODIFIED:20250729T185111Z
UID:10001404-1757066400-1757071800@thecommunitycenter.org
SUMMARY:Bereavement Circle
DESCRIPTION:Finding a Path Forward After the Loss of a Spouse or Partner \nLearning how to navigate through the grieving process? This peer support group will help you to understand the uncertainty\, vulnerability and trauma associated with such an immeasurable loss. There is help. There is hope. You are not alone in this journey. \n8-week session\nSeptember 5 – October 31\, 2025 (no session: September 26th) \nPreregistration required/more information: Please contact Doreen at tangohampton@gmail.com. \nTogether we will hold and point a compass toward comfort
URL:https://thecommunitycenter.org/event/bereavement-circle/2025-09-05/
LOCATION:Community Room
ATTACH;FMTTYPE=image/jpeg:https://thecommunitycenter.org/wp-content/uploads/2025/07/bereavement.jpg
END:VEVENT
BEGIN:VEVENT
DTSTART;TZID=America/New_York:20250904T090000
DTEND;TZID=America/New_York:20250904T110000
DTSTAMP:20260420T210628
CREATED:20250729T183640Z
LAST-MODIFIED:20251107T195647Z
UID:10001058-1756976400-1756983600@thecommunitycenter.org
SUMMARY:Tech Help
DESCRIPTION:Technology made easy! \nAre you having trouble with your computer\, smart phone\, Firestick\, or other technology??? Well look no further! FREE help with JC Tieman is available at the LCC. Help is available for all ages\, and tech abilities. \nThursdays from 9-11m\, call to sign up for a one hour time slot for one on one help with an experienced IT professional. \nFree help is available for but not limited to:\n*Tutorials\n*Programming and app installation\n*General Maintenance\n*Minor Repairs\n*Software Upgrades\n*Digital Photography\n*Email\n*Minor Repairs\n*Amazon Firesticks \nCost: FREE – CALL TO RESERVE*\nCALL FOR RESERVATION: 860 567 8302 \n 
URL:https://thecommunitycenter.org/event/tech-help/2025-09-04/
LOCATION:Community Room
END:VEVENT
BEGIN:VEVENT
DTSTART;TZID=America/New_York:20250903T100000
DTEND;TZID=America/New_York:20250903T140000
DTSTAMP:20260420T210628
CREATED:20250729T182414Z
LAST-MODIFIED:20251126T143717Z
UID:10000995-1756893600-1756908000@thecommunitycenter.org
SUMMARY:Duplicate Bridge
DESCRIPTION:Cost: $6*\nBring a partner\, bring a lunch!\nFacilitated by David Bill.
URL:https://thecommunitycenter.org/event/duplicate-bridge/2025-09-03/
LOCATION:Community Room
CATEGORIES:Adults
ATTACH;FMTTYPE=image/jpeg:https://thecommunitycenter.org/wp-content/uploads/2025/07/IMG_1353-scaled.jpeg
END:VEVENT
BEGIN:VEVENT
DTSTART;TZID=America/New_York:20250821T090000
DTEND;TZID=America/New_York:20250821T110000
DTSTAMP:20260420T210628
CREATED:20250729T183640Z
LAST-MODIFIED:20251107T195647Z
UID:10001057-1755766800-1755774000@thecommunitycenter.org
SUMMARY:Tech Help
DESCRIPTION:Technology made easy! \nAre you having trouble with your computer\, smart phone\, Firestick\, or other technology??? Well look no further! FREE help with JC Tieman is available at the LCC. Help is available for all ages\, and tech abilities. \nThursdays from 9-11m\, call to sign up for a one hour time slot for one on one help with an experienced IT professional. \nFree help is available for but not limited to:\n*Tutorials\n*Programming and app installation\n*General Maintenance\n*Minor Repairs\n*Software Upgrades\n*Digital Photography\n*Email\n*Minor Repairs\n*Amazon Firesticks \nCost: FREE – CALL TO RESERVE*\nCALL FOR RESERVATION: 860 567 8302 \n 
URL:https://thecommunitycenter.org/event/tech-help/2025-08-21/
LOCATION:Community Room
END:VEVENT
BEGIN:VEVENT
DTSTART;TZID=America/New_York:20250820T100000
DTEND;TZID=America/New_York:20250820T140000
DTSTAMP:20260420T210628
CREATED:20250729T182414Z
LAST-MODIFIED:20251126T143717Z
UID:10000994-1755684000-1755698400@thecommunitycenter.org
SUMMARY:Duplicate Bridge
DESCRIPTION:Cost: $6*\nBring a partner\, bring a lunch!\nFacilitated by David Bill.
URL:https://thecommunitycenter.org/event/duplicate-bridge/2025-08-20/
LOCATION:Community Room
CATEGORIES:Adults
ATTACH;FMTTYPE=image/jpeg:https://thecommunitycenter.org/wp-content/uploads/2025/07/IMG_1353-scaled.jpeg
END:VEVENT
BEGIN:VEVENT
DTSTART;TZID=America/New_York:20250814T090000
DTEND;TZID=America/New_York:20250814T110000
DTSTAMP:20260420T210628
CREATED:20250729T183640Z
LAST-MODIFIED:20251107T195647Z
UID:10001056-1755162000-1755169200@thecommunitycenter.org
SUMMARY:Tech Help
DESCRIPTION:Technology made easy! \nAre you having trouble with your computer\, smart phone\, Firestick\, or other technology??? Well look no further! FREE help with JC Tieman is available at the LCC. Help is available for all ages\, and tech abilities. \nThursdays from 9-11m\, call to sign up for a one hour time slot for one on one help with an experienced IT professional. \nFree help is available for but not limited to:\n*Tutorials\n*Programming and app installation\n*General Maintenance\n*Minor Repairs\n*Software Upgrades\n*Digital Photography\n*Email\n*Minor Repairs\n*Amazon Firesticks \nCost: FREE – CALL TO RESERVE*\nCALL FOR RESERVATION: 860 567 8302 \n 
URL:https://thecommunitycenter.org/event/tech-help/2025-08-14/
LOCATION:Community Room
END:VEVENT
BEGIN:VEVENT
DTSTART;TZID=America/New_York:20250813T100000
DTEND;TZID=America/New_York:20250813T140000
DTSTAMP:20260420T210628
CREATED:20250729T182414Z
LAST-MODIFIED:20251126T143717Z
UID:10000993-1755079200-1755093600@thecommunitycenter.org
SUMMARY:Duplicate Bridge
DESCRIPTION:Cost: $6*\nBring a partner\, bring a lunch!\nFacilitated by David Bill.
URL:https://thecommunitycenter.org/event/duplicate-bridge/2025-08-13/
LOCATION:Community Room
CATEGORIES:Adults
ATTACH;FMTTYPE=image/jpeg:https://thecommunitycenter.org/wp-content/uploads/2025/07/IMG_1353-scaled.jpeg
END:VEVENT
BEGIN:VEVENT
DTSTART;TZID=America/New_York:20250807T090000
DTEND;TZID=America/New_York:20250807T110000
DTSTAMP:20260420T210628
CREATED:20250729T183640Z
LAST-MODIFIED:20251107T195647Z
UID:10001055-1754557200-1754564400@thecommunitycenter.org
SUMMARY:Tech Help
DESCRIPTION:Technology made easy! \nAre you having trouble with your computer\, smart phone\, Firestick\, or other technology??? Well look no further! FREE help with JC Tieman is available at the LCC. Help is available for all ages\, and tech abilities. \nThursdays from 9-11m\, call to sign up for a one hour time slot for one on one help with an experienced IT professional. \nFree help is available for but not limited to:\n*Tutorials\n*Programming and app installation\n*General Maintenance\n*Minor Repairs\n*Software Upgrades\n*Digital Photography\n*Email\n*Minor Repairs\n*Amazon Firesticks \nCost: FREE – CALL TO RESERVE*\nCALL FOR RESERVATION: 860 567 8302 \n 
URL:https://thecommunitycenter.org/event/tech-help/2025-08-07/
LOCATION:Community Room
END:VEVENT
BEGIN:VEVENT
DTSTART;TZID=America/New_York:20250806T100000
DTEND;TZID=America/New_York:20250806T140000
DTSTAMP:20260420T210628
CREATED:20250729T182414Z
LAST-MODIFIED:20251126T143717Z
UID:10000992-1754474400-1754488800@thecommunitycenter.org
SUMMARY:Duplicate Bridge
DESCRIPTION:Cost: $6*\nBring a partner\, bring a lunch!\nFacilitated by David Bill.
URL:https://thecommunitycenter.org/event/duplicate-bridge/2025-08-06/
LOCATION:Community Room
CATEGORIES:Adults
ATTACH;FMTTYPE=image/jpeg:https://thecommunitycenter.org/wp-content/uploads/2025/07/IMG_1353-scaled.jpeg
END:VEVENT
END:VCALENDAR