BEGIN:VCALENDAR
VERSION:2.0
PRODID:-//Litchfield Community Center - ECPv6.15.18//NONSGML v1.0//EN
CALSCALE:GREGORIAN
METHOD:PUBLISH
X-ORIGINAL-URL:https://thecommunitycenter.org
X-WR-CALDESC:Events for Litchfield Community Center
REFRESH-INTERVAL;VALUE=DURATION:PT1H
X-Robots-Tag:noindex
X-PUBLISHED-TTL:PT1H
BEGIN:VTIMEZONE
TZID:America/New_York
BEGIN:DAYLIGHT
TZOFFSETFROM:-0500
TZOFFSETTO:-0400
TZNAME:EDT
DTSTART:20260308T070000
END:DAYLIGHT
BEGIN:STANDARD
TZOFFSETFROM:-0400
TZOFFSETTO:-0500
TZNAME:EST
DTSTART:20261101T060000
END:STANDARD
BEGIN:DAYLIGHT
TZOFFSETFROM:-0500
TZOFFSETTO:-0400
TZNAME:EDT
DTSTART:20270314T070000
END:DAYLIGHT
BEGIN:STANDARD
TZOFFSETFROM:-0400
TZOFFSETTO:-0500
TZNAME:EST
DTSTART:20271107T060000
END:STANDARD
BEGIN:DAYLIGHT
TZOFFSETFROM:-0500
TZOFFSETTO:-0400
TZNAME:EDT
DTSTART:20280312T070000
END:DAYLIGHT
BEGIN:STANDARD
TZOFFSETFROM:-0400
TZOFFSETTO:-0500
TZNAME:EST
DTSTART:20281105T060000
END:STANDARD
END:VTIMEZONE
BEGIN:VEVENT
DTSTART;TZID=America/New_York:20270107T180000
DTEND;TZID=America/New_York:20270107T190000
DTSTAMP:20260425T140010
CREATED:20250729T181537Z
LAST-MODIFIED:20260401T173616Z
UID:10001149-1799344800-1799348400@thecommunitycenter.org
SUMMARY:Sculpt & Tone
DESCRIPTION:A strength training class that includes stretching\, abdominal work & muscle isolation for a full body workout. Instructor: Dean Roberts.\nCost: $8
URL:https://thecommunitycenter.org/event/sculpt-tone/2027-01-07/
LOCATION:Atrium
ATTACH;FMTTYPE=image/jpeg:https://thecommunitycenter.org/wp-content/uploads/2025/07/Squeeze_Dean.jpg
END:VEVENT
BEGIN:VEVENT
DTSTART;TZID=America/New_York:20270112T180000
DTEND;TZID=America/New_York:20270112T190000
DTSTAMP:20260425T140010
CREATED:20250729T181537Z
LAST-MODIFIED:20260401T173616Z
UID:10000762-1799776800-1799780400@thecommunitycenter.org
SUMMARY:Sculpt & Tone
DESCRIPTION:A strength training class that includes stretching\, abdominal work & muscle isolation for a full body workout. Instructor: Dean Roberts.\nCost: $8
URL:https://thecommunitycenter.org/event/sculpt-tone/2027-01-12/
LOCATION:Atrium
ATTACH;FMTTYPE=image/jpeg:https://thecommunitycenter.org/wp-content/uploads/2025/07/Squeeze_Dean.jpg
END:VEVENT
BEGIN:VEVENT
DTSTART;TZID=America/New_York:20270114T180000
DTEND;TZID=America/New_York:20270114T190000
DTSTAMP:20260425T140010
CREATED:20250729T181537Z
LAST-MODIFIED:20260401T173616Z
UID:10001150-1799949600-1799953200@thecommunitycenter.org
SUMMARY:Sculpt & Tone
DESCRIPTION:A strength training class that includes stretching\, abdominal work & muscle isolation for a full body workout. Instructor: Dean Roberts.\nCost: $8
URL:https://thecommunitycenter.org/event/sculpt-tone/2027-01-14/
LOCATION:Atrium
ATTACH;FMTTYPE=image/jpeg:https://thecommunitycenter.org/wp-content/uploads/2025/07/Squeeze_Dean.jpg
END:VEVENT
BEGIN:VEVENT
DTSTART;TZID=America/New_York:20270119T180000
DTEND;TZID=America/New_York:20270119T190000
DTSTAMP:20260425T140010
CREATED:20250729T181537Z
LAST-MODIFIED:20260401T173616Z
UID:10000763-1800381600-1800385200@thecommunitycenter.org
SUMMARY:Sculpt & Tone
DESCRIPTION:A strength training class that includes stretching\, abdominal work & muscle isolation for a full body workout. Instructor: Dean Roberts.\nCost: $8
URL:https://thecommunitycenter.org/event/sculpt-tone/2027-01-19/
LOCATION:Atrium
ATTACH;FMTTYPE=image/jpeg:https://thecommunitycenter.org/wp-content/uploads/2025/07/Squeeze_Dean.jpg
END:VEVENT
BEGIN:VEVENT
DTSTART;TZID=America/New_York:20270121T180000
DTEND;TZID=America/New_York:20270121T190000
DTSTAMP:20260425T140010
CREATED:20250729T181537Z
LAST-MODIFIED:20260401T173616Z
UID:10001151-1800554400-1800558000@thecommunitycenter.org
SUMMARY:Sculpt & Tone
DESCRIPTION:A strength training class that includes stretching\, abdominal work & muscle isolation for a full body workout. Instructor: Dean Roberts.\nCost: $8
URL:https://thecommunitycenter.org/event/sculpt-tone/2027-01-21/
LOCATION:Atrium
ATTACH;FMTTYPE=image/jpeg:https://thecommunitycenter.org/wp-content/uploads/2025/07/Squeeze_Dean.jpg
END:VEVENT
BEGIN:VEVENT
DTSTART;TZID=America/New_York:20270126T180000
DTEND;TZID=America/New_York:20270126T190000
DTSTAMP:20260425T140010
CREATED:20250729T181537Z
LAST-MODIFIED:20260401T173616Z
UID:10000764-1800986400-1800990000@thecommunitycenter.org
SUMMARY:Sculpt & Tone
DESCRIPTION:A strength training class that includes stretching\, abdominal work & muscle isolation for a full body workout. Instructor: Dean Roberts.\nCost: $8
URL:https://thecommunitycenter.org/event/sculpt-tone/2027-01-26/
LOCATION:Atrium
ATTACH;FMTTYPE=image/jpeg:https://thecommunitycenter.org/wp-content/uploads/2025/07/Squeeze_Dean.jpg
END:VEVENT
BEGIN:VEVENT
DTSTART;TZID=America/New_York:20270128T180000
DTEND;TZID=America/New_York:20270128T190000
DTSTAMP:20260425T140010
CREATED:20250729T181537Z
LAST-MODIFIED:20260401T173616Z
UID:10001152-1801159200-1801162800@thecommunitycenter.org
SUMMARY:Sculpt & Tone
DESCRIPTION:A strength training class that includes stretching\, abdominal work & muscle isolation for a full body workout. Instructor: Dean Roberts.\nCost: $8
URL:https://thecommunitycenter.org/event/sculpt-tone/2027-01-28/
LOCATION:Atrium
ATTACH;FMTTYPE=image/jpeg:https://thecommunitycenter.org/wp-content/uploads/2025/07/Squeeze_Dean.jpg
END:VEVENT
BEGIN:VEVENT
DTSTART;TZID=America/New_York:20270202T180000
DTEND;TZID=America/New_York:20270202T190000
DTSTAMP:20260425T140010
CREATED:20250729T181537Z
LAST-MODIFIED:20260401T173616Z
UID:10000765-1801591200-1801594800@thecommunitycenter.org
SUMMARY:Sculpt & Tone
DESCRIPTION:A strength training class that includes stretching\, abdominal work & muscle isolation for a full body workout. Instructor: Dean Roberts.\nCost: $8
URL:https://thecommunitycenter.org/event/sculpt-tone/2027-02-02/
LOCATION:Atrium
ATTACH;FMTTYPE=image/jpeg:https://thecommunitycenter.org/wp-content/uploads/2025/07/Squeeze_Dean.jpg
END:VEVENT
BEGIN:VEVENT
DTSTART;TZID=America/New_York:20270203T123000
DTEND;TZID=America/New_York:20270203T140000
DTSTAMP:20260425T140010
CREATED:20260123T160439Z
LAST-MODIFIED:20260123T160439Z
UID:10005181-1801657800-1801663200@thecommunitycenter.org
SUMMARY:Quilts that Care
DESCRIPTION:Quilts that Care is a dynamic group of volunteers that make and donate handmade quilts to cancer patients. These quilts are distributed by the social workers currently at 19 cancer treatment facilities in CT and growing. \nYou don’t have to be a quilter to join us. We need volunteers to iron\, cut and organize fabric. All materials are supplied to us. We have pre-made quilt kits available for those who cannot make the meetings but would like to participate. \nSubsequent meetings will be held on the 1st and 3rd Wednesdays of each month. \nFor more info\, please call Deb Van Steenberge at 860-782-1043 or email at quiltsthatcare.deb@gmail.com
URL:https://thecommunitycenter.org/event/quilts-that-care-2/2027-02-03/
LOCATION:Atrium
ATTACH;FMTTYPE=image/png:https://thecommunitycenter.org/wp-content/uploads/2025/09/Quilts-that-care.png
END:VEVENT
BEGIN:VEVENT
DTSTART;TZID=America/New_York:20270204T180000
DTEND;TZID=America/New_York:20270204T190000
DTSTAMP:20260425T140010
CREATED:20250729T181537Z
LAST-MODIFIED:20260401T173616Z
UID:10001153-1801764000-1801767600@thecommunitycenter.org
SUMMARY:Sculpt & Tone
DESCRIPTION:A strength training class that includes stretching\, abdominal work & muscle isolation for a full body workout. Instructor: Dean Roberts.\nCost: $8
URL:https://thecommunitycenter.org/event/sculpt-tone/2027-02-04/
LOCATION:Atrium
ATTACH;FMTTYPE=image/jpeg:https://thecommunitycenter.org/wp-content/uploads/2025/07/Squeeze_Dean.jpg
END:VEVENT
BEGIN:VEVENT
DTSTART;TZID=America/New_York:20270209T180000
DTEND;TZID=America/New_York:20270209T190000
DTSTAMP:20260425T140010
CREATED:20250729T181537Z
LAST-MODIFIED:20260401T173616Z
UID:10000766-1802196000-1802199600@thecommunitycenter.org
SUMMARY:Sculpt & Tone
DESCRIPTION:A strength training class that includes stretching\, abdominal work & muscle isolation for a full body workout. Instructor: Dean Roberts.\nCost: $8
URL:https://thecommunitycenter.org/event/sculpt-tone/2027-02-09/
LOCATION:Atrium
ATTACH;FMTTYPE=image/jpeg:https://thecommunitycenter.org/wp-content/uploads/2025/07/Squeeze_Dean.jpg
END:VEVENT
BEGIN:VEVENT
DTSTART;TZID=America/New_York:20270211T180000
DTEND;TZID=America/New_York:20270211T190000
DTSTAMP:20260425T140010
CREATED:20250729T181537Z
LAST-MODIFIED:20260401T173616Z
UID:10001154-1802368800-1802372400@thecommunitycenter.org
SUMMARY:Sculpt & Tone
DESCRIPTION:A strength training class that includes stretching\, abdominal work & muscle isolation for a full body workout. Instructor: Dean Roberts.\nCost: $8
URL:https://thecommunitycenter.org/event/sculpt-tone/2027-02-11/
LOCATION:Atrium
ATTACH;FMTTYPE=image/jpeg:https://thecommunitycenter.org/wp-content/uploads/2025/07/Squeeze_Dean.jpg
END:VEVENT
BEGIN:VEVENT
DTSTART;TZID=America/New_York:20270216T180000
DTEND;TZID=America/New_York:20270216T190000
DTSTAMP:20260425T140010
CREATED:20250729T181537Z
LAST-MODIFIED:20260401T173616Z
UID:10000767-1802800800-1802804400@thecommunitycenter.org
SUMMARY:Sculpt & Tone
DESCRIPTION:A strength training class that includes stretching\, abdominal work & muscle isolation for a full body workout. Instructor: Dean Roberts.\nCost: $8
URL:https://thecommunitycenter.org/event/sculpt-tone/2027-02-16/
LOCATION:Atrium
ATTACH;FMTTYPE=image/jpeg:https://thecommunitycenter.org/wp-content/uploads/2025/07/Squeeze_Dean.jpg
END:VEVENT
BEGIN:VEVENT
DTSTART;TZID=America/New_York:20270218T180000
DTEND;TZID=America/New_York:20270218T190000
DTSTAMP:20260425T140010
CREATED:20250729T181537Z
LAST-MODIFIED:20260401T173616Z
UID:10001155-1802973600-1802977200@thecommunitycenter.org
SUMMARY:Sculpt & Tone
DESCRIPTION:A strength training class that includes stretching\, abdominal work & muscle isolation for a full body workout. Instructor: Dean Roberts.\nCost: $8
URL:https://thecommunitycenter.org/event/sculpt-tone/2027-02-18/
LOCATION:Atrium
ATTACH;FMTTYPE=image/jpeg:https://thecommunitycenter.org/wp-content/uploads/2025/07/Squeeze_Dean.jpg
END:VEVENT
BEGIN:VEVENT
DTSTART;TZID=America/New_York:20270223T180000
DTEND;TZID=America/New_York:20270223T190000
DTSTAMP:20260425T140010
CREATED:20250729T181537Z
LAST-MODIFIED:20260401T173616Z
UID:10000768-1803405600-1803409200@thecommunitycenter.org
SUMMARY:Sculpt & Tone
DESCRIPTION:A strength training class that includes stretching\, abdominal work & muscle isolation for a full body workout. Instructor: Dean Roberts.\nCost: $8
URL:https://thecommunitycenter.org/event/sculpt-tone/2027-02-23/
LOCATION:Atrium
ATTACH;FMTTYPE=image/jpeg:https://thecommunitycenter.org/wp-content/uploads/2025/07/Squeeze_Dean.jpg
END:VEVENT
BEGIN:VEVENT
DTSTART;TZID=America/New_York:20270225T180000
DTEND;TZID=America/New_York:20270225T190000
DTSTAMP:20260425T140010
CREATED:20250729T181537Z
LAST-MODIFIED:20260401T173616Z
UID:10001156-1803578400-1803582000@thecommunitycenter.org
SUMMARY:Sculpt & Tone
DESCRIPTION:A strength training class that includes stretching\, abdominal work & muscle isolation for a full body workout. Instructor: Dean Roberts.\nCost: $8
URL:https://thecommunitycenter.org/event/sculpt-tone/2027-02-25/
LOCATION:Atrium
ATTACH;FMTTYPE=image/jpeg:https://thecommunitycenter.org/wp-content/uploads/2025/07/Squeeze_Dean.jpg
END:VEVENT
BEGIN:VEVENT
DTSTART;TZID=America/New_York:20270302T180000
DTEND;TZID=America/New_York:20270302T190000
DTSTAMP:20260425T140010
CREATED:20250729T181537Z
LAST-MODIFIED:20260401T173616Z
UID:10000769-1804010400-1804014000@thecommunitycenter.org
SUMMARY:Sculpt & Tone
DESCRIPTION:A strength training class that includes stretching\, abdominal work & muscle isolation for a full body workout. Instructor: Dean Roberts.\nCost: $8
URL:https://thecommunitycenter.org/event/sculpt-tone/2027-03-02/
LOCATION:Atrium
ATTACH;FMTTYPE=image/jpeg:https://thecommunitycenter.org/wp-content/uploads/2025/07/Squeeze_Dean.jpg
END:VEVENT
BEGIN:VEVENT
DTSTART;TZID=America/New_York:20270303T123000
DTEND;TZID=America/New_York:20270303T140000
DTSTAMP:20260425T140010
CREATED:20260123T160439Z
LAST-MODIFIED:20260123T160439Z
UID:10005182-1804077000-1804082400@thecommunitycenter.org
SUMMARY:Quilts that Care
DESCRIPTION:Quilts that Care is a dynamic group of volunteers that make and donate handmade quilts to cancer patients. These quilts are distributed by the social workers currently at 19 cancer treatment facilities in CT and growing. \nYou don’t have to be a quilter to join us. We need volunteers to iron\, cut and organize fabric. All materials are supplied to us. We have pre-made quilt kits available for those who cannot make the meetings but would like to participate. \nSubsequent meetings will be held on the 1st and 3rd Wednesdays of each month. \nFor more info\, please call Deb Van Steenberge at 860-782-1043 or email at quiltsthatcare.deb@gmail.com
URL:https://thecommunitycenter.org/event/quilts-that-care-2/2027-03-03/
LOCATION:Atrium
ATTACH;FMTTYPE=image/png:https://thecommunitycenter.org/wp-content/uploads/2025/09/Quilts-that-care.png
END:VEVENT
BEGIN:VEVENT
DTSTART;TZID=America/New_York:20270304T180000
DTEND;TZID=America/New_York:20270304T190000
DTSTAMP:20260425T140010
CREATED:20250729T181537Z
LAST-MODIFIED:20260401T173616Z
UID:10001157-1804183200-1804186800@thecommunitycenter.org
SUMMARY:Sculpt & Tone
DESCRIPTION:A strength training class that includes stretching\, abdominal work & muscle isolation for a full body workout. Instructor: Dean Roberts.\nCost: $8
URL:https://thecommunitycenter.org/event/sculpt-tone/2027-03-04/
LOCATION:Atrium
ATTACH;FMTTYPE=image/jpeg:https://thecommunitycenter.org/wp-content/uploads/2025/07/Squeeze_Dean.jpg
END:VEVENT
BEGIN:VEVENT
DTSTART;TZID=America/New_York:20270309T180000
DTEND;TZID=America/New_York:20270309T190000
DTSTAMP:20260425T140010
CREATED:20250729T181537Z
LAST-MODIFIED:20260401T173616Z
UID:10000770-1804615200-1804618800@thecommunitycenter.org
SUMMARY:Sculpt & Tone
DESCRIPTION:A strength training class that includes stretching\, abdominal work & muscle isolation for a full body workout. Instructor: Dean Roberts.\nCost: $8
URL:https://thecommunitycenter.org/event/sculpt-tone/2027-03-09/
LOCATION:Atrium
ATTACH;FMTTYPE=image/jpeg:https://thecommunitycenter.org/wp-content/uploads/2025/07/Squeeze_Dean.jpg
END:VEVENT
BEGIN:VEVENT
DTSTART;TZID=America/New_York:20270311T180000
DTEND;TZID=America/New_York:20270311T190000
DTSTAMP:20260425T140010
CREATED:20250729T181537Z
LAST-MODIFIED:20260401T173616Z
UID:10001158-1804788000-1804791600@thecommunitycenter.org
SUMMARY:Sculpt & Tone
DESCRIPTION:A strength training class that includes stretching\, abdominal work & muscle isolation for a full body workout. Instructor: Dean Roberts.\nCost: $8
URL:https://thecommunitycenter.org/event/sculpt-tone/2027-03-11/
LOCATION:Atrium
ATTACH;FMTTYPE=image/jpeg:https://thecommunitycenter.org/wp-content/uploads/2025/07/Squeeze_Dean.jpg
END:VEVENT
BEGIN:VEVENT
DTSTART;TZID=America/New_York:20270316T180000
DTEND;TZID=America/New_York:20270316T190000
DTSTAMP:20260425T140010
CREATED:20250729T181537Z
LAST-MODIFIED:20260401T173616Z
UID:10000771-1805220000-1805223600@thecommunitycenter.org
SUMMARY:Sculpt & Tone
DESCRIPTION:A strength training class that includes stretching\, abdominal work & muscle isolation for a full body workout. Instructor: Dean Roberts.\nCost: $8
URL:https://thecommunitycenter.org/event/sculpt-tone/2027-03-16/
LOCATION:Atrium
ATTACH;FMTTYPE=image/jpeg:https://thecommunitycenter.org/wp-content/uploads/2025/07/Squeeze_Dean.jpg
END:VEVENT
BEGIN:VEVENT
DTSTART;TZID=America/New_York:20270318T180000
DTEND;TZID=America/New_York:20270318T190000
DTSTAMP:20260425T140010
CREATED:20250729T181537Z
LAST-MODIFIED:20260401T173616Z
UID:10001159-1805392800-1805396400@thecommunitycenter.org
SUMMARY:Sculpt & Tone
DESCRIPTION:A strength training class that includes stretching\, abdominal work & muscle isolation for a full body workout. Instructor: Dean Roberts.\nCost: $8
URL:https://thecommunitycenter.org/event/sculpt-tone/2027-03-18/
LOCATION:Atrium
ATTACH;FMTTYPE=image/jpeg:https://thecommunitycenter.org/wp-content/uploads/2025/07/Squeeze_Dean.jpg
END:VEVENT
BEGIN:VEVENT
DTSTART;TZID=America/New_York:20270323T180000
DTEND;TZID=America/New_York:20270323T190000
DTSTAMP:20260425T140010
CREATED:20250729T181537Z
LAST-MODIFIED:20260401T173616Z
UID:10000772-1805824800-1805828400@thecommunitycenter.org
SUMMARY:Sculpt & Tone
DESCRIPTION:A strength training class that includes stretching\, abdominal work & muscle isolation for a full body workout. Instructor: Dean Roberts.\nCost: $8
URL:https://thecommunitycenter.org/event/sculpt-tone/2027-03-23/
LOCATION:Atrium
ATTACH;FMTTYPE=image/jpeg:https://thecommunitycenter.org/wp-content/uploads/2025/07/Squeeze_Dean.jpg
END:VEVENT
BEGIN:VEVENT
DTSTART;TZID=America/New_York:20270325T180000
DTEND;TZID=America/New_York:20270325T190000
DTSTAMP:20260425T140010
CREATED:20250729T181537Z
LAST-MODIFIED:20260401T173616Z
UID:10001160-1805997600-1806001200@thecommunitycenter.org
SUMMARY:Sculpt & Tone
DESCRIPTION:A strength training class that includes stretching\, abdominal work & muscle isolation for a full body workout. Instructor: Dean Roberts.\nCost: $8
URL:https://thecommunitycenter.org/event/sculpt-tone/2027-03-25/
LOCATION:Atrium
ATTACH;FMTTYPE=image/jpeg:https://thecommunitycenter.org/wp-content/uploads/2025/07/Squeeze_Dean.jpg
END:VEVENT
BEGIN:VEVENT
DTSTART;TZID=America/New_York:20270330T180000
DTEND;TZID=America/New_York:20270330T190000
DTSTAMP:20260425T140010
CREATED:20250729T181537Z
LAST-MODIFIED:20260401T173616Z
UID:10000773-1806429600-1806433200@thecommunitycenter.org
SUMMARY:Sculpt & Tone
DESCRIPTION:A strength training class that includes stretching\, abdominal work & muscle isolation for a full body workout. Instructor: Dean Roberts.\nCost: $8
URL:https://thecommunitycenter.org/event/sculpt-tone/2027-03-30/
LOCATION:Atrium
ATTACH;FMTTYPE=image/jpeg:https://thecommunitycenter.org/wp-content/uploads/2025/07/Squeeze_Dean.jpg
END:VEVENT
BEGIN:VEVENT
DTSTART;TZID=America/New_York:20270401T180000
DTEND;TZID=America/New_York:20270401T190000
DTSTAMP:20260425T140010
CREATED:20250729T181537Z
LAST-MODIFIED:20260401T173616Z
UID:10001161-1806602400-1806606000@thecommunitycenter.org
SUMMARY:Sculpt & Tone
DESCRIPTION:A strength training class that includes stretching\, abdominal work & muscle isolation for a full body workout. Instructor: Dean Roberts.\nCost: $8
URL:https://thecommunitycenter.org/event/sculpt-tone/2027-04-01/
LOCATION:Atrium
ATTACH;FMTTYPE=image/jpeg:https://thecommunitycenter.org/wp-content/uploads/2025/07/Squeeze_Dean.jpg
END:VEVENT
BEGIN:VEVENT
DTSTART;TZID=America/New_York:20270406T180000
DTEND;TZID=America/New_York:20270406T190000
DTSTAMP:20260425T140010
CREATED:20250729T181537Z
LAST-MODIFIED:20260401T173616Z
UID:10000774-1807034400-1807038000@thecommunitycenter.org
SUMMARY:Sculpt & Tone
DESCRIPTION:A strength training class that includes stretching\, abdominal work & muscle isolation for a full body workout. Instructor: Dean Roberts.\nCost: $8
URL:https://thecommunitycenter.org/event/sculpt-tone/2027-04-06/
LOCATION:Atrium
ATTACH;FMTTYPE=image/jpeg:https://thecommunitycenter.org/wp-content/uploads/2025/07/Squeeze_Dean.jpg
END:VEVENT
BEGIN:VEVENT
DTSTART;TZID=America/New_York:20270407T123000
DTEND;TZID=America/New_York:20270407T140000
DTSTAMP:20260425T140010
CREATED:20260123T160439Z
LAST-MODIFIED:20260123T160439Z
UID:10005183-1807101000-1807106400@thecommunitycenter.org
SUMMARY:Quilts that Care
DESCRIPTION:Quilts that Care is a dynamic group of volunteers that make and donate handmade quilts to cancer patients. These quilts are distributed by the social workers currently at 19 cancer treatment facilities in CT and growing. \nYou don’t have to be a quilter to join us. We need volunteers to iron\, cut and organize fabric. All materials are supplied to us. We have pre-made quilt kits available for those who cannot make the meetings but would like to participate. \nSubsequent meetings will be held on the 1st and 3rd Wednesdays of each month. \nFor more info\, please call Deb Van Steenberge at 860-782-1043 or email at quiltsthatcare.deb@gmail.com
URL:https://thecommunitycenter.org/event/quilts-that-care-2/2027-04-07/
LOCATION:Atrium
ATTACH;FMTTYPE=image/png:https://thecommunitycenter.org/wp-content/uploads/2025/09/Quilts-that-care.png
END:VEVENT
BEGIN:VEVENT
DTSTART;TZID=America/New_York:20270408T180000
DTEND;TZID=America/New_York:20270408T190000
DTSTAMP:20260425T140010
CREATED:20250729T181537Z
LAST-MODIFIED:20260401T173616Z
UID:10001162-1807207200-1807210800@thecommunitycenter.org
SUMMARY:Sculpt & Tone
DESCRIPTION:A strength training class that includes stretching\, abdominal work & muscle isolation for a full body workout. Instructor: Dean Roberts.\nCost: $8
URL:https://thecommunitycenter.org/event/sculpt-tone/2027-04-08/
LOCATION:Atrium
ATTACH;FMTTYPE=image/jpeg:https://thecommunitycenter.org/wp-content/uploads/2025/07/Squeeze_Dean.jpg
END:VEVENT
END:VCALENDAR