BEGIN:VCALENDAR
VERSION:2.0
PRODID:-//Litchfield Community Center - ECPv6.15.18//NONSGML v1.0//EN
CALSCALE:GREGORIAN
METHOD:PUBLISH
X-ORIGINAL-URL:https://thecommunitycenter.org
X-WR-CALDESC:Events for Litchfield Community Center
REFRESH-INTERVAL;VALUE=DURATION:PT1H
X-Robots-Tag:noindex
X-PUBLISHED-TTL:PT1H
BEGIN:VTIMEZONE
TZID:America/New_York
BEGIN:DAYLIGHT
TZOFFSETFROM:-0500
TZOFFSETTO:-0400
TZNAME:EDT
DTSTART:20250309T070000
END:DAYLIGHT
BEGIN:STANDARD
TZOFFSETFROM:-0400
TZOFFSETTO:-0500
TZNAME:EST
DTSTART:20251102T060000
END:STANDARD
BEGIN:DAYLIGHT
TZOFFSETFROM:-0500
TZOFFSETTO:-0400
TZNAME:EDT
DTSTART:20260308T070000
END:DAYLIGHT
BEGIN:STANDARD
TZOFFSETFROM:-0400
TZOFFSETTO:-0500
TZNAME:EST
DTSTART:20261101T060000
END:STANDARD
BEGIN:DAYLIGHT
TZOFFSETFROM:-0500
TZOFFSETTO:-0400
TZNAME:EDT
DTSTART:20270314T070000
END:DAYLIGHT
BEGIN:STANDARD
TZOFFSETFROM:-0400
TZOFFSETTO:-0500
TZNAME:EST
DTSTART:20271107T060000
END:STANDARD
END:VTIMEZONE
BEGIN:VEVENT
DTSTART;TZID=America/New_York:20260110T120000
DTEND;TZID=America/New_York:20260110T133000
DTSTAMP:20260420T020324
CREATED:20251217T223748Z
LAST-MODIFIED:20251217T223811Z
UID:10004514-1768046400-1768051800@thecommunitycenter.org
SUMMARY:Kids Yoga Program With Nick Switz (January 10th)
DESCRIPTION:Kids Yoga ProgramJoin us for a relaxing afternoon designed just for kids! This mindfulness and yoga program\, led by certified yoga instructor Nick Switz\, will help children in grades K–4 explore calmness through games and yoga-based activities. Participants will learn simple mindfulness and calming techniques to take home and use every day. \nDate: December 13thTime: 12:00 PM – 1:30 PMCost: $15 per child \nCLICK HERE TO REGISTER
URL:https://thecommunitycenter.org/event/kids-yoga-program-with-nick-switz-january-10th/
CATEGORIES:Youth
END:VEVENT
END:VCALENDAR