BEGIN:VCALENDAR
VERSION:2.0
PRODID:-//Litchfield Community Center - ECPv6.15.18//NONSGML v1.0//EN
CALSCALE:GREGORIAN
METHOD:PUBLISH
X-ORIGINAL-URL:https://thecommunitycenter.org
X-WR-CALDESC:Events for Litchfield Community Center
REFRESH-INTERVAL;VALUE=DURATION:PT1H
X-Robots-Tag:noindex
X-PUBLISHED-TTL:PT1H
BEGIN:VTIMEZONE
TZID:America/New_York
BEGIN:DAYLIGHT
TZOFFSETFROM:-0500
TZOFFSETTO:-0400
TZNAME:EDT
DTSTART:20240310T070000
END:DAYLIGHT
BEGIN:STANDARD
TZOFFSETFROM:-0400
TZOFFSETTO:-0500
TZNAME:EST
DTSTART:20241103T060000
END:STANDARD
BEGIN:DAYLIGHT
TZOFFSETFROM:-0500
TZOFFSETTO:-0400
TZNAME:EDT
DTSTART:20250309T070000
END:DAYLIGHT
BEGIN:STANDARD
TZOFFSETFROM:-0400
TZOFFSETTO:-0500
TZNAME:EST
DTSTART:20251102T060000
END:STANDARD
BEGIN:DAYLIGHT
TZOFFSETFROM:-0500
TZOFFSETTO:-0400
TZNAME:EDT
DTSTART:20260308T070000
END:DAYLIGHT
BEGIN:STANDARD
TZOFFSETFROM:-0400
TZOFFSETTO:-0500
TZNAME:EST
DTSTART:20261101T060000
END:STANDARD
END:VTIMEZONE
BEGIN:VEVENT
DTSTART;TZID=America/New_York:20251105T170000
DTEND;TZID=America/New_York:20251105T190000
DTSTAMP:20260423T150138
CREATED:20251030T201329Z
LAST-MODIFIED:20251030T201345Z
UID:10002505-1762362000-1762369200@thecommunitycenter.org
SUMMARY:Family Dinner November 5th
DESCRIPTION:November Family DinnerJoin us for a warm and welcoming evening at the Litchfield Community Center! Enjoy a delicious meal featuring \nturkey roll-ups\, mac and cheese\, apple pie\, and veggie wedgies. \nDate: Wednesday\, November 5\, 2025Time: 5:00 PM \nStay after dinner for a special performance by our very own Ukulele Club at 6:00 PM and help us celebrate our 25th anniversary with a time capsule burial! \nSponsored by Litchfield Health & Wellness Resources\, Inc. \nCLICK HERE TO REGISTER
URL:https://thecommunitycenter.org/event/family-dinner-november-5th/
LOCATION:Atrium
CATEGORIES:Family/All Ages,Free
ATTACH;FMTTYPE=image/jpeg:https://thecommunitycenter.org/wp-content/uploads/2025/10/November-Family-dinner-2025-Instagram-Post-5.jpg
END:VEVENT
END:VCALENDAR