BEGIN:VCALENDAR
VERSION:2.0
PRODID:-//Litchfield Community Center - ECPv6.15.18//NONSGML v1.0//EN
CALSCALE:GREGORIAN
METHOD:PUBLISH
X-WR-CALNAME:Litchfield Community Center
X-ORIGINAL-URL:https://thecommunitycenter.org
X-WR-CALDESC:Events for Litchfield Community Center
REFRESH-INTERVAL;VALUE=DURATION:PT1H
X-Robots-Tag:noindex
X-PUBLISHED-TTL:PT1H
BEGIN:VTIMEZONE
TZID:America/New_York
BEGIN:DAYLIGHT
TZOFFSETFROM:-0500
TZOFFSETTO:-0400
TZNAME:EDT
DTSTART:20250309T070000
END:DAYLIGHT
BEGIN:STANDARD
TZOFFSETFROM:-0400
TZOFFSETTO:-0500
TZNAME:EST
DTSTART:20251102T060000
END:STANDARD
BEGIN:DAYLIGHT
TZOFFSETFROM:-0500
TZOFFSETTO:-0400
TZNAME:EDT
DTSTART:20260308T070000
END:DAYLIGHT
BEGIN:STANDARD
TZOFFSETFROM:-0400
TZOFFSETTO:-0500
TZNAME:EST
DTSTART:20261101T060000
END:STANDARD
BEGIN:DAYLIGHT
TZOFFSETFROM:-0500
TZOFFSETTO:-0400
TZNAME:EDT
DTSTART:20270314T070000
END:DAYLIGHT
BEGIN:STANDARD
TZOFFSETFROM:-0400
TZOFFSETTO:-0500
TZNAME:EST
DTSTART:20271107T060000
END:STANDARD
END:VTIMEZONE
BEGIN:VEVENT
DTSTART;TZID=America/New_York:20260511T140000
DTEND;TZID=America/New_York:20260511T150000
DTSTAMP:20260421T174711
CREATED:20250818T193842Z
LAST-MODIFIED:20260127T153214Z
UID:10005501-1778508000-1778511600@thecommunitycenter.org
SUMMARY:Parkinson's Support Group
DESCRIPTION:Parkinson’s support group for those with Parkinson’s and their caregivers and family members- all are welcome. \nJoin us for this newly developed support group at Litchfield Community center\, in collaboration with the American Parkinson’s disease association\, and facilitated by Heather Pierce\, CDP and SA. \nParticipating in a support group is a wonderful way to receive practical information and education on living with Parkinson’s disease.\nMore importantly\, members receive the support of others who truly understand.\nBeginning Monday\, September 11th The group will meet monthly on the second Monday of the month from 2-3 pm at the Litchfield Community Center. \nFor more info or any questions about the group or Parkinson’s Disease please call Heather Pierce at 860-733-9506 \n 
URL:https://thecommunitycenter.org/event/parkinsons-support-group/2026-05-11/
LOCATION:Learning Center
CATEGORIES:Adults,Free
ATTACH;FMTTYPE=image/jpeg:https://thecommunitycenter.org/wp-content/uploads/2025/08/parkinsons.jpg
END:VEVENT
BEGIN:VEVENT
DTSTART;TZID=America/New_York:20260608T140000
DTEND;TZID=America/New_York:20260608T150000
DTSTAMP:20260421T174711
CREATED:20250818T193842Z
LAST-MODIFIED:20260127T153214Z
UID:10005502-1780927200-1780930800@thecommunitycenter.org
SUMMARY:Parkinson's Support Group
DESCRIPTION:Parkinson’s support group for those with Parkinson’s and their caregivers and family members- all are welcome. \nJoin us for this newly developed support group at Litchfield Community center\, in collaboration with the American Parkinson’s disease association\, and facilitated by Heather Pierce\, CDP and SA. \nParticipating in a support group is a wonderful way to receive practical information and education on living with Parkinson’s disease.\nMore importantly\, members receive the support of others who truly understand.\nBeginning Monday\, September 11th The group will meet monthly on the second Monday of the month from 2-3 pm at the Litchfield Community Center. \nFor more info or any questions about the group or Parkinson’s Disease please call Heather Pierce at 860-733-9506 \n 
URL:https://thecommunitycenter.org/event/parkinsons-support-group/2026-06-08/
LOCATION:Learning Center
CATEGORIES:Adults,Free
ATTACH;FMTTYPE=image/jpeg:https://thecommunitycenter.org/wp-content/uploads/2025/08/parkinsons.jpg
END:VEVENT
BEGIN:VEVENT
DTSTART;TZID=America/New_York:20260713T140000
DTEND;TZID=America/New_York:20260713T150000
DTSTAMP:20260421T174711
CREATED:20250818T193842Z
LAST-MODIFIED:20260127T153214Z
UID:10005503-1783951200-1783954800@thecommunitycenter.org
SUMMARY:Parkinson's Support Group
DESCRIPTION:Parkinson’s support group for those with Parkinson’s and their caregivers and family members- all are welcome. \nJoin us for this newly developed support group at Litchfield Community center\, in collaboration with the American Parkinson’s disease association\, and facilitated by Heather Pierce\, CDP and SA. \nParticipating in a support group is a wonderful way to receive practical information and education on living with Parkinson’s disease.\nMore importantly\, members receive the support of others who truly understand.\nBeginning Monday\, September 11th The group will meet monthly on the second Monday of the month from 2-3 pm at the Litchfield Community Center. \nFor more info or any questions about the group or Parkinson’s Disease please call Heather Pierce at 860-733-9506 \n 
URL:https://thecommunitycenter.org/event/parkinsons-support-group/2026-07-13/
LOCATION:Learning Center
CATEGORIES:Adults,Free
ATTACH;FMTTYPE=image/jpeg:https://thecommunitycenter.org/wp-content/uploads/2025/08/parkinsons.jpg
END:VEVENT
BEGIN:VEVENT
DTSTART;TZID=America/New_York:20260810T140000
DTEND;TZID=America/New_York:20260810T150000
DTSTAMP:20260421T174711
CREATED:20250818T193842Z
LAST-MODIFIED:20260127T153214Z
UID:10005504-1786370400-1786374000@thecommunitycenter.org
SUMMARY:Parkinson's Support Group
DESCRIPTION:Parkinson’s support group for those with Parkinson’s and their caregivers and family members- all are welcome. \nJoin us for this newly developed support group at Litchfield Community center\, in collaboration with the American Parkinson’s disease association\, and facilitated by Heather Pierce\, CDP and SA. \nParticipating in a support group is a wonderful way to receive practical information and education on living with Parkinson’s disease.\nMore importantly\, members receive the support of others who truly understand.\nBeginning Monday\, September 11th The group will meet monthly on the second Monday of the month from 2-3 pm at the Litchfield Community Center. \nFor more info or any questions about the group or Parkinson’s Disease please call Heather Pierce at 860-733-9506 \n 
URL:https://thecommunitycenter.org/event/parkinsons-support-group/2026-08-10/
LOCATION:Learning Center
CATEGORIES:Adults,Free
ATTACH;FMTTYPE=image/jpeg:https://thecommunitycenter.org/wp-content/uploads/2025/08/parkinsons.jpg
END:VEVENT
BEGIN:VEVENT
DTSTART;TZID=America/New_York:20260914T140000
DTEND;TZID=America/New_York:20260914T150000
DTSTAMP:20260421T174711
CREATED:20250818T193842Z
LAST-MODIFIED:20260127T153214Z
UID:10005505-1789394400-1789398000@thecommunitycenter.org
SUMMARY:Parkinson's Support Group
DESCRIPTION:Parkinson’s support group for those with Parkinson’s and their caregivers and family members- all are welcome. \nJoin us for this newly developed support group at Litchfield Community center\, in collaboration with the American Parkinson’s disease association\, and facilitated by Heather Pierce\, CDP and SA. \nParticipating in a support group is a wonderful way to receive practical information and education on living with Parkinson’s disease.\nMore importantly\, members receive the support of others who truly understand.\nBeginning Monday\, September 11th The group will meet monthly on the second Monday of the month from 2-3 pm at the Litchfield Community Center. \nFor more info or any questions about the group or Parkinson’s Disease please call Heather Pierce at 860-733-9506 \n 
URL:https://thecommunitycenter.org/event/parkinsons-support-group/2026-09-14/
LOCATION:Learning Center
CATEGORIES:Adults,Free
ATTACH;FMTTYPE=image/jpeg:https://thecommunitycenter.org/wp-content/uploads/2025/08/parkinsons.jpg
END:VEVENT
BEGIN:VEVENT
DTSTART;TZID=America/New_York:20261012T140000
DTEND;TZID=America/New_York:20261012T150000
DTSTAMP:20260421T174711
CREATED:20250818T193842Z
LAST-MODIFIED:20260127T153214Z
UID:10005506-1791813600-1791817200@thecommunitycenter.org
SUMMARY:Parkinson's Support Group
DESCRIPTION:Parkinson’s support group for those with Parkinson’s and their caregivers and family members- all are welcome. \nJoin us for this newly developed support group at Litchfield Community center\, in collaboration with the American Parkinson’s disease association\, and facilitated by Heather Pierce\, CDP and SA. \nParticipating in a support group is a wonderful way to receive practical information and education on living with Parkinson’s disease.\nMore importantly\, members receive the support of others who truly understand.\nBeginning Monday\, September 11th The group will meet monthly on the second Monday of the month from 2-3 pm at the Litchfield Community Center. \nFor more info or any questions about the group or Parkinson’s Disease please call Heather Pierce at 860-733-9506 \n 
URL:https://thecommunitycenter.org/event/parkinsons-support-group/2026-10-12/
LOCATION:Learning Center
CATEGORIES:Adults,Free
ATTACH;FMTTYPE=image/jpeg:https://thecommunitycenter.org/wp-content/uploads/2025/08/parkinsons.jpg
END:VEVENT
BEGIN:VEVENT
DTSTART;TZID=America/New_York:20261109T140000
DTEND;TZID=America/New_York:20261109T150000
DTSTAMP:20260421T174711
CREATED:20250818T193842Z
LAST-MODIFIED:20260127T153214Z
UID:10005507-1794232800-1794236400@thecommunitycenter.org
SUMMARY:Parkinson's Support Group
DESCRIPTION:Parkinson’s support group for those with Parkinson’s and their caregivers and family members- all are welcome. \nJoin us for this newly developed support group at Litchfield Community center\, in collaboration with the American Parkinson’s disease association\, and facilitated by Heather Pierce\, CDP and SA. \nParticipating in a support group is a wonderful way to receive practical information and education on living with Parkinson’s disease.\nMore importantly\, members receive the support of others who truly understand.\nBeginning Monday\, September 11th The group will meet monthly on the second Monday of the month from 2-3 pm at the Litchfield Community Center. \nFor more info or any questions about the group or Parkinson’s Disease please call Heather Pierce at 860-733-9506 \n 
URL:https://thecommunitycenter.org/event/parkinsons-support-group/2026-11-09/
LOCATION:Learning Center
CATEGORIES:Adults,Free
ATTACH;FMTTYPE=image/jpeg:https://thecommunitycenter.org/wp-content/uploads/2025/08/parkinsons.jpg
END:VEVENT
BEGIN:VEVENT
DTSTART;TZID=America/New_York:20261214T140000
DTEND;TZID=America/New_York:20261214T150000
DTSTAMP:20260421T174711
CREATED:20250818T193842Z
LAST-MODIFIED:20260127T153214Z
UID:10005508-1797256800-1797260400@thecommunitycenter.org
SUMMARY:Parkinson's Support Group
DESCRIPTION:Parkinson’s support group for those with Parkinson’s and their caregivers and family members- all are welcome. \nJoin us for this newly developed support group at Litchfield Community center\, in collaboration with the American Parkinson’s disease association\, and facilitated by Heather Pierce\, CDP and SA. \nParticipating in a support group is a wonderful way to receive practical information and education on living with Parkinson’s disease.\nMore importantly\, members receive the support of others who truly understand.\nBeginning Monday\, September 11th The group will meet monthly on the second Monday of the month from 2-3 pm at the Litchfield Community Center. \nFor more info or any questions about the group or Parkinson’s Disease please call Heather Pierce at 860-733-9506 \n 
URL:https://thecommunitycenter.org/event/parkinsons-support-group/2026-12-14/
LOCATION:Learning Center
CATEGORIES:Adults,Free
ATTACH;FMTTYPE=image/jpeg:https://thecommunitycenter.org/wp-content/uploads/2025/08/parkinsons.jpg
END:VEVENT
END:VCALENDAR