BEGIN:VCALENDAR
VERSION:2.0
PRODID:-//Litchfield Community Center - ECPv6.15.18//NONSGML v1.0//EN
CALSCALE:GREGORIAN
METHOD:PUBLISH
X-WR-CALNAME:Litchfield Community Center
X-ORIGINAL-URL:https://thecommunitycenter.org
X-WR-CALDESC:Events for Litchfield Community Center
REFRESH-INTERVAL;VALUE=DURATION:PT1H
X-Robots-Tag:noindex
X-PUBLISHED-TTL:PT1H
BEGIN:VTIMEZONE
TZID:America/New_York
BEGIN:DAYLIGHT
TZOFFSETFROM:-0500
TZOFFSETTO:-0400
TZNAME:EDT
DTSTART:20250309T070000
END:DAYLIGHT
BEGIN:STANDARD
TZOFFSETFROM:-0400
TZOFFSETTO:-0500
TZNAME:EST
DTSTART:20251102T060000
END:STANDARD
BEGIN:DAYLIGHT
TZOFFSETFROM:-0500
TZOFFSETTO:-0400
TZNAME:EDT
DTSTART:20260308T070000
END:DAYLIGHT
BEGIN:STANDARD
TZOFFSETFROM:-0400
TZOFFSETTO:-0500
TZNAME:EST
DTSTART:20261101T060000
END:STANDARD
BEGIN:DAYLIGHT
TZOFFSETFROM:-0500
TZOFFSETTO:-0400
TZNAME:EDT
DTSTART:20270314T070000
END:DAYLIGHT
BEGIN:STANDARD
TZOFFSETFROM:-0400
TZOFFSETTO:-0500
TZNAME:EST
DTSTART:20271107T060000
END:STANDARD
END:VTIMEZONE
BEGIN:VEVENT
DTSTART;TZID=America/New_York:20260428T123000
DTEND;TZID=America/New_York:20260428T140000
DTSTAMP:20260423T162044
CREATED:20250729T181830Z
LAST-MODIFIED:20251126T143041Z
UID:10003418-1777379400-1777384800@thecommunitycenter.org
SUMMARY:Bingo
DESCRIPTION:Weekly game of Bingo played Tuesdays at 12:30pm.\nCost: $6.00
URL:https://thecommunitycenter.org/event/bingo/2026-04-28/
LOCATION:Learning Center
ATTACH;FMTTYPE=image/jpeg:https://thecommunitycenter.org/wp-content/uploads/2025/07/Home_Bingo.jpg
END:VEVENT
BEGIN:VEVENT
DTSTART;TZID=America/New_York:20260505T123000
DTEND;TZID=America/New_York:20260505T140000
DTSTAMP:20260423T162044
CREATED:20250729T181830Z
LAST-MODIFIED:20251126T143041Z
UID:10003419-1777984200-1777989600@thecommunitycenter.org
SUMMARY:Bingo
DESCRIPTION:Weekly game of Bingo played Tuesdays at 12:30pm.\nCost: $6.00
URL:https://thecommunitycenter.org/event/bingo/2026-05-05/
LOCATION:Learning Center
ATTACH;FMTTYPE=image/jpeg:https://thecommunitycenter.org/wp-content/uploads/2025/07/Home_Bingo.jpg
END:VEVENT
BEGIN:VEVENT
DTSTART;TZID=America/New_York:20260512T123000
DTEND;TZID=America/New_York:20260512T140000
DTSTAMP:20260423T162044
CREATED:20250729T181830Z
LAST-MODIFIED:20251126T143041Z
UID:10003420-1778589000-1778594400@thecommunitycenter.org
SUMMARY:Bingo
DESCRIPTION:Weekly game of Bingo played Tuesdays at 12:30pm.\nCost: $6.00
URL:https://thecommunitycenter.org/event/bingo/2026-05-12/
LOCATION:Learning Center
ATTACH;FMTTYPE=image/jpeg:https://thecommunitycenter.org/wp-content/uploads/2025/07/Home_Bingo.jpg
END:VEVENT
BEGIN:VEVENT
DTSTART;TZID=America/New_York:20260519T123000
DTEND;TZID=America/New_York:20260519T140000
DTSTAMP:20260423T162044
CREATED:20250729T181830Z
LAST-MODIFIED:20251126T143041Z
UID:10003421-1779193800-1779199200@thecommunitycenter.org
SUMMARY:Bingo
DESCRIPTION:Weekly game of Bingo played Tuesdays at 12:30pm.\nCost: $6.00
URL:https://thecommunitycenter.org/event/bingo/2026-05-19/
LOCATION:Learning Center
ATTACH;FMTTYPE=image/jpeg:https://thecommunitycenter.org/wp-content/uploads/2025/07/Home_Bingo.jpg
END:VEVENT
BEGIN:VEVENT
DTSTART;TZID=America/New_York:20260526T123000
DTEND;TZID=America/New_York:20260526T140000
DTSTAMP:20260423T162044
CREATED:20250729T181830Z
LAST-MODIFIED:20251126T143041Z
UID:10003422-1779798600-1779804000@thecommunitycenter.org
SUMMARY:Bingo
DESCRIPTION:Weekly game of Bingo played Tuesdays at 12:30pm.\nCost: $6.00
URL:https://thecommunitycenter.org/event/bingo/2026-05-26/
LOCATION:Learning Center
ATTACH;FMTTYPE=image/jpeg:https://thecommunitycenter.org/wp-content/uploads/2025/07/Home_Bingo.jpg
END:VEVENT
BEGIN:VEVENT
DTSTART;TZID=America/New_York:20260602T123000
DTEND;TZID=America/New_York:20260602T140000
DTSTAMP:20260423T162044
CREATED:20250729T181830Z
LAST-MODIFIED:20251126T143041Z
UID:10003423-1780403400-1780408800@thecommunitycenter.org
SUMMARY:Bingo
DESCRIPTION:Weekly game of Bingo played Tuesdays at 12:30pm.\nCost: $6.00
URL:https://thecommunitycenter.org/event/bingo/2026-06-02/
LOCATION:Learning Center
ATTACH;FMTTYPE=image/jpeg:https://thecommunitycenter.org/wp-content/uploads/2025/07/Home_Bingo.jpg
END:VEVENT
BEGIN:VEVENT
DTSTART;TZID=America/New_York:20260609T123000
DTEND;TZID=America/New_York:20260609T140000
DTSTAMP:20260423T162044
CREATED:20250729T181830Z
LAST-MODIFIED:20251126T143041Z
UID:10003424-1781008200-1781013600@thecommunitycenter.org
SUMMARY:Bingo
DESCRIPTION:Weekly game of Bingo played Tuesdays at 12:30pm.\nCost: $6.00
URL:https://thecommunitycenter.org/event/bingo/2026-06-09/
LOCATION:Learning Center
ATTACH;FMTTYPE=image/jpeg:https://thecommunitycenter.org/wp-content/uploads/2025/07/Home_Bingo.jpg
END:VEVENT
BEGIN:VEVENT
DTSTART;TZID=America/New_York:20260616T123000
DTEND;TZID=America/New_York:20260616T140000
DTSTAMP:20260423T162044
CREATED:20250729T181830Z
LAST-MODIFIED:20251126T143041Z
UID:10003425-1781613000-1781618400@thecommunitycenter.org
SUMMARY:Bingo
DESCRIPTION:Weekly game of Bingo played Tuesdays at 12:30pm.\nCost: $6.00
URL:https://thecommunitycenter.org/event/bingo/2026-06-16/
LOCATION:Learning Center
ATTACH;FMTTYPE=image/jpeg:https://thecommunitycenter.org/wp-content/uploads/2025/07/Home_Bingo.jpg
END:VEVENT
BEGIN:VEVENT
DTSTART;TZID=America/New_York:20260623T123000
DTEND;TZID=America/New_York:20260623T140000
DTSTAMP:20260423T162044
CREATED:20250729T181830Z
LAST-MODIFIED:20251126T143041Z
UID:10003426-1782217800-1782223200@thecommunitycenter.org
SUMMARY:Bingo
DESCRIPTION:Weekly game of Bingo played Tuesdays at 12:30pm.\nCost: $6.00
URL:https://thecommunitycenter.org/event/bingo/2026-06-23/
LOCATION:Learning Center
ATTACH;FMTTYPE=image/jpeg:https://thecommunitycenter.org/wp-content/uploads/2025/07/Home_Bingo.jpg
END:VEVENT
BEGIN:VEVENT
DTSTART;TZID=America/New_York:20260630T123000
DTEND;TZID=America/New_York:20260630T140000
DTSTAMP:20260423T162044
CREATED:20250729T181830Z
LAST-MODIFIED:20251126T143041Z
UID:10003427-1782822600-1782828000@thecommunitycenter.org
SUMMARY:Bingo
DESCRIPTION:Weekly game of Bingo played Tuesdays at 12:30pm.\nCost: $6.00
URL:https://thecommunitycenter.org/event/bingo/2026-06-30/
LOCATION:Learning Center
ATTACH;FMTTYPE=image/jpeg:https://thecommunitycenter.org/wp-content/uploads/2025/07/Home_Bingo.jpg
END:VEVENT
BEGIN:VEVENT
DTSTART;TZID=America/New_York:20260707T123000
DTEND;TZID=America/New_York:20260707T140000
DTSTAMP:20260423T162044
CREATED:20250729T181830Z
LAST-MODIFIED:20251126T143041Z
UID:10003428-1783427400-1783432800@thecommunitycenter.org
SUMMARY:Bingo
DESCRIPTION:Weekly game of Bingo played Tuesdays at 12:30pm.\nCost: $6.00
URL:https://thecommunitycenter.org/event/bingo/2026-07-07/
LOCATION:Learning Center
ATTACH;FMTTYPE=image/jpeg:https://thecommunitycenter.org/wp-content/uploads/2025/07/Home_Bingo.jpg
END:VEVENT
BEGIN:VEVENT
DTSTART;TZID=America/New_York:20260714T123000
DTEND;TZID=America/New_York:20260714T140000
DTSTAMP:20260423T162044
CREATED:20250729T181830Z
LAST-MODIFIED:20251126T143041Z
UID:10003429-1784032200-1784037600@thecommunitycenter.org
SUMMARY:Bingo
DESCRIPTION:Weekly game of Bingo played Tuesdays at 12:30pm.\nCost: $6.00
URL:https://thecommunitycenter.org/event/bingo/2026-07-14/
LOCATION:Learning Center
ATTACH;FMTTYPE=image/jpeg:https://thecommunitycenter.org/wp-content/uploads/2025/07/Home_Bingo.jpg
END:VEVENT
BEGIN:VEVENT
DTSTART;TZID=America/New_York:20260721T123000
DTEND;TZID=America/New_York:20260721T140000
DTSTAMP:20260423T162044
CREATED:20250729T181830Z
LAST-MODIFIED:20251126T143041Z
UID:10003430-1784637000-1784642400@thecommunitycenter.org
SUMMARY:Bingo
DESCRIPTION:Weekly game of Bingo played Tuesdays at 12:30pm.\nCost: $6.00
URL:https://thecommunitycenter.org/event/bingo/2026-07-21/
LOCATION:Learning Center
ATTACH;FMTTYPE=image/jpeg:https://thecommunitycenter.org/wp-content/uploads/2025/07/Home_Bingo.jpg
END:VEVENT
BEGIN:VEVENT
DTSTART;TZID=America/New_York:20260728T123000
DTEND;TZID=America/New_York:20260728T140000
DTSTAMP:20260423T162044
CREATED:20250729T181830Z
LAST-MODIFIED:20251126T143041Z
UID:10003431-1785241800-1785247200@thecommunitycenter.org
SUMMARY:Bingo
DESCRIPTION:Weekly game of Bingo played Tuesdays at 12:30pm.\nCost: $6.00
URL:https://thecommunitycenter.org/event/bingo/2026-07-28/
LOCATION:Learning Center
ATTACH;FMTTYPE=image/jpeg:https://thecommunitycenter.org/wp-content/uploads/2025/07/Home_Bingo.jpg
END:VEVENT
BEGIN:VEVENT
DTSTART;TZID=America/New_York:20260804T123000
DTEND;TZID=America/New_York:20260804T140000
DTSTAMP:20260423T162044
CREATED:20250729T181830Z
LAST-MODIFIED:20251126T143041Z
UID:10003432-1785846600-1785852000@thecommunitycenter.org
SUMMARY:Bingo
DESCRIPTION:Weekly game of Bingo played Tuesdays at 12:30pm.\nCost: $6.00
URL:https://thecommunitycenter.org/event/bingo/2026-08-04/
LOCATION:Learning Center
ATTACH;FMTTYPE=image/jpeg:https://thecommunitycenter.org/wp-content/uploads/2025/07/Home_Bingo.jpg
END:VEVENT
BEGIN:VEVENT
DTSTART;TZID=America/New_York:20260811T123000
DTEND;TZID=America/New_York:20260811T140000
DTSTAMP:20260423T162044
CREATED:20250729T181830Z
LAST-MODIFIED:20251126T143041Z
UID:10003433-1786451400-1786456800@thecommunitycenter.org
SUMMARY:Bingo
DESCRIPTION:Weekly game of Bingo played Tuesdays at 12:30pm.\nCost: $6.00
URL:https://thecommunitycenter.org/event/bingo/2026-08-11/
LOCATION:Learning Center
ATTACH;FMTTYPE=image/jpeg:https://thecommunitycenter.org/wp-content/uploads/2025/07/Home_Bingo.jpg
END:VEVENT
BEGIN:VEVENT
DTSTART;TZID=America/New_York:20260818T123000
DTEND;TZID=America/New_York:20260818T140000
DTSTAMP:20260423T162044
CREATED:20250729T181830Z
LAST-MODIFIED:20251126T143041Z
UID:10003434-1787056200-1787061600@thecommunitycenter.org
SUMMARY:Bingo
DESCRIPTION:Weekly game of Bingo played Tuesdays at 12:30pm.\nCost: $6.00
URL:https://thecommunitycenter.org/event/bingo/2026-08-18/
LOCATION:Learning Center
ATTACH;FMTTYPE=image/jpeg:https://thecommunitycenter.org/wp-content/uploads/2025/07/Home_Bingo.jpg
END:VEVENT
BEGIN:VEVENT
DTSTART;TZID=America/New_York:20260825T123000
DTEND;TZID=America/New_York:20260825T140000
DTSTAMP:20260423T162044
CREATED:20250729T181830Z
LAST-MODIFIED:20251126T143041Z
UID:10003435-1787661000-1787666400@thecommunitycenter.org
SUMMARY:Bingo
DESCRIPTION:Weekly game of Bingo played Tuesdays at 12:30pm.\nCost: $6.00
URL:https://thecommunitycenter.org/event/bingo/2026-08-25/
LOCATION:Learning Center
ATTACH;FMTTYPE=image/jpeg:https://thecommunitycenter.org/wp-content/uploads/2025/07/Home_Bingo.jpg
END:VEVENT
BEGIN:VEVENT
DTSTART;TZID=America/New_York:20260901T123000
DTEND;TZID=America/New_York:20260901T140000
DTSTAMP:20260423T162044
CREATED:20250729T181830Z
LAST-MODIFIED:20251126T143041Z
UID:10003436-1788265800-1788271200@thecommunitycenter.org
SUMMARY:Bingo
DESCRIPTION:Weekly game of Bingo played Tuesdays at 12:30pm.\nCost: $6.00
URL:https://thecommunitycenter.org/event/bingo/2026-09-01/
LOCATION:Learning Center
ATTACH;FMTTYPE=image/jpeg:https://thecommunitycenter.org/wp-content/uploads/2025/07/Home_Bingo.jpg
END:VEVENT
BEGIN:VEVENT
DTSTART;TZID=America/New_York:20260908T123000
DTEND;TZID=America/New_York:20260908T140000
DTSTAMP:20260423T162044
CREATED:20250729T181830Z
LAST-MODIFIED:20251126T143041Z
UID:10003437-1788870600-1788876000@thecommunitycenter.org
SUMMARY:Bingo
DESCRIPTION:Weekly game of Bingo played Tuesdays at 12:30pm.\nCost: $6.00
URL:https://thecommunitycenter.org/event/bingo/2026-09-08/
LOCATION:Learning Center
ATTACH;FMTTYPE=image/jpeg:https://thecommunitycenter.org/wp-content/uploads/2025/07/Home_Bingo.jpg
END:VEVENT
BEGIN:VEVENT
DTSTART;TZID=America/New_York:20260915T123000
DTEND;TZID=America/New_York:20260915T140000
DTSTAMP:20260423T162044
CREATED:20250729T181830Z
LAST-MODIFIED:20251126T143041Z
UID:10003438-1789475400-1789480800@thecommunitycenter.org
SUMMARY:Bingo
DESCRIPTION:Weekly game of Bingo played Tuesdays at 12:30pm.\nCost: $6.00
URL:https://thecommunitycenter.org/event/bingo/2026-09-15/
LOCATION:Learning Center
ATTACH;FMTTYPE=image/jpeg:https://thecommunitycenter.org/wp-content/uploads/2025/07/Home_Bingo.jpg
END:VEVENT
BEGIN:VEVENT
DTSTART;TZID=America/New_York:20260922T123000
DTEND;TZID=America/New_York:20260922T140000
DTSTAMP:20260423T162044
CREATED:20250729T181830Z
LAST-MODIFIED:20251126T143041Z
UID:10003439-1790080200-1790085600@thecommunitycenter.org
SUMMARY:Bingo
DESCRIPTION:Weekly game of Bingo played Tuesdays at 12:30pm.\nCost: $6.00
URL:https://thecommunitycenter.org/event/bingo/2026-09-22/
LOCATION:Learning Center
ATTACH;FMTTYPE=image/jpeg:https://thecommunitycenter.org/wp-content/uploads/2025/07/Home_Bingo.jpg
END:VEVENT
BEGIN:VEVENT
DTSTART;TZID=America/New_York:20260929T123000
DTEND;TZID=America/New_York:20260929T140000
DTSTAMP:20260423T162044
CREATED:20250729T181830Z
LAST-MODIFIED:20251126T143041Z
UID:10003440-1790685000-1790690400@thecommunitycenter.org
SUMMARY:Bingo
DESCRIPTION:Weekly game of Bingo played Tuesdays at 12:30pm.\nCost: $6.00
URL:https://thecommunitycenter.org/event/bingo/2026-09-29/
LOCATION:Learning Center
ATTACH;FMTTYPE=image/jpeg:https://thecommunitycenter.org/wp-content/uploads/2025/07/Home_Bingo.jpg
END:VEVENT
BEGIN:VEVENT
DTSTART;TZID=America/New_York:20261006T123000
DTEND;TZID=America/New_York:20261006T140000
DTSTAMP:20260423T162044
CREATED:20250729T181830Z
LAST-MODIFIED:20251126T143041Z
UID:10003441-1791289800-1791295200@thecommunitycenter.org
SUMMARY:Bingo
DESCRIPTION:Weekly game of Bingo played Tuesdays at 12:30pm.\nCost: $6.00
URL:https://thecommunitycenter.org/event/bingo/2026-10-06/
LOCATION:Learning Center
ATTACH;FMTTYPE=image/jpeg:https://thecommunitycenter.org/wp-content/uploads/2025/07/Home_Bingo.jpg
END:VEVENT
BEGIN:VEVENT
DTSTART;TZID=America/New_York:20261013T123000
DTEND;TZID=America/New_York:20261013T140000
DTSTAMP:20260423T162044
CREATED:20250729T181830Z
LAST-MODIFIED:20251126T143041Z
UID:10003442-1791894600-1791900000@thecommunitycenter.org
SUMMARY:Bingo
DESCRIPTION:Weekly game of Bingo played Tuesdays at 12:30pm.\nCost: $6.00
URL:https://thecommunitycenter.org/event/bingo/2026-10-13/
LOCATION:Learning Center
ATTACH;FMTTYPE=image/jpeg:https://thecommunitycenter.org/wp-content/uploads/2025/07/Home_Bingo.jpg
END:VEVENT
BEGIN:VEVENT
DTSTART;TZID=America/New_York:20261020T123000
DTEND;TZID=America/New_York:20261020T140000
DTSTAMP:20260423T162044
CREATED:20250729T181830Z
LAST-MODIFIED:20251126T143041Z
UID:10003443-1792499400-1792504800@thecommunitycenter.org
SUMMARY:Bingo
DESCRIPTION:Weekly game of Bingo played Tuesdays at 12:30pm.\nCost: $6.00
URL:https://thecommunitycenter.org/event/bingo/2026-10-20/
LOCATION:Learning Center
ATTACH;FMTTYPE=image/jpeg:https://thecommunitycenter.org/wp-content/uploads/2025/07/Home_Bingo.jpg
END:VEVENT
BEGIN:VEVENT
DTSTART;TZID=America/New_York:20261027T123000
DTEND;TZID=America/New_York:20261027T140000
DTSTAMP:20260423T162044
CREATED:20250729T181830Z
LAST-MODIFIED:20251126T143041Z
UID:10003444-1793104200-1793109600@thecommunitycenter.org
SUMMARY:Bingo
DESCRIPTION:Weekly game of Bingo played Tuesdays at 12:30pm.\nCost: $6.00
URL:https://thecommunitycenter.org/event/bingo/2026-10-27/
LOCATION:Learning Center
ATTACH;FMTTYPE=image/jpeg:https://thecommunitycenter.org/wp-content/uploads/2025/07/Home_Bingo.jpg
END:VEVENT
BEGIN:VEVENT
DTSTART;TZID=America/New_York:20261103T123000
DTEND;TZID=America/New_York:20261103T140000
DTSTAMP:20260423T162044
CREATED:20250729T181830Z
LAST-MODIFIED:20251126T143041Z
UID:10003445-1793709000-1793714400@thecommunitycenter.org
SUMMARY:Bingo
DESCRIPTION:Weekly game of Bingo played Tuesdays at 12:30pm.\nCost: $6.00
URL:https://thecommunitycenter.org/event/bingo/2026-11-03/
LOCATION:Learning Center
ATTACH;FMTTYPE=image/jpeg:https://thecommunitycenter.org/wp-content/uploads/2025/07/Home_Bingo.jpg
END:VEVENT
BEGIN:VEVENT
DTSTART;TZID=America/New_York:20261110T123000
DTEND;TZID=America/New_York:20261110T140000
DTSTAMP:20260423T162044
CREATED:20250729T181830Z
LAST-MODIFIED:20251126T143041Z
UID:10003446-1794313800-1794319200@thecommunitycenter.org
SUMMARY:Bingo
DESCRIPTION:Weekly game of Bingo played Tuesdays at 12:30pm.\nCost: $6.00
URL:https://thecommunitycenter.org/event/bingo/2026-11-10/
LOCATION:Learning Center
ATTACH;FMTTYPE=image/jpeg:https://thecommunitycenter.org/wp-content/uploads/2025/07/Home_Bingo.jpg
END:VEVENT
BEGIN:VEVENT
DTSTART;TZID=America/New_York:20261117T123000
DTEND;TZID=America/New_York:20261117T140000
DTSTAMP:20260423T162044
CREATED:20250729T181830Z
LAST-MODIFIED:20251126T143041Z
UID:10003447-1794918600-1794924000@thecommunitycenter.org
SUMMARY:Bingo
DESCRIPTION:Weekly game of Bingo played Tuesdays at 12:30pm.\nCost: $6.00
URL:https://thecommunitycenter.org/event/bingo/2026-11-17/
LOCATION:Learning Center
ATTACH;FMTTYPE=image/jpeg:https://thecommunitycenter.org/wp-content/uploads/2025/07/Home_Bingo.jpg
END:VEVENT
END:VCALENDAR