BEGIN:VCALENDAR
VERSION:2.0
PRODID:-//Litchfield Community Center - ECPv6.15.18//NONSGML v1.0//EN
CALSCALE:GREGORIAN
METHOD:PUBLISH
X-WR-CALNAME:Litchfield Community Center
X-ORIGINAL-URL:https://thecommunitycenter.org
X-WR-CALDESC:Events for Litchfield Community Center
REFRESH-INTERVAL;VALUE=DURATION:PT1H
X-Robots-Tag:noindex
X-PUBLISHED-TTL:PT1H
BEGIN:VTIMEZONE
TZID:America/New_York
BEGIN:DAYLIGHT
TZOFFSETFROM:-0500
TZOFFSETTO:-0400
TZNAME:EDT
DTSTART:20250309T070000
END:DAYLIGHT
BEGIN:STANDARD
TZOFFSETFROM:-0400
TZOFFSETTO:-0500
TZNAME:EST
DTSTART:20251102T060000
END:STANDARD
BEGIN:DAYLIGHT
TZOFFSETFROM:-0500
TZOFFSETTO:-0400
TZNAME:EDT
DTSTART:20260308T070000
END:DAYLIGHT
BEGIN:STANDARD
TZOFFSETFROM:-0400
TZOFFSETTO:-0500
TZNAME:EST
DTSTART:20261101T060000
END:STANDARD
BEGIN:DAYLIGHT
TZOFFSETFROM:-0500
TZOFFSETTO:-0400
TZNAME:EDT
DTSTART:20270314T070000
END:DAYLIGHT
BEGIN:STANDARD
TZOFFSETFROM:-0400
TZOFFSETTO:-0500
TZNAME:EST
DTSTART:20271107T060000
END:STANDARD
END:VTIMEZONE
BEGIN:VEVENT
DTSTART;TZID=America/New_York:20260504T184500
DTEND;TZID=America/New_York:20260504T210000
DTSTAMP:20260421T174921
CREATED:20260206T193604Z
LAST-MODIFIED:20260206T193747Z
UID:10005578-1777920300-1777928400@thecommunitycenter.org
SUMMARY:Litchfield Audubon Society Meeting
DESCRIPTION:The meeting and program will be available via Zoom for those unable to attend the in-person meeting at the Litchfield Community Center. \n\n\n  \nNote: To participate on Zoom\, go to the Calendar section of our website\, lhasct.org\, to register. \nThe meeting times are when refreshments are available. A short business meeting begins at 7 p.m.\, followed by the presentation.
URL:https://thecommunitycenter.org/event/litchfield-audubon-society-meeting-6/
CATEGORIES:Adults,Free
ATTACH;FMTTYPE=image/jpeg:https://thecommunitycenter.org/wp-content/uploads/2025/08/Home_Audubon.jpg
END:VEVENT
BEGIN:VEVENT
DTSTART;TZID=America/New_York:20260706T184500
DTEND;TZID=America/New_York:20260706T210000
DTSTAMP:20260421T174921
CREATED:20260206T193959Z
LAST-MODIFIED:20260206T194230Z
UID:10005587-1783363500-1783371600@thecommunitycenter.org
SUMMARY:Litchfield Audubon Society Meeting
DESCRIPTION:The meeting and program will be available via Zoom for those unable to attend the in-person meeting at the Litchfield Community Center. \n\n\n  \nNote: To participate on Zoom\, go to the Calendar section of our website\, lhasct.org\, to register. \nThe meeting times are when refreshments are available. A short business meeting begins at 7 p.m.\, followed by the presentation.
URL:https://thecommunitycenter.org/event/litchfield-audubon-society-meeting-7/2026-07-06/
CATEGORIES:Adults,Free
ATTACH;FMTTYPE=image/jpeg:https://thecommunitycenter.org/wp-content/uploads/2025/08/Home_Audubon.jpg
END:VEVENT
BEGIN:VEVENT
DTSTART;TZID=America/New_York:20260914T184500
DTEND;TZID=America/New_York:20260914T210000
DTSTAMP:20260421T174921
CREATED:20260206T194328Z
LAST-MODIFIED:20260206T194328Z
UID:10005592-1789411500-1789419600@thecommunitycenter.org
SUMMARY:Litchfield Audubon Society Meeting
DESCRIPTION:The meeting and program will be available via Zoom for those unable to attend the in-person meeting at the Litchfield Community Center. \n\n\n  \nNote: To participate on Zoom\, go to the Calendar section of our website\, lhasct.org\, to register. \nThe meeting times are when refreshments are available. A short business meeting begins at 7 p.m.\, followed by the presentation.
URL:https://thecommunitycenter.org/event/litchfield-audubon-society-meeting-8/
CATEGORIES:Adults,Free
ATTACH;FMTTYPE=image/jpeg:https://thecommunitycenter.org/wp-content/uploads/2025/08/Home_Audubon.jpg
END:VEVENT
BEGIN:VEVENT
DTSTART;TZID=America/New_York:20261005T184500
DTEND;TZID=America/New_York:20261005T210000
DTSTAMP:20260421T174921
CREATED:20260206T193959Z
LAST-MODIFIED:20260206T194230Z
UID:10005589-1791225900-1791234000@thecommunitycenter.org
SUMMARY:Litchfield Audubon Society Meeting
DESCRIPTION:The meeting and program will be available via Zoom for those unable to attend the in-person meeting at the Litchfield Community Center. \n\n\n  \nNote: To participate on Zoom\, go to the Calendar section of our website\, lhasct.org\, to register. \nThe meeting times are when refreshments are available. A short business meeting begins at 7 p.m.\, followed by the presentation.
URL:https://thecommunitycenter.org/event/litchfield-audubon-society-meeting-7/2026-10-05/
CATEGORIES:Adults,Free
ATTACH;FMTTYPE=image/jpeg:https://thecommunitycenter.org/wp-content/uploads/2025/08/Home_Audubon.jpg
END:VEVENT
BEGIN:VEVENT
DTSTART;TZID=America/New_York:20261102T184500
DTEND;TZID=America/New_York:20261102T210000
DTSTAMP:20260421T174921
CREATED:20260206T193959Z
LAST-MODIFIED:20260206T194230Z
UID:10005590-1793645100-1793653200@thecommunitycenter.org
SUMMARY:Litchfield Audubon Society Meeting
DESCRIPTION:The meeting and program will be available via Zoom for those unable to attend the in-person meeting at the Litchfield Community Center. \n\n\n  \nNote: To participate on Zoom\, go to the Calendar section of our website\, lhasct.org\, to register. \nThe meeting times are when refreshments are available. A short business meeting begins at 7 p.m.\, followed by the presentation.
URL:https://thecommunitycenter.org/event/litchfield-audubon-society-meeting-7/2026-11-02/
CATEGORIES:Adults,Free
ATTACH;FMTTYPE=image/jpeg:https://thecommunitycenter.org/wp-content/uploads/2025/08/Home_Audubon.jpg
END:VEVENT
BEGIN:VEVENT
DTSTART;TZID=America/New_York:20261207T184500
DTEND;TZID=America/New_York:20261207T210000
DTSTAMP:20260421T174921
CREATED:20260206T193959Z
LAST-MODIFIED:20260206T194230Z
UID:10005591-1796669100-1796677200@thecommunitycenter.org
SUMMARY:Litchfield Audubon Society Meeting
DESCRIPTION:The meeting and program will be available via Zoom for those unable to attend the in-person meeting at the Litchfield Community Center. \n\n\n  \nNote: To participate on Zoom\, go to the Calendar section of our website\, lhasct.org\, to register. \nThe meeting times are when refreshments are available. A short business meeting begins at 7 p.m.\, followed by the presentation.
URL:https://thecommunitycenter.org/event/litchfield-audubon-society-meeting-7/2026-12-07/
CATEGORIES:Adults,Free
ATTACH;FMTTYPE=image/jpeg:https://thecommunitycenter.org/wp-content/uploads/2025/08/Home_Audubon.jpg
END:VEVENT
END:VCALENDAR