BEGIN:VCALENDAR
VERSION:2.0
PRODID:-//Litchfield Community Center - ECPv6.15.18//NONSGML v1.0//EN
CALSCALE:GREGORIAN
METHOD:PUBLISH
X-ORIGINAL-URL:https://thecommunitycenter.org
X-WR-CALDESC:Events for Litchfield Community Center
REFRESH-INTERVAL;VALUE=DURATION:PT1H
X-Robots-Tag:noindex
X-PUBLISHED-TTL:PT1H
BEGIN:VTIMEZONE
TZID:America/New_York
BEGIN:DAYLIGHT
TZOFFSETFROM:-0500
TZOFFSETTO:-0400
TZNAME:EDT
DTSTART:20250309T070000
END:DAYLIGHT
BEGIN:STANDARD
TZOFFSETFROM:-0400
TZOFFSETTO:-0500
TZNAME:EST
DTSTART:20251102T060000
END:STANDARD
BEGIN:DAYLIGHT
TZOFFSETFROM:-0500
TZOFFSETTO:-0400
TZNAME:EDT
DTSTART:20260308T070000
END:DAYLIGHT
BEGIN:STANDARD
TZOFFSETFROM:-0400
TZOFFSETTO:-0500
TZNAME:EST
DTSTART:20261101T060000
END:STANDARD
BEGIN:DAYLIGHT
TZOFFSETFROM:-0500
TZOFFSETTO:-0400
TZNAME:EDT
DTSTART:20270314T070000
END:DAYLIGHT
BEGIN:STANDARD
TZOFFSETFROM:-0400
TZOFFSETTO:-0500
TZNAME:EST
DTSTART:20271107T060000
END:STANDARD
END:VTIMEZONE
BEGIN:VEVENT
DTSTART;TZID=America/New_York:20260319T133000
DTEND;TZID=America/New_York:20260319T153000
DTSTAMP:20260421T060451
CREATED:20260106T170137Z
LAST-MODIFIED:20260107T174254Z
UID:10004923-1773927000-1773934200@thecommunitycenter.org
SUMMARY:SOLD OUT*** Creatures of the Deep: Sea Monster mask making with Tyler Green
DESCRIPTION:Dive into creativity with Creatures of the Deep: Sea Monster Mask Making\, a hands-on\, imaginative workshop perfect for a school half day! Kids in grades 2–5 will design and create their very own sea monster mask while learning special effects techniques from renowned SFX artist and Face Off contestant Tyler Green. \nParticipants will explore texture\, color\, and character design as they bring their underwater creatures to life. This interactive experience encourages creativity\, artistic confidence\, and fun—all while leaving kids with a one-of-a-kind mask to take home. \nSOLD OUT- \nDate: Wednesday\, March 19Time: 1:30–3:30 PMCost: $35 per childGrades: 2–5 \nSpace is limited—advance registration is required. Join us for an unforgettable afternoon of creativity and sea monster magic!
URL:https://thecommunitycenter.org/event/creatures-of-the-deep-sea-monster-mask-making-with-tyler-green/
LOCATION:Community Room
CATEGORIES:Youth
ATTACH;FMTTYPE=image/jpeg:https://thecommunitycenter.org/wp-content/uploads/2026/01/Creatures-of-the-Deep.jpg
END:VEVENT
END:VCALENDAR