BEGIN:VCALENDAR
VERSION:2.0
PRODID:-//Litchfield Community Center - ECPv6.15.18//NONSGML v1.0//EN
CALSCALE:GREGORIAN
METHOD:PUBLISH
X-WR-CALNAME:Litchfield Community Center
X-ORIGINAL-URL:https://thecommunitycenter.org
X-WR-CALDESC:Events for Litchfield Community Center
REFRESH-INTERVAL;VALUE=DURATION:PT1H
X-Robots-Tag:noindex
X-PUBLISHED-TTL:PT1H
BEGIN:VTIMEZONE
TZID:America/New_York
BEGIN:DAYLIGHT
TZOFFSETFROM:-0500
TZOFFSETTO:-0400
TZNAME:EDT
DTSTART:20240310T070000
END:DAYLIGHT
BEGIN:STANDARD
TZOFFSETFROM:-0400
TZOFFSETTO:-0500
TZNAME:EST
DTSTART:20241103T060000
END:STANDARD
BEGIN:DAYLIGHT
TZOFFSETFROM:-0500
TZOFFSETTO:-0400
TZNAME:EDT
DTSTART:20250309T070000
END:DAYLIGHT
BEGIN:STANDARD
TZOFFSETFROM:-0400
TZOFFSETTO:-0500
TZNAME:EST
DTSTART:20251102T060000
END:STANDARD
BEGIN:DAYLIGHT
TZOFFSETFROM:-0500
TZOFFSETTO:-0400
TZNAME:EDT
DTSTART:20260308T070000
END:DAYLIGHT
BEGIN:STANDARD
TZOFFSETFROM:-0400
TZOFFSETTO:-0500
TZNAME:EST
DTSTART:20261101T060000
END:STANDARD
END:VTIMEZONE
BEGIN:VEVENT
DTSTART;TZID=America/New_York:20251203T170000
DTEND;TZID=America/New_York:20251203T180000
DTSTAMP:20260424T223550
CREATED:20251125T152413Z
LAST-MODIFIED:20251125T153404Z
UID:10002996-1764781200-1764784800@thecommunitycenter.org
SUMMARY:Roots of Wonder Forest Program Information Session 5pm Session
DESCRIPTION:Roots of Wonder Forest Program\nCLICK HERE TO REGISTER \nA Nature-Based Pre-Kindergarten Enrichment ProgramHosted by the Litchfield Community Center \nRoots of Wonder invites children ages 3–5 to explore\, play\, and learn in an engaging\, nature-centered environment. This unique program is designed to foster curiosity\, creativity\, and a deep appreciation for the natural world through hands-on activities and outdoor exploration. \nProgram Schedule:📅 Mondays\, Wednesdays\, and Fridays🕛 12:00 – 3:00 PM📍 Litchfield Community Center \nOur mission is to nurture each child’s natural sense of wonder and empathy for the world around them\, encouraging discovery and connection within our community \nJoin us for an Information Session!Learn more about the program\, meet our team\, and ask questions.Wednesday\,  December 3rd 5:00pm Litchfield Community Center
URL:https://thecommunitycenter.org/event/roots-of-wonder-forest-school-information-session-5pm-session-2/
CATEGORIES:Youth
ATTACH;FMTTYPE=image/jpeg:https://thecommunitycenter.org/wp-content/uploads/2025/11/dec-3rd-info.jpg
END:VEVENT
END:VCALENDAR