BEGIN:VCALENDAR
VERSION:2.0
PRODID:-//Litchfield Community Center - ECPv6.15.18//NONSGML v1.0//EN
CALSCALE:GREGORIAN
METHOD:PUBLISH
X-ORIGINAL-URL:https://thecommunitycenter.org
X-WR-CALDESC:Events for Litchfield Community Center
REFRESH-INTERVAL;VALUE=DURATION:PT1H
X-Robots-Tag:noindex
X-PUBLISHED-TTL:PT1H
BEGIN:VTIMEZONE
TZID:America/New_York
BEGIN:DAYLIGHT
TZOFFSETFROM:-0500
TZOFFSETTO:-0400
TZNAME:EDT
DTSTART:20250309T070000
END:DAYLIGHT
BEGIN:STANDARD
TZOFFSETFROM:-0400
TZOFFSETTO:-0500
TZNAME:EST
DTSTART:20251102T060000
END:STANDARD
BEGIN:DAYLIGHT
TZOFFSETFROM:-0500
TZOFFSETTO:-0400
TZNAME:EDT
DTSTART:20260308T070000
END:DAYLIGHT
BEGIN:STANDARD
TZOFFSETFROM:-0400
TZOFFSETTO:-0500
TZNAME:EST
DTSTART:20261101T060000
END:STANDARD
BEGIN:DAYLIGHT
TZOFFSETFROM:-0500
TZOFFSETTO:-0400
TZNAME:EDT
DTSTART:20270314T070000
END:DAYLIGHT
BEGIN:STANDARD
TZOFFSETFROM:-0400
TZOFFSETTO:-0500
TZNAME:EST
DTSTART:20271107T060000
END:STANDARD
END:VTIMEZONE
BEGIN:VEVENT
DTSTART;TZID=America/New_York:20260514T093000
DTEND;TZID=America/New_York:20260514T160000
DTSTAMP:20260419T204230
CREATED:20260324T231025Z
LAST-MODIFIED:20260325T203123Z
UID:10005843-1778751000-1778774400@thecommunitycenter.org
SUMMARY:Icons on Ammo Boxes: Christian Art of Hope and Sorrow from the War in Ukraine
DESCRIPTION:Fairfield University is hosting  an exhibition of Ukrainian sacred art created from ammunition boxes recovered from the front lines of the Russia-Ukraine war.\n\nSince 2015\, shortly after the outbreak of war between Russia and Ukraine\, artists Sonia Atlantova and Oleksandr Klymenko have transformed fragments of ammunition boxes recovered from the front lines into sacred works of art. Drawing from the centuries-old tradition of Orthodox icon writing\, their internationally recognized Icons on Ammo Boxes project bears witness to the tragedy of war while offering prayer and hope for a just peace.\nThe Icons on Ammo Boxes project has been displayed all over the world\, including recently at the Scottish Parliament (2025)\, the Parliament of Finland (2025)\, and in Rome at St. Peter’s Cathedral (2025). Last year\, in the exhibition Wartime Beauty\, the project was on display at Fordham University’s Refuge Gallery through the university’s Orthodox Christian Studies Center. The project supports volunteer initiatives dedicated to helping soldiers and civilians who have suffered injury\, trauma\, and displacement due to the war.\n\n\nDepart Community Center 9:30 a.m.\nTour of exhibit 11 a.m.\nBuffet Lunch included – prepared by Fairfield University Food Service\nDepart Fairfield Downtown 2:30 p.m.\nTransportation on LCC’s Lift equipped Bus\nLimited to 16\n$35.00pp\n\nClick here to register
URL:https://thecommunitycenter.org/event/icons-on-ammo-boxes-christian-art-of-hope-and-sorrow-from-the-war-in-ukraine/
CATEGORIES:Trips
ATTACH;FMTTYPE=image/jpeg:https://thecommunitycenter.org/wp-content/uploads/2026/03/ICON-on-Ammo-BOx-May-2026-trip.jpg
END:VEVENT
BEGIN:VEVENT
DTSTART;TZID=America/New_York:20260606T090000
DTEND;TZID=America/New_York:20260606T163000
DTSTAMP:20260419T204230
CREATED:20260115T132803Z
LAST-MODIFIED:20260331T155545Z
UID:10005083-1780736400-1780763400@thecommunitycenter.org
SUMMARY:Kids Norwalk Aquarium Trip
DESCRIPTION:Join the Litchfield Community Center for a fun-filled Kids Norwalk Aquarium Trip on Saturday\, June 6th! Designed for students in grades 4–6\, this full-day adventure runs from 9:00 AM–4:30 PM and includes a guided visit to the Norwalk Aquarium. \nParticipants will explore marine life\, discover fascinating sea creatures\, and enjoy a day of hands-on learning alongside friends. The trip is led by LCC Program Coordinator Noah and supervised by LCC staff and volunteers to ensure a safe and engaging experience. \nCLICK HERE TO REGISTER \nCost: $40 per childLunch: Please bring a bagged lunch \nSpaces are limited—register early to secure your spot!
URL:https://thecommunitycenter.org/event/kids-norwalk-aquarium-trip/
LOCATION:Trip
CATEGORIES:Trips,Youth
ATTACH;FMTTYPE=image/jpeg:https://thecommunitycenter.org/wp-content/uploads/2026/01/Norwalk-Aquarium-Trip-2.jpg
END:VEVENT
END:VCALENDAR