BEGIN:VCALENDAR
VERSION:2.0
PRODID:-//Litchfield Community Center - ECPv6.15.18//NONSGML v1.0//EN
CALSCALE:GREGORIAN
METHOD:PUBLISH
X-WR-CALNAME:Litchfield Community Center
X-ORIGINAL-URL:https://thecommunitycenter.org
X-WR-CALDESC:Events for Litchfield Community Center
REFRESH-INTERVAL;VALUE=DURATION:PT1H
X-Robots-Tag:noindex
X-PUBLISHED-TTL:PT1H
BEGIN:VTIMEZONE
TZID:America/New_York
BEGIN:DAYLIGHT
TZOFFSETFROM:-0500
TZOFFSETTO:-0400
TZNAME:EDT
DTSTART:20250309T070000
END:DAYLIGHT
BEGIN:STANDARD
TZOFFSETFROM:-0400
TZOFFSETTO:-0500
TZNAME:EST
DTSTART:20251102T060000
END:STANDARD
BEGIN:DAYLIGHT
TZOFFSETFROM:-0500
TZOFFSETTO:-0400
TZNAME:EDT
DTSTART:20260308T070000
END:DAYLIGHT
BEGIN:STANDARD
TZOFFSETFROM:-0400
TZOFFSETTO:-0500
TZNAME:EST
DTSTART:20261101T060000
END:STANDARD
BEGIN:DAYLIGHT
TZOFFSETFROM:-0500
TZOFFSETTO:-0400
TZNAME:EDT
DTSTART:20270314T070000
END:DAYLIGHT
BEGIN:STANDARD
TZOFFSETFROM:-0400
TZOFFSETTO:-0500
TZNAME:EST
DTSTART:20271107T060000
END:STANDARD
END:VTIMEZONE
BEGIN:VEVENT
DTSTART;TZID=America/New_York:20260911T180000
DTEND;TZID=America/New_York:20260911T200000
DTSTAMP:20260419T192645
CREATED:20260202T214135Z
LAST-MODIFIED:20260202T214552Z
UID:10005543-1789149600-1789156800@thecommunitycenter.org
SUMMARY:Summer Sunset Concert Series - Dim Lights\, Thick Smoke
DESCRIPTION:2026 Summer Sunset Free Concert Series \nAll concerts are 6:00pm- 8:00pm \n  \nDim Lights\, Thick Smoke \nConnecticut based acoustic quartet whose style combines honky tonk\, blues\, folk & rock and roll & their song choices span many decades. \n  \nFood Truck: Rich’s Wings & Things \nBYOB & lawn chairs\, blanket \nRain (indoors) or Shine \nClick Here to Register
URL:https://thecommunitycenter.org/event/summer-sunset-concert-series-dim-lights/
CATEGORIES:Adults,Family/All Ages,Free,Music
ATTACH;FMTTYPE=image/jpeg:https://thecommunitycenter.org/wp-content/uploads/2026/02/Sept-2026-Concert.jpg
END:VEVENT
END:VCALENDAR