BEGIN:VCALENDAR
VERSION:2.0
PRODID:-//Litchfield Community Center - ECPv6.15.18//NONSGML v1.0//EN
CALSCALE:GREGORIAN
METHOD:PUBLISH
X-WR-CALNAME:Litchfield Community Center
X-ORIGINAL-URL:https://thecommunitycenter.org
X-WR-CALDESC:Events for Litchfield Community Center
REFRESH-INTERVAL;VALUE=DURATION:PT1H
X-Robots-Tag:noindex
X-PUBLISHED-TTL:PT1H
BEGIN:VTIMEZONE
TZID:America/New_York
BEGIN:DAYLIGHT
TZOFFSETFROM:-0500
TZOFFSETTO:-0400
TZNAME:EDT
DTSTART:20250309T070000
END:DAYLIGHT
BEGIN:STANDARD
TZOFFSETFROM:-0400
TZOFFSETTO:-0500
TZNAME:EST
DTSTART:20251102T060000
END:STANDARD
BEGIN:DAYLIGHT
TZOFFSETFROM:-0500
TZOFFSETTO:-0400
TZNAME:EDT
DTSTART:20260308T070000
END:DAYLIGHT
BEGIN:STANDARD
TZOFFSETFROM:-0400
TZOFFSETTO:-0500
TZNAME:EST
DTSTART:20261101T060000
END:STANDARD
BEGIN:DAYLIGHT
TZOFFSETFROM:-0500
TZOFFSETTO:-0400
TZNAME:EDT
DTSTART:20270314T070000
END:DAYLIGHT
BEGIN:STANDARD
TZOFFSETFROM:-0400
TZOFFSETTO:-0500
TZNAME:EST
DTSTART:20271107T060000
END:STANDARD
END:VTIMEZONE
BEGIN:VEVENT
DTSTART;TZID=America/New_York:20260430T180000
DTEND;TZID=America/New_York:20260430T210000
DTSTAMP:20260424T105214
CREATED:20260226T191904Z
LAST-MODIFIED:20260226T192145Z
UID:10005754-1777572000-1777582800@thecommunitycenter.org
SUMMARY:The Poets Among Us - An Evening of Poetry and Music
DESCRIPTION:“The Poets Among Us” \nAn Evening of Poetry and Music \n  \nThe Litchfield Arts Council is teaming up with the Litchfield Community Center to host an event celebrating National Poetry Month. \nThere will be a poetry showcase on Thursday\, April 30\, from 6 to 9 p.m. at the Litchfield Community Center at 421 Bantam Road\, Litchfield. \nThe event will feature four Connecticut poets:  Michael Chief Peterson\, poet laureate of New Britain; Nadia Sims\, poet laureate of Manchester; artist and poet Steven Parlato of Middlebury; and poet and photographer Jo-Ann Iannotti of Litchfield. Margaret Hunt of Litchfield will emcee the event. Music will be presented by Lakeview High student\, James Quigley\, from 6-6:45 PM. \nAn open mic for any attendee wishing to read a poem will follow the readings of the featured poets. \nThe event is free and open to the public of all ages. \n  \nClick Here to Register
URL:https://thecommunitycenter.org/event/the-poets-among-us-an-evening-of-poetry-and-music/
CATEGORIES:Family/All Ages,Free,Music
ATTACH;FMTTYPE=image/jpeg:https://thecommunitycenter.org/wp-content/uploads/2026/02/The-Poets-Among-Us-scaled.jpg
END:VEVENT
END:VCALENDAR