BEGIN:VCALENDAR
VERSION:2.0
PRODID:-//Litchfield Community Center - ECPv6.15.18//NONSGML v1.0//EN
CALSCALE:GREGORIAN
METHOD:PUBLISH
X-ORIGINAL-URL:https://thecommunitycenter.org
X-WR-CALDESC:Events for Litchfield Community Center
REFRESH-INTERVAL;VALUE=DURATION:PT1H
X-Robots-Tag:noindex
X-PUBLISHED-TTL:PT1H
BEGIN:VTIMEZONE
TZID:America/New_York
BEGIN:DAYLIGHT
TZOFFSETFROM:-0500
TZOFFSETTO:-0400
TZNAME:EDT
DTSTART:20240310T070000
END:DAYLIGHT
BEGIN:STANDARD
TZOFFSETFROM:-0400
TZOFFSETTO:-0500
TZNAME:EST
DTSTART:20241103T060000
END:STANDARD
BEGIN:DAYLIGHT
TZOFFSETFROM:-0500
TZOFFSETTO:-0400
TZNAME:EDT
DTSTART:20250309T070000
END:DAYLIGHT
BEGIN:STANDARD
TZOFFSETFROM:-0400
TZOFFSETTO:-0500
TZNAME:EST
DTSTART:20251102T060000
END:STANDARD
BEGIN:DAYLIGHT
TZOFFSETFROM:-0500
TZOFFSETTO:-0400
TZNAME:EDT
DTSTART:20260308T070000
END:DAYLIGHT
BEGIN:STANDARD
TZOFFSETFROM:-0400
TZOFFSETTO:-0500
TZNAME:EST
DTSTART:20261101T060000
END:STANDARD
BEGIN:DAYLIGHT
TZOFFSETFROM:-0500
TZOFFSETTO:-0400
TZNAME:EDT
DTSTART:20270314T070000
END:DAYLIGHT
BEGIN:STANDARD
TZOFFSETFROM:-0400
TZOFFSETTO:-0500
TZNAME:EST
DTSTART:20271107T060000
END:STANDARD
END:VTIMEZONE
BEGIN:VEVENT
DTSTART;TZID=America/New_York:20260112T130000
DTEND;TZID=America/New_York:20260112T150000
DTSTAMP:20260422T234714
CREATED:20260105T215015Z
LAST-MODIFIED:20260105T222918Z
UID:10003305-1768222800-1768230000@thecommunitycenter.org
SUMMARY:Movie Mondays ~ Train Dreams
DESCRIPTION:Train Dreams – PG-13 (102 min)\nBased on Denis Johnson’s beloved novella\, Train Dreams is the moving portrait of Robert Grainier\, a logger and railroad worker who leads a life of unexpected depth and beauty in the rapidly-changing America of the early 20th Century. \n  \n1:00PM \nLocation: Atrium \nCost: Donation of $2.00 welcome \nWalk-ins Welcome!
URL:https://thecommunitycenter.org/event/movie-mondays-5/
CATEGORIES:Free,Movies
ATTACH;FMTTYPE=image/jpeg:https://thecommunitycenter.org/wp-content/uploads/2025/11/Train-Dreams-1.jpeg
END:VEVENT
BEGIN:VEVENT
DTSTART;TZID=America/New_York:20260105T130000
DTEND;TZID=America/New_York:20260105T150000
DTSTAMP:20260422T234714
CREATED:20260105T223742Z
LAST-MODIFIED:20260105T223813Z
UID:10003304-1767618000-1767625200@thecommunitycenter.org
SUMMARY:Movie Mondays ~ Hacksaw Ridge
DESCRIPTION:Hacksaw Ridge – (139 min) – R\nAndrew Garfield stars as pacifistic WWII hero Desmond T. Doss\, who saved 75 men at the Battle of Okinawa without ever firing a weapon. \n1:00PM \nLocation: Atrium \nCost: Donation of $2.00 welcome \nWalk-ins Welcome!
URL:https://thecommunitycenter.org/event/movie-mondays-10/
CATEGORIES:Free,Movies
ATTACH;FMTTYPE=image/jpeg:https://thecommunitycenter.org/wp-content/uploads/2025/11/Hacksaw-Ridge.jpeg
END:VEVENT
BEGIN:VEVENT
DTSTART;TZID=America/New_York:20251222T130000
DTEND;TZID=America/New_York:20251222T150000
DTSTAMP:20260422T234714
CREATED:20251031T143620Z
LAST-MODIFIED:20251031T143620Z
UID:10002515-1766408400-1766415600@thecommunitycenter.org
SUMMARY:Movie Mondays ~ The Man Who Invented Christmas
DESCRIPTION:The Man Who Invented Christmas – PG (1 hour 44 min)\nIn 1840s London\, author Charles Dickens mixes real-life inspirations with his vivid imagination to create the unforgettable characters and timeless tale of “A Christmas Carol\,” forever changing the holiday season into the celebration we know today. \nStars: Dan Stevens\, Christopher Plummer\, Jonathan Pryce\, Miriam Margolyes \n$2.00 suggested donation
URL:https://thecommunitycenter.org/event/movie-mondays-the-man-who-invented-christmas/
LOCATION:Atrium
CATEGORIES:Movies
ATTACH;FMTTYPE=image/jpeg:https://thecommunitycenter.org/wp-content/uploads/2025/10/christmas.jpg
END:VEVENT
BEGIN:VEVENT
DTSTART;TZID=America/New_York:20251215T130000
DTEND;TZID=America/New_York:20251215T150000
DTSTAMP:20260422T234714
CREATED:20251031T143453Z
LAST-MODIFIED:20251209T215055Z
UID:10002514-1765803600-1765810800@thecommunitycenter.org
SUMMARY:Movie Mondays ~ Holiday Inn
DESCRIPTION:Holiday Inn – (1h 40m) \nAt an inn which is open only on holidays\, a crooner and a hoofer vie for the affections of a beautiful up-and-coming performer.\nStars:  Bing Crosby\, Fred Astaire \n$2.00 suggested donation
URL:https://thecommunitycenter.org/event/movie-mondays-about-my-father/
LOCATION:Atrium
CATEGORIES:Movies
ATTACH;FMTTYPE=image/jpeg:https://thecommunitycenter.org/wp-content/uploads/2025/10/Holiday-Inn.jpeg
END:VEVENT
BEGIN:VEVENT
DTSTART;TZID=America/New_York:20251208T130000
DTEND;TZID=America/New_York:20251208T150000
DTSTAMP:20260422T234714
CREATED:20251031T143322Z
LAST-MODIFIED:20251031T143322Z
UID:10002513-1765198800-1765206000@thecommunitycenter.org
SUMMARY:Movie Mondays ~ What Happens Later
DESCRIPTION:What Happens Later – R (1h 43m)\nWilla and Bill are ex-lovers that will see each other for the first time in years when they both find themselves snowed in\, in-transit\, at an airport overnight. \nStars: Meg Ryan\, David Duchovny
URL:https://thecommunitycenter.org/event/movie-mondays-what-happens-later/
LOCATION:Atrium
CATEGORIES:Movies
ATTACH;FMTTYPE=image/jpeg:https://thecommunitycenter.org/wp-content/uploads/2025/10/what-happens-later.jpg
END:VEVENT
BEGIN:VEVENT
DTSTART;TZID=America/New_York:20251201T130000
DTEND;TZID=America/New_York:20251201T150000
DTSTAMP:20260422T234714
CREATED:20251031T142918Z
LAST-MODIFIED:20251031T142918Z
UID:10002512-1764594000-1764601200@thecommunitycenter.org
SUMMARY:Movie Mondays ~ The Woman in Cabin 10
DESCRIPTION:The Woman in Cabin 10 – R (1h 32m)\nA travel writer stumbles upon a gruesome secret while traveling aboard a luxury cruise ship. \nStars: Keira Knightley\, Guy Pearce\, David Ajala
URL:https://thecommunitycenter.org/event/movie-mondays-the-woman-in-cabin-10/
LOCATION:Atrium
CATEGORIES:Movies
ATTACH;FMTTYPE=image/jpeg:https://thecommunitycenter.org/wp-content/uploads/2025/10/Cabin-10.jpg
END:VEVENT
BEGIN:VEVENT
DTSTART;TZID=America/New_York:20251124T130000
DTEND;TZID=America/New_York:20251124T150000
DTSTAMP:20260422T234714
CREATED:20251031T142424Z
LAST-MODIFIED:20251031T142424Z
UID:10002511-1763989200-1763996400@thecommunitycenter.org
SUMMARY:Movie Mondays ~ You're Cordially Invited
DESCRIPTION:You’re Cordially Invited – R (1 h 51 min)\nWhen two weddings are accidentally booked on the same day at the same venue\, each bridal party is challenged with preserving their family’s special moment. In a hilarious battle of determination\, the father of the bride and sister of the other bride chaotically go head-to-head as they stop at nothing to uphold an unforgettable celebration for their loved ones.\nStars: Will Ferrell\, Reese Witherspoon \n$2.00 suggested donation
URL:https://thecommunitycenter.org/event/movie-mondays-youre-cordially-invited/
LOCATION:Atrium
CATEGORIES:Movies
ATTACH;FMTTYPE=image/jpeg:https://thecommunitycenter.org/wp-content/uploads/2025/10/Youre-cordially-invited.jpg
END:VEVENT
BEGIN:VEVENT
DTSTART;TZID=America/New_York:20251117T130000
DTEND;TZID=America/New_York:20251117T150000
DTSTAMP:20260422T234714
CREATED:20251030T200202Z
LAST-MODIFIED:20251030T200202Z
UID:10002499-1763384400-1763391600@thecommunitycenter.org
SUMMARY:Movie Mondays ~ Moving On
DESCRIPTION:Moving On – R (1h 25m)\nTwo old friends reconnect at a funeral and decide to get revenge on the widower who messed with them decades before.\nStars: Jane Fonda\, Lily Tomlin\, Malcolm McDowell \n$2.00 suggested donation
URL:https://thecommunitycenter.org/event/movie-mondays-moving-on/
LOCATION:Atrium
CATEGORIES:Adults,Free,Movies
ATTACH;FMTTYPE=image/jpeg:https://thecommunitycenter.org/wp-content/uploads/2025/10/Moving-on.jpg
END:VEVENT
END:VCALENDAR