BEGIN:VCALENDAR
VERSION:2.0
PRODID:-//Litchfield Community Center - ECPv6.15.18//NONSGML v1.0//EN
CALSCALE:GREGORIAN
METHOD:PUBLISH
X-ORIGINAL-URL:https://thecommunitycenter.org
X-WR-CALDESC:Events for Litchfield Community Center
REFRESH-INTERVAL;VALUE=DURATION:PT1H
X-Robots-Tag:noindex
X-PUBLISHED-TTL:PT1H
BEGIN:VTIMEZONE
TZID:America/New_York
BEGIN:DAYLIGHT
TZOFFSETFROM:-0500
TZOFFSETTO:-0400
TZNAME:EDT
DTSTART:20250309T070000
END:DAYLIGHT
BEGIN:STANDARD
TZOFFSETFROM:-0400
TZOFFSETTO:-0500
TZNAME:EST
DTSTART:20251102T060000
END:STANDARD
BEGIN:DAYLIGHT
TZOFFSETFROM:-0500
TZOFFSETTO:-0400
TZNAME:EDT
DTSTART:20260308T070000
END:DAYLIGHT
BEGIN:STANDARD
TZOFFSETFROM:-0400
TZOFFSETTO:-0500
TZNAME:EST
DTSTART:20261101T060000
END:STANDARD
BEGIN:DAYLIGHT
TZOFFSETFROM:-0500
TZOFFSETTO:-0400
TZNAME:EDT
DTSTART:20270314T070000
END:DAYLIGHT
BEGIN:STANDARD
TZOFFSETFROM:-0400
TZOFFSETTO:-0500
TZNAME:EST
DTSTART:20271107T060000
END:STANDARD
END:VTIMEZONE
BEGIN:VEVENT
DTSTART;TZID=America/New_York:20260521T143000
DTEND;TZID=America/New_York:20260521T170000
DTSTAMP:20260423T025038
CREATED:20260421T152855Z
LAST-MODIFIED:20260421T152855Z
UID:10005888-1779373800-1779382800@thecommunitycenter.org
SUMMARY:"Freedom of Choice in Both Life and Death"
DESCRIPTION:Special Presentation\n“Freedom of Choice in Both Life and Death”\nFocus on the differences and benefits between Hospice and Palliative Care\nPresentation will be begin with the showing of the acclaimed documentary “Come See Me in the Good Light” followed by a discussion with the audience facilitated by\nJean Osuch\, RN\, BSN\, CHPN\nHospice Liaison & Educator with Visiting Nurse & Hospice of Litchfield County\n\n“Come See Me in the Good Light” is a poignant and unexpectedly funny love story about poets Andrea Gibson and Megan Falley facing an incurable cancer diagnosis with joy\, wit and an unshakable partnership. Through laughter and unwavering love\, they transform pain into purpose\, and mortality into a moving celebration of resilience.\nClick here to register\n\nDonations welcome
URL:https://thecommunitycenter.org/event/freedom-of-choice-in-both-life-and-death/
CATEGORIES:Adults,Free,movie,Movies
ATTACH;FMTTYPE=image/jpeg:https://thecommunitycenter.org/wp-content/uploads/2026/04/Come-see-me-in-the-good-light-1.jpeg
END:VEVENT
END:VCALENDAR