BEGIN:VCALENDAR
VERSION:2.0
PRODID:-//Litchfield Community Center - ECPv6.15.18//NONSGML v1.0//EN
CALSCALE:GREGORIAN
METHOD:PUBLISH
X-ORIGINAL-URL:https://thecommunitycenter.org
X-WR-CALDESC:Events for Litchfield Community Center
REFRESH-INTERVAL;VALUE=DURATION:PT1H
X-Robots-Tag:noindex
X-PUBLISHED-TTL:PT1H
BEGIN:VTIMEZONE
TZID:America/New_York
BEGIN:DAYLIGHT
TZOFFSETFROM:-0500
TZOFFSETTO:-0400
TZNAME:EDT
DTSTART:20250309T070000
END:DAYLIGHT
BEGIN:STANDARD
TZOFFSETFROM:-0400
TZOFFSETTO:-0500
TZNAME:EST
DTSTART:20251102T060000
END:STANDARD
BEGIN:DAYLIGHT
TZOFFSETFROM:-0500
TZOFFSETTO:-0400
TZNAME:EDT
DTSTART:20260308T070000
END:DAYLIGHT
BEGIN:STANDARD
TZOFFSETFROM:-0400
TZOFFSETTO:-0500
TZNAME:EST
DTSTART:20261101T060000
END:STANDARD
BEGIN:DAYLIGHT
TZOFFSETFROM:-0500
TZOFFSETTO:-0400
TZNAME:EDT
DTSTART:20270314T070000
END:DAYLIGHT
BEGIN:STANDARD
TZOFFSETFROM:-0400
TZOFFSETTO:-0500
TZNAME:EST
DTSTART:20271107T060000
END:STANDARD
END:VTIMEZONE
BEGIN:VEVENT
DTSTART;TZID=America/New_York:20260507T090000
DTEND;TZID=America/New_York:20260507T110000
DTSTAMP:20260421T210346
CREATED:20260319T150101Z
LAST-MODIFIED:20260319T150136Z
UID:10005812-1778144400-1778151600@thecommunitycenter.org
SUMMARY:Tech Help May 7th
DESCRIPTION:Technology made easy! \nCLICK HERE TO REGISTER \nAre you having trouble with your computer\, smart phone\, Firestick\, or other technology??? Well look no further! FREE help with JC Tieman is available at the LCC. Help is available for all ages\, and tech abilities. \nThursdays from 9-11am\, call to sign up for a one hour time slot for one on one help with an experienced IT professional. \nFree help is available for but not limited to:\n*Tutorials\n*Programming and app installation\n*General Maintenance\n*Minor Repairs\n*Software Upgrades\n*Digital Photography\n*Email\n*Minor Repairs\n*Amazon Firesticks \nCost: FREE – CALL TO RESERVE*\nCALL FOR RESERVATION: 860 567 8302 \n  \nAppointments: 9:00am  & 10:00am
URL:https://thecommunitycenter.org/event/tech-help-may-7th/
LOCATION:Learning Center
CATEGORIES:Free
END:VEVENT
BEGIN:VEVENT
DTSTART;TZID=America/New_York:20260507T111500
DTEND;TZID=America/New_York:20260507T143000
DTSTAMP:20260421T210346
CREATED:20251210T174544Z
LAST-MODIFIED:20260409T193316Z
UID:10004847-1778152500-1778164200@thecommunitycenter.org
SUMMARY:Table Tennis
DESCRIPTION:Table Tennis is played weekly on Thursdays. Drop in. New or experienced players welcome! Paddles available. \nCost: Free
URL:https://thecommunitycenter.org/event/table-tennis-3/2026-05-07/
LOCATION:Rec Area
CATEGORIES:Exercise,Family/All Ages,Free
ATTACH;FMTTYPE=image/jpeg:https://thecommunitycenter.org/wp-content/uploads/2025/12/Table-Tennis.jpg
END:VEVENT
BEGIN:VEVENT
DTSTART;TZID=America/New_York:20260507T123000
DTEND;TZID=America/New_York:20260507T150000
DTSTAMP:20260421T210346
CREATED:20260123T162433Z
LAST-MODIFIED:20260123T162433Z
UID:10005366-1778157000-1778166000@thecommunitycenter.org
SUMMARY:Mah Jongg *Date and Time Change*
DESCRIPTION:Spend the afternoon with fellow players and brush up on your skills playing the ancient\, fascinating and challenging game of Mah Jongg. \n**FREE**
URL:https://thecommunitycenter.org/event/mah-jongg-date-and-time-change/2026-05-07/
LOCATION:Community Room
CATEGORIES:Free
ATTACH;FMTTYPE=image/jpeg:https://thecommunitycenter.org/wp-content/uploads/2025/07/mah-jongg.jpeg
END:VEVENT
BEGIN:VEVENT
DTSTART;TZID=America/New_York:20260507T160000
DTEND;TZID=America/New_York:20260507T180000
DTSTAMP:20260421T210346
CREATED:20260306T153842Z
LAST-MODIFIED:20260306T154618Z
UID:10005776-1778169600-1778176800@thecommunitycenter.org
SUMMARY:Skill Seekers After School Program (G 1-3) April-May
DESCRIPTION:Skill Seekers: Afterschool Enrichment Program \nCLICK HERE TO REGISTERA free afterschool program focused on fun\, friendship\, and personal growth! Each week features engaging games\, team-building activities\, and community enrichment projects. Students will develop important life skills while enjoying nutritious snacks in a supportive environment. \n1st–3rd Grade: Thursdays\, 4:00–6:00 PMDates: April 23rd- May 28th \nSchool pickup available.
URL:https://thecommunitycenter.org/event/skill-seekers-after-school-program-g-1-3-april-may/2026-05-07/
CATEGORIES:Free,Youth
ATTACH;FMTTYPE=image/jpeg:https://thecommunitycenter.org/wp-content/uploads/2026/03/Copy-of-LCC-Skill-Seekers-Feb-March-2026.jpg
END:VEVENT
END:VCALENDAR