BEGIN:VCALENDAR
VERSION:2.0
PRODID:-//Litchfield Community Center - ECPv6.15.18//NONSGML v1.0//EN
CALSCALE:GREGORIAN
METHOD:PUBLISH
X-ORIGINAL-URL:https://thecommunitycenter.org
X-WR-CALDESC:Events for Litchfield Community Center
REFRESH-INTERVAL;VALUE=DURATION:PT1H
X-Robots-Tag:noindex
X-PUBLISHED-TTL:PT1H
BEGIN:VTIMEZONE
TZID:America/New_York
BEGIN:DAYLIGHT
TZOFFSETFROM:-0500
TZOFFSETTO:-0400
TZNAME:EDT
DTSTART:20250309T070000
END:DAYLIGHT
BEGIN:STANDARD
TZOFFSETFROM:-0400
TZOFFSETTO:-0500
TZNAME:EST
DTSTART:20251102T060000
END:STANDARD
BEGIN:DAYLIGHT
TZOFFSETFROM:-0500
TZOFFSETTO:-0400
TZNAME:EDT
DTSTART:20260308T070000
END:DAYLIGHT
BEGIN:STANDARD
TZOFFSETFROM:-0400
TZOFFSETTO:-0500
TZNAME:EST
DTSTART:20261101T060000
END:STANDARD
BEGIN:DAYLIGHT
TZOFFSETFROM:-0500
TZOFFSETTO:-0400
TZNAME:EDT
DTSTART:20270314T070000
END:DAYLIGHT
BEGIN:STANDARD
TZOFFSETFROM:-0400
TZOFFSETTO:-0500
TZNAME:EST
DTSTART:20271107T060000
END:STANDARD
END:VTIMEZONE
BEGIN:VEVENT
DTSTART;TZID=America/New_York:20260407T093000
DTEND;TZID=America/New_York:20260407T120000
DTSTAMP:20260425T162506
CREATED:20250729T181151Z
LAST-MODIFIED:20251126T142151Z
UID:10003364-1775554200-1775563200@thecommunitycenter.org
SUMMARY:Community Artists' Group
DESCRIPTION:Cost: FREE*\nOpen to EVERYONE \nAll ages and skill levels are invited each Tuesday morning to craft\, create and share! \nBring your latest project to work on or start a new and share in a leisurely and social environment. \n*Instruction is available upon request for beginners* \nAlready know the basics? Pop in and join the artists in a free space and welcoming environment to practice and share your skills while working on a new project! \nAll you need to bring is an open mind and your materials!
URL:https://thecommunitycenter.org/event/community-artists-group/2026-04-07/
LOCATION:Learning Center
CATEGORIES:Family/All Ages,Free
ATTACH;FMTTYPE=image/jpeg:https://thecommunitycenter.org/wp-content/uploads/2025/07/Palette.jpg
END:VEVENT
BEGIN:VEVENT
DTSTART;TZID=America/New_York:20260407T100000
DTEND;TZID=America/New_York:20260407T120000
DTSTAMP:20260425T162506
CREATED:20260127T202422Z
LAST-MODIFIED:20260127T202550Z
UID:10005526-1775556000-1775563200@thecommunitycenter.org
SUMMARY:Powerful Tools for Caregivers: April
DESCRIPTION:“Powerful Tools for Caregivers” – A Free Six-Week Class runs Tuesdays\, April 7 – May 12\, 2026 \nSponsored by The Litchfield Health & Wellness Resources\, Inc. \nCo-facilitators: \nSusan Levine\, RN\, retired\nTina Bernacki RN\, retired \n*Registration is required ~ Class size limited to 10* \nThis nationally accredited program is designed to give caregivers the tools needed to take care of themselves while they care for someone with a chronic and/or debilitating condition. The classes help caregivers develop self-care strategies to reduce stress\, improve self-confidence\, better communicate feelings\, balance their lives\, and increase their abilities to make tough decisions. \n* PRE-REGISTRATION IS REQUIRED: Click Here to Register \nFor more information about Litchfield Health & Wellness Resources\, Inc.\, please go to their website: litchfieldhwr.org
URL:https://thecommunitycenter.org/event/6349/2026-04-07/
CATEGORIES:Adults,Free
ATTACH;FMTTYPE=image/jpeg:https://thecommunitycenter.org/wp-content/uploads/2026/01/Powerful-Tools-website.jpg
END:VEVENT
BEGIN:VEVENT
DTSTART;TZID=America/New_York:20260407T103000
DTEND;TZID=America/New_York:20260407T233000
DTSTAMP:20260425T162506
CREATED:20260319T143355Z
LAST-MODIFIED:20260331T154858Z
UID:10005811-1775557800-1775604600@thecommunitycenter.org
SUMMARY:Coffee & Conversation: Adult Advisory Council April 7th
DESCRIPTION:We’re forming an Adult Advisory Group—and we want YOUR voice at the table! Interested? Join our first conversation. No commitment necessary. \nCLICK HERE TO REGISTER
URL:https://thecommunitycenter.org/event/coffee-conversation-adult-advisory-council/
CATEGORIES:Adults,Free
ATTACH;FMTTYPE=image/png:https://thecommunitycenter.org/wp-content/uploads/2026/03/JOIN-OUR.png
END:VEVENT
END:VCALENDAR