BEGIN:VCALENDAR
VERSION:2.0
PRODID:-//Litchfield Community Center - ECPv6.15.18//NONSGML v1.0//EN
CALSCALE:GREGORIAN
METHOD:PUBLISH
X-WR-CALNAME:Litchfield Community Center
X-ORIGINAL-URL:https://thecommunitycenter.org
X-WR-CALDESC:Events for Litchfield Community Center
REFRESH-INTERVAL;VALUE=DURATION:PT1H
X-Robots-Tag:noindex
X-PUBLISHED-TTL:PT1H
BEGIN:VTIMEZONE
TZID:America/New_York
BEGIN:DAYLIGHT
TZOFFSETFROM:-0500
TZOFFSETTO:-0400
TZNAME:EDT
DTSTART:20250309T070000
END:DAYLIGHT
BEGIN:STANDARD
TZOFFSETFROM:-0400
TZOFFSETTO:-0500
TZNAME:EST
DTSTART:20251102T060000
END:STANDARD
BEGIN:DAYLIGHT
TZOFFSETFROM:-0500
TZOFFSETTO:-0400
TZNAME:EDT
DTSTART:20260308T070000
END:DAYLIGHT
BEGIN:STANDARD
TZOFFSETFROM:-0400
TZOFFSETTO:-0500
TZNAME:EST
DTSTART:20261101T060000
END:STANDARD
BEGIN:DAYLIGHT
TZOFFSETFROM:-0500
TZOFFSETTO:-0400
TZNAME:EDT
DTSTART:20270314T070000
END:DAYLIGHT
BEGIN:STANDARD
TZOFFSETFROM:-0400
TZOFFSETTO:-0500
TZNAME:EST
DTSTART:20271107T060000
END:STANDARD
END:VTIMEZONE
BEGIN:VEVENT
DTSTART;TZID=America/New_York:20260406T093000
DTEND;TZID=America/New_York:20260406T113000
DTSTAMP:20260425T063805
CREATED:20250729T160020Z
LAST-MODIFIED:20260123T155647Z
UID:10005134-1775467800-1775475000@thecommunitycenter.org
SUMMARY:Stitch & Chat
DESCRIPTION:Bring your own project to work on. Social group offers tips\, tricks\, and gossip!
URL:https://thecommunitycenter.org/event/stitch-chat/2026-04-06/
LOCATION:Learning Center
CATEGORIES:Free
ATTACH;FMTTYPE=image/jpeg:https://thecommunitycenter.org/wp-content/uploads/2025/07/stitchchat.jpg
END:VEVENT
BEGIN:VEVENT
DTSTART;TZID=America/New_York:20260406T123000
DTEND;TZID=America/New_York:20260406T133000
DTSTAMP:20260425T063805
CREATED:20260105T145848Z
LAST-MODIFIED:20260105T145848Z
UID:10004914-1775478600-1775482200@thecommunitycenter.org
SUMMARY:Alzheimer's Support Group
DESCRIPTION:Build a support system with people who understand. \nAlzheimer’s Association support groups\, conducted by trained facilitators\, are a safe place for people living with dementia and their care partners to\n– Develop a support system\n– Exchange practical info on challenges and possible solutions\n– Talk through issues and ways of coping\n– Share feelings\, needs\, and concerns\n– Learn about community resources \nCLICK HERE TO REGISTER
URL:https://thecommunitycenter.org/event/alzheimers-support-group-2/2026-04-06/
LOCATION:Learning Center
CATEGORIES:Adults,Free
ATTACH;FMTTYPE=image/jpeg:https://thecommunitycenter.org/wp-content/uploads/2025/08/careforth.jpg
END:VEVENT
BEGIN:VEVENT
DTSTART;TZID=America/New_York:20260406T130000
DTEND;TZID=America/New_York:20260406T150000
DTSTAMP:20260425T063805
CREATED:20260202T182352Z
LAST-MODIFIED:20260202T182459Z
UID:10003315-1775480400-1775487600@thecommunitycenter.org
SUMMARY:Movie Mondays - Lilly
DESCRIPTION:“LILLY” – PG13 (93 min)\nAn emotional drama about a courageous factory worker who fights for justice when cheated and mistreated by her company. Based on the life of Lilly Ledbetter.\nStars: Patricia Clarkson\, Josh McDermitt\, John Benjamin Hickey \n1:00PM \nDonation of $2.00 welcome
URL:https://thecommunitycenter.org/event/movie-mondays-16/
CATEGORIES:Free,Movies
ATTACH;FMTTYPE=image/jpeg:https://thecommunitycenter.org/wp-content/uploads/2026/02/Lily.jpeg
END:VEVENT
BEGIN:VEVENT
DTSTART;TZID=America/New_York:20260406T151500
DTEND;TZID=America/New_York:20260406T170000
DTSTAMP:20260425T063805
CREATED:20250729T175242Z
LAST-MODIFIED:20251125T182102Z
UID:10003207-1775488500-1775494800@thecommunitycenter.org
SUMMARY:Open Play
DESCRIPTION:Grab your friends and families and come to LCC enjoy open recreation time! \nThis is a time for people of all ages to join us and utilize our Pool Tables\, Ping Pong tables\, Foosball\, Board Games and Lawn Games! \nPlease be respectful of our property and equipment and leave the space as you found it when you leave! \nCost: FREE
URL:https://thecommunitycenter.org/event/open-play/2026-04-06/
LOCATION:Atrium
CATEGORIES:Family/All Ages,Free
ATTACH;FMTTYPE=image/jpeg:https://thecommunitycenter.org/wp-content/uploads/2025/07/open-play.jpg
END:VEVENT
BEGIN:VEVENT
DTSTART;TZID=America/New_York:20260406T184500
DTEND;TZID=America/New_York:20260406T210000
DTSTAMP:20260425T063805
CREATED:20260206T192627Z
LAST-MODIFIED:20260206T193646Z
UID:10005568-1775501100-1775509200@thecommunitycenter.org
SUMMARY:Litchfield Audubon Society Meeting
DESCRIPTION:New England Cottontail Restoration \n\n\n\n\nApril 6\, 2026\nMonday\, 6:45 p.m.\nLocation: Litchfield Community Center \n\n\n\n\nIn 2011 Lisa Wahle helped us launch a New England Cottontail (NEC) restoration project at Boyd Woods Sanctuary\, creating what we referred to as “rabbitat.” Here she will talk about the initiative\, lessons learned along the way\, other species that have benefitted\, and new directions for conservation and research. She will highlight the habitat work that was conducted and recognition of the land stewards who shepherded this project. \n  \nLisa is a retired wildlife habitat biologist who worked with the CT DEEP\, the Wildlife Management Institute\, USDA Natural Resources Conservation Service\, and Connecticut landowners to restore populations of the imperiled NEC and other young-forest and shrubland-dependent species. She represented Connecticut on the regional NEC Technical Committee and provided assistance to DEEP for statewide NEC project planning and implementation\, as well as population monitoring and reporting. Lisa chairs the Chester Conservation Committee and is on the board of the Connecticut Botanical Society. \n\n\n\n\n\n\nThe meeting and program will be available via Zoom for those unable to attend the in-person meeting at the Litchfield Community Center. \n\n\n  \nNote: To participate on Zoom\, go to the Calendar section of our website\, lhasct.org\, to register. \nThe meeting times are when refreshments are available. A short business meeting begins at 7 p.m.\, followed by the presentation.
URL:https://thecommunitycenter.org/event/litchfield-audubon-society-meeting-5/
CATEGORIES:Adults,Free
ATTACH;FMTTYPE=image/jpeg:https://thecommunitycenter.org/wp-content/uploads/2025/08/Home_Audubon.jpg
END:VEVENT
END:VCALENDAR