BEGIN:VCALENDAR
VERSION:2.0
PRODID:-//Litchfield Community Center - ECPv6.15.18//NONSGML v1.0//EN
CALSCALE:GREGORIAN
METHOD:PUBLISH
X-WR-CALNAME:Litchfield Community Center
X-ORIGINAL-URL:https://thecommunitycenter.org
X-WR-CALDESC:Events for Litchfield Community Center
REFRESH-INTERVAL;VALUE=DURATION:PT1H
X-Robots-Tag:noindex
X-PUBLISHED-TTL:PT1H
BEGIN:VTIMEZONE
TZID:America/New_York
BEGIN:DAYLIGHT
TZOFFSETFROM:-0500
TZOFFSETTO:-0400
TZNAME:EDT
DTSTART:20250309T070000
END:DAYLIGHT
BEGIN:STANDARD
TZOFFSETFROM:-0400
TZOFFSETTO:-0500
TZNAME:EST
DTSTART:20251102T060000
END:STANDARD
BEGIN:DAYLIGHT
TZOFFSETFROM:-0500
TZOFFSETTO:-0400
TZNAME:EDT
DTSTART:20260308T070000
END:DAYLIGHT
BEGIN:STANDARD
TZOFFSETFROM:-0400
TZOFFSETTO:-0500
TZNAME:EST
DTSTART:20261101T060000
END:STANDARD
BEGIN:DAYLIGHT
TZOFFSETFROM:-0500
TZOFFSETTO:-0400
TZNAME:EDT
DTSTART:20270314T070000
END:DAYLIGHT
BEGIN:STANDARD
TZOFFSETFROM:-0400
TZOFFSETTO:-0500
TZNAME:EST
DTSTART:20271107T060000
END:STANDARD
END:VTIMEZONE
BEGIN:VEVENT
DTSTART;TZID=America/New_York:20260202T093000
DTEND;TZID=America/New_York:20260202T113000
DTSTAMP:20260425T152703
CREATED:20250729T160020Z
LAST-MODIFIED:20260123T155647Z
UID:10005126-1770024600-1770031800@thecommunitycenter.org
SUMMARY:Stitch & Chat
DESCRIPTION:Bring your own project to work on. Social group offers tips\, tricks\, and gossip!
URL:https://thecommunitycenter.org/event/stitch-chat/2026-02-02/
LOCATION:Learning Center
CATEGORIES:Free
ATTACH;FMTTYPE=image/jpeg:https://thecommunitycenter.org/wp-content/uploads/2025/07/stitchchat.jpg
END:VEVENT
BEGIN:VEVENT
DTSTART;TZID=America/New_York:20260202T123000
DTEND;TZID=America/New_York:20260202T133000
DTSTAMP:20260425T152703
CREATED:20260105T145848Z
LAST-MODIFIED:20260105T145848Z
UID:10004912-1770035400-1770039000@thecommunitycenter.org
SUMMARY:Alzheimer's Support Group
DESCRIPTION:Build a support system with people who understand. \nAlzheimer’s Association support groups\, conducted by trained facilitators\, are a safe place for people living with dementia and their care partners to\n– Develop a support system\n– Exchange practical info on challenges and possible solutions\n– Talk through issues and ways of coping\n– Share feelings\, needs\, and concerns\n– Learn about community resources \nCLICK HERE TO REGISTER
URL:https://thecommunitycenter.org/event/alzheimers-support-group-2/2026-02-02/
LOCATION:Learning Center
CATEGORIES:Adults,Free
ATTACH;FMTTYPE=image/jpeg:https://thecommunitycenter.org/wp-content/uploads/2025/08/careforth.jpg
END:VEVENT
BEGIN:VEVENT
DTSTART;TZID=America/New_York:20260202T130000
DTEND;TZID=America/New_York:20260202T150000
DTSTAMP:20260425T152703
CREATED:20260105T222608Z
LAST-MODIFIED:20260105T222659Z
UID:10003307-1770037200-1770044400@thecommunitycenter.org
SUMMARY:Movie Mondays ~ Carry On
DESCRIPTION:Carry-On – (119 min) – PG13\nA mysterious traveler blackmails a young TSA agent into letting a dangerous package slip through security and onto a Christmas Day flight. Stars: Jason Bateman\, Sofia Carson \n1:00PM \nLocation: Atrium \nCost: Donation of $2.00 welcome \nWalk-ins Welcome!
URL:https://thecommunitycenter.org/event/movie-mondays-7/
CATEGORIES:Free,Movies
ATTACH;FMTTYPE=image/jpeg:https://thecommunitycenter.org/wp-content/uploads/2025/11/Carry-on.jpeg
END:VEVENT
BEGIN:VEVENT
DTSTART;TZID=America/New_York:20260202T151500
DTEND;TZID=America/New_York:20260202T170000
DTSTAMP:20260425T152703
CREATED:20250729T175242Z
LAST-MODIFIED:20251125T182102Z
UID:10003199-1770045300-1770051600@thecommunitycenter.org
SUMMARY:Open Play
DESCRIPTION:Grab your friends and families and come to LCC enjoy open recreation time! \nThis is a time for people of all ages to join us and utilize our Pool Tables\, Ping Pong tables\, Foosball\, Board Games and Lawn Games! \nPlease be respectful of our property and equipment and leave the space as you found it when you leave! \nCost: FREE
URL:https://thecommunitycenter.org/event/open-play/2026-02-02/
LOCATION:Atrium
CATEGORIES:Family/All Ages,Free
ATTACH;FMTTYPE=image/jpeg:https://thecommunitycenter.org/wp-content/uploads/2025/07/open-play.jpg
END:VEVENT
BEGIN:VEVENT
DTSTART;TZID=America/New_York:20260202T184500
DTEND;TZID=America/New_York:20260202T210000
DTSTAMP:20260425T152703
CREATED:20251209T233907Z
LAST-MODIFIED:20251209T233909Z
UID:10003756-1770057900-1770066000@thecommunitycenter.org
SUMMARY:Litchfield Audubon Society Meeting
DESCRIPTION:The Northern Saw-whet Owl\nThis is the smallest forest owl in eastern North America. In the fall\, thousands of them leave their\nbreeding grounds in southern Canada and the northern U.S. and move south to find food and cover.\nOften called migrants\, it is more appropriate to refer to them as “nomads” or fall “passage birds\,”\nsince they never end up in the same place twice. Much of their life history remains a mystery. Join\nfederally licensed raptor bander Larry Fischer as he unravels some of the mystery surrounding the\nlife history of the Northern Saw-whet Owl. Larry has been banding and watching owls and hawks for\nmore than 40 years. He is a state and federally licensed bird bander with an emphasis on birds of\nprey and is a former president of the Western Connecticut Bird Club. \nNote: The meetings will be in person and on Zoom. To participate on Zoom\, go to the Calendar section of our website\, lhasct.org\, to register. You will be sent the login link. \nThe meeting times are when refreshments are available. A short business meeting begins at 7 p.m.\, followed by the presentation.
URL:https://thecommunitycenter.org/event/litchfield-audubon-society-meeting-4-3/
CATEGORIES:Adults,Free
ATTACH;FMTTYPE=image/jpeg:https://thecommunitycenter.org/wp-content/uploads/2025/08/Home_Audubon.jpg
END:VEVENT
END:VCALENDAR