BEGIN:VCALENDAR
VERSION:2.0
PRODID:-//Litchfield Community Center - ECPv6.15.18//NONSGML v1.0//EN
CALSCALE:GREGORIAN
METHOD:PUBLISH
X-ORIGINAL-URL:https://thecommunitycenter.org
X-WR-CALDESC:Events for Litchfield Community Center
REFRESH-INTERVAL;VALUE=DURATION:PT1H
X-Robots-Tag:noindex
X-PUBLISHED-TTL:PT1H
BEGIN:VTIMEZONE
TZID:America/New_York
BEGIN:DAYLIGHT
TZOFFSETFROM:-0500
TZOFFSETTO:-0400
TZNAME:EDT
DTSTART:20240310T070000
END:DAYLIGHT
BEGIN:STANDARD
TZOFFSETFROM:-0400
TZOFFSETTO:-0500
TZNAME:EST
DTSTART:20241103T060000
END:STANDARD
BEGIN:DAYLIGHT
TZOFFSETFROM:-0500
TZOFFSETTO:-0400
TZNAME:EDT
DTSTART:20250309T070000
END:DAYLIGHT
BEGIN:STANDARD
TZOFFSETFROM:-0400
TZOFFSETTO:-0500
TZNAME:EST
DTSTART:20251102T060000
END:STANDARD
BEGIN:DAYLIGHT
TZOFFSETFROM:-0500
TZOFFSETTO:-0400
TZNAME:EDT
DTSTART:20260308T070000
END:DAYLIGHT
BEGIN:STANDARD
TZOFFSETFROM:-0400
TZOFFSETTO:-0500
TZNAME:EST
DTSTART:20261101T060000
END:STANDARD
END:VTIMEZONE
BEGIN:VEVENT
DTSTART;TZID=America/New_York:20251204T160000
DTEND;TZID=America/New_York:20251204T180000
DTSTAMP:20260421T211037
CREATED:20251030T195213Z
LAST-MODIFIED:20251031T150237Z
UID:10002444-1764864000-1764871200@thecommunitycenter.org
SUMMARY:Skill Seekers Grades 1-3
DESCRIPTION:Skill Seekers: Afterschool Enrichment ProgramA free afterschool program focused on fun\, friendship\, and personal growth! Each week features engaging games\, team-building activities\, and community enrichment projects. Students will develop important life skills while enjoying nutritious snacks in a supportive environment. \n1st–3rd Grade: Thursdays\, 4:00–6:00 PMDates: November 13 – December 18 \nSchool pickup available. \nCLICK HERE TO REGISTER
URL:https://thecommunitycenter.org/event/skill-seekers-grades-1-3/2025-12-04/
LOCATION:Atrium
CATEGORIES:Free,Youth
ATTACH;FMTTYPE=image/jpeg:https://thecommunitycenter.org/wp-content/uploads/2025/10/Updated-Skill-Seekers-Flyer-November-December-LCC-Instagram-Post-1.jpg
END:VEVENT
BEGIN:VEVENT
DTSTART;TZID=America/New_York:20251204T160000
DTEND;TZID=America/New_York:20251204T180000
DTSTAMP:20260421T211037
CREATED:20260106T180233Z
LAST-MODIFIED:20260106T180617Z
UID:10004931-1764864000-1764871200@thecommunitycenter.org
SUMMARY:Skill Seekers Grades 1-3
DESCRIPTION:Skill Seekers: Afterschool Enrichment ProgramA free afterschool program focused on fun\, friendship\, and personal growth! Each week features engaging games\, team-building activities\, and community enrichment projects. Students will develop important life skills while enjoying nutritious snacks in a supportive environment. \n1st–3rd Grade: Thursdays\, 4:00–6:00 PMDates: February 5th – March 12th \nSchool pickup available. \nCLICK HERE TO REGISTER
URL:https://thecommunitycenter.org/event/skill-seekers-grades-1-3-3/2025-12-04/
LOCATION:Atrium
CATEGORIES:Free,Youth
ATTACH;FMTTYPE=image/jpeg:https://thecommunitycenter.org/wp-content/uploads/2025/10/Updated-Skill-Seekers-Flyer-November-December-LCC-Instagram-Post-1.jpg
END:VEVENT
END:VCALENDAR