BEGIN:VCALENDAR
VERSION:2.0
PRODID:-//Litchfield Community Center - ECPv6.15.18//NONSGML v1.0//EN
CALSCALE:GREGORIAN
METHOD:PUBLISH
X-ORIGINAL-URL:https://thecommunitycenter.org
X-WR-CALDESC:Events for Litchfield Community Center
REFRESH-INTERVAL;VALUE=DURATION:PT1H
X-Robots-Tag:noindex
X-PUBLISHED-TTL:PT1H
BEGIN:VTIMEZONE
TZID:America/New_York
BEGIN:DAYLIGHT
TZOFFSETFROM:-0500
TZOFFSETTO:-0400
TZNAME:EDT
DTSTART:20240310T070000
END:DAYLIGHT
BEGIN:STANDARD
TZOFFSETFROM:-0400
TZOFFSETTO:-0500
TZNAME:EST
DTSTART:20241103T060000
END:STANDARD
BEGIN:DAYLIGHT
TZOFFSETFROM:-0500
TZOFFSETTO:-0400
TZNAME:EDT
DTSTART:20250309T070000
END:DAYLIGHT
BEGIN:STANDARD
TZOFFSETFROM:-0400
TZOFFSETTO:-0500
TZNAME:EST
DTSTART:20251102T060000
END:STANDARD
BEGIN:DAYLIGHT
TZOFFSETFROM:-0500
TZOFFSETTO:-0400
TZNAME:EDT
DTSTART:20260308T070000
END:DAYLIGHT
BEGIN:STANDARD
TZOFFSETFROM:-0400
TZOFFSETTO:-0500
TZNAME:EST
DTSTART:20261101T060000
END:STANDARD
END:VTIMEZONE
BEGIN:VEVENT
DTSTART;TZID=America/New_York:20251111T093000
DTEND;TZID=America/New_York:20251111T120000
DTSTAMP:20260422T234122
CREATED:20250729T181151Z
LAST-MODIFIED:20251126T142151Z
UID:10000680-1762853400-1762862400@thecommunitycenter.org
SUMMARY:Community Artists' Group
DESCRIPTION:Cost: FREE*\nOpen to EVERYONE \nAll ages and skill levels are invited each Tuesday morning to craft\, create and share! \nBring your latest project to work on or start a new and share in a leisurely and social environment. \n*Instruction is available upon request for beginners* \nAlready know the basics? Pop in and join the artists in a free space and welcoming environment to practice and share your skills while working on a new project! \nAll you need to bring is an open mind and your materials!
URL:https://thecommunitycenter.org/event/community-artists-group/2025-11-11/
LOCATION:Learning Center
CATEGORIES:Family/All Ages,Free
ATTACH;FMTTYPE=image/jpeg:https://thecommunitycenter.org/wp-content/uploads/2025/07/Palette.jpg
END:VEVENT
BEGIN:VEVENT
DTSTART;TZID=America/New_York:20251111T130000
DTEND;TZID=America/New_York:20251111T140000
DTSTAMP:20260422T234122
CREATED:20251030T194856Z
LAST-MODIFIED:20251110T161008Z
UID:10002436-1762866000-1762869600@thecommunitycenter.org
SUMMARY:Pilobolus: Connecting with Balance
DESCRIPTION:Pilobolus: Connecting with Balance\n\n\n \n\n\nJoin us for a free class inspired by the world-renowned Pilobolus Dance Company\, designed especially for older adults to explore balance\, mobility\, and ease of movement.\n\n\n \n\n\nInstructor – Andrea Lake Meharg\n\n\nNo dance experience needed.\n\n\nWear comfortable clothing. Bare feet\, sneakers or soft shoes are all welcome. Chairs will be used for support and stability.\n\n\n \n\n\n**Free introductory class. \n\n\n\n* Pre-registration is advised.\nClick here to register
URL:https://thecommunitycenter.org/event/pilobolus-connecting-with-balance/
LOCATION:Atrium
CATEGORIES:Adults,Exercise,Free
ATTACH;FMTTYPE=image/png:https://thecommunitycenter.org/wp-content/uploads/2025/10/Connecting-with-Balance.png
END:VEVENT
END:VCALENDAR