BEGIN:VCALENDAR
VERSION:2.0
PRODID:-//Litchfield Community Center - ECPv6.15.18//NONSGML v1.0//EN
CALSCALE:GREGORIAN
METHOD:PUBLISH
X-ORIGINAL-URL:https://thecommunitycenter.org
X-WR-CALDESC:Events for Litchfield Community Center
REFRESH-INTERVAL;VALUE=DURATION:PT1H
X-Robots-Tag:noindex
X-PUBLISHED-TTL:PT1H
BEGIN:VTIMEZONE
TZID:America/New_York
BEGIN:DAYLIGHT
TZOFFSETFROM:-0500
TZOFFSETTO:-0400
TZNAME:EDT
DTSTART:20250309T070000
END:DAYLIGHT
BEGIN:STANDARD
TZOFFSETFROM:-0400
TZOFFSETTO:-0500
TZNAME:EST
DTSTART:20251102T060000
END:STANDARD
BEGIN:DAYLIGHT
TZOFFSETFROM:-0500
TZOFFSETTO:-0400
TZNAME:EDT
DTSTART:20260308T070000
END:DAYLIGHT
BEGIN:STANDARD
TZOFFSETFROM:-0400
TZOFFSETTO:-0500
TZNAME:EST
DTSTART:20261101T060000
END:STANDARD
BEGIN:DAYLIGHT
TZOFFSETFROM:-0500
TZOFFSETTO:-0400
TZNAME:EDT
DTSTART:20270314T070000
END:DAYLIGHT
BEGIN:STANDARD
TZOFFSETFROM:-0400
TZOFFSETTO:-0500
TZNAME:EST
DTSTART:20271107T060000
END:STANDARD
END:VTIMEZONE
BEGIN:VEVENT
DTSTART;TZID=America/New_York:20260218T170000
DTEND;TZID=America/New_York:20260218T190000
DTSTAMP:20260425T104005
CREATED:20251213T183308Z
LAST-MODIFIED:20251213T183322Z
UID:10003898-1771434000-1771441200@thecommunitycenter.org
SUMMARY:February 18th Family Dinner
DESCRIPTION:Family Dinner – February 18th at 5:00 PM \nCLICK HERE TO REGISTER \nJoin us at the Litchfield Community Center for a warm and welcoming Family Dinner. This free event is open to all families and offers a great opportunity to connect with neighbors and enjoy a delicious meal. \nMenu includes:Spaghetti\, Cheesy Bread\, and Veggie Wedgies \nThe dinner will take place on Wednesday\, February 18th at 5:00 PM. \nTo register\, please visit www.thecommunitycenter.org or call 860-567-8302.
URL:https://thecommunitycenter.org/event/february-18th-family-dinner/
LOCATION:Atrium
CATEGORIES:Family/All Ages,Free
ATTACH;FMTTYPE=image/jpeg:https://thecommunitycenter.org/wp-content/uploads/2025/12/Family-Dinner-Feb-2026.jpg
END:VEVENT
END:VCALENDAR