BEGIN:VCALENDAR
VERSION:2.0
PRODID:-//Litchfield Community Center - ECPv6.15.18//NONSGML v1.0//EN
CALSCALE:GREGORIAN
METHOD:PUBLISH
X-WR-CALNAME:Litchfield Community Center
X-ORIGINAL-URL:https://thecommunitycenter.org
X-WR-CALDESC:Events for Litchfield Community Center
REFRESH-INTERVAL;VALUE=DURATION:PT1H
X-Robots-Tag:noindex
X-PUBLISHED-TTL:PT1H
BEGIN:VTIMEZONE
TZID:America/New_York
BEGIN:DAYLIGHT
TZOFFSETFROM:-0500
TZOFFSETTO:-0400
TZNAME:EDT
DTSTART:20250309T070000
END:DAYLIGHT
BEGIN:STANDARD
TZOFFSETFROM:-0400
TZOFFSETTO:-0500
TZNAME:EST
DTSTART:20251102T060000
END:STANDARD
BEGIN:DAYLIGHT
TZOFFSETFROM:-0500
TZOFFSETTO:-0400
TZNAME:EDT
DTSTART:20260308T070000
END:DAYLIGHT
BEGIN:STANDARD
TZOFFSETFROM:-0400
TZOFFSETTO:-0500
TZNAME:EST
DTSTART:20261101T060000
END:STANDARD
BEGIN:DAYLIGHT
TZOFFSETFROM:-0500
TZOFFSETTO:-0400
TZNAME:EDT
DTSTART:20270314T070000
END:DAYLIGHT
BEGIN:STANDARD
TZOFFSETFROM:-0400
TZOFFSETTO:-0500
TZNAME:EST
DTSTART:20271107T060000
END:STANDARD
END:VTIMEZONE
BEGIN:VEVENT
DTSTART;TZID=America/New_York:20260212T090000
DTEND;TZID=America/New_York:20260212T110000
DTSTAMP:20260425T064534
CREATED:20260123T163611Z
LAST-MODIFIED:20260123T163629Z
UID:10005465-1770886800-1770894000@thecommunitycenter.org
SUMMARY:Tech Help Feb 12th
DESCRIPTION:Technology made easy! \nClick Here To Register  \nAre you having trouble with your computer\, smart phone\, Firestick\, or other technology??? Well look no further! FREE help with JC Tieman is available at the LCC. Help is available for all ages\, and tech abilities. \nThursdays from 9-11am\, call to sign up for a one hour time slot for one on one help with an experienced IT professional. \nFree help is available for but not limited to:\n*Tutorials\n*Programming and app installation\n*General Maintenance\n*Minor Repairs\n*Software Upgrades\n*Digital Photography\n*Email\n*Minor Repairs\n*Amazon Firesticks \nCost: FREE – CALL TO RESERVE*\nCALL FOR RESERVATION: 860 567 8302 \n 
URL:https://thecommunitycenter.org/event/tech-help-feb-12th/
CATEGORIES:Family/All Ages,Free
END:VEVENT
BEGIN:VEVENT
DTSTART;TZID=America/New_York:20260212T111500
DTEND;TZID=America/New_York:20260212T143000
DTSTAMP:20260425T064534
CREATED:20251210T174544Z
LAST-MODIFIED:20260409T193316Z
UID:10004835-1770894900-1770906600@thecommunitycenter.org
SUMMARY:Table Tennis
DESCRIPTION:Table Tennis is played weekly on Thursdays. Drop in. New or experienced players welcome! Paddles available. \nCost: Free
URL:https://thecommunitycenter.org/event/table-tennis-3/2026-02-12/
LOCATION:Rec Area
CATEGORIES:Exercise,Family/All Ages,Free
ATTACH;FMTTYPE=image/jpeg:https://thecommunitycenter.org/wp-content/uploads/2025/12/Table-Tennis.jpg
END:VEVENT
BEGIN:VEVENT
DTSTART;TZID=America/New_York:20260212T153000
DTEND;TZID=America/New_York:20260212T163000
DTSTAMP:20260425T064534
CREATED:20260113T154358Z
LAST-MODIFIED:20260113T171620Z
UID:10004950-1770910200-1770913800@thecommunitycenter.org
SUMMARY:Evening Glow - Feb 12th
DESCRIPTION:Evening Glow Music Series \nFeb 12th – 3:30PM \nTrue North Trio featuring: \nPianist\, William Braun \nViolinist\, Artemis Simerson \nCellist\, Julie Ribchinsky \n  \nDonations Welcome! \nClick Here to Register \nPerformances are followed by a reception with refreshments. \nFormed in 2024\, the piano trio True North is passionately dedicated to presenting the best of chamber music repertoire in New England. The three Connecticut musicians had previously performed in various combinations for over 40 years. \nCellist Julie Ribchinsky teaches cello at Wesleyan University\, and is a Professor Emeritus at Central Connecticut State University. A founding member of the Connecticut Trio\, for many decades Ribchinsky performed with violinist Gerard Rosa and pianist Linda Laurent in yearly concerts at the New Britain Museum of American Art. Ribchinsky performs often throughout the area as a soloist and recitalist. \nViolinist Artemis Simerson was the Assistant Concertmaster of the New Haven Symphony for 30 years until 2022\, and she continues to teach violin at Choate Rosemary Hall. She participates in numerous musical performances in the Wall Street Chamber Players and in recordings\, and she is delighted to have time to share her great love of the piano trio repertoire. \nPianist William Braun plays principal keyboards for the New Haven Symphony Orchestra\, and is a professor at The Hartt School of the University of Hartford. He has written more than 300 articles for Opera News magazine. He has made recordings for Koch Classics and the PBS TV series American Masters.
URL:https://thecommunitycenter.org/event/evening-glow-feb-12th/
LOCATION:Atrium
CATEGORIES:Adults,Family/All Ages,Free,Music
ATTACH;FMTTYPE=image/jpeg:https://thecommunitycenter.org/wp-content/uploads/2026/01/true_north.jpg
END:VEVENT
END:VCALENDAR