BEGIN:VCALENDAR
VERSION:2.0
PRODID:-//Litchfield Community Center - ECPv6.15.18//NONSGML v1.0//EN
CALSCALE:GREGORIAN
METHOD:PUBLISH
X-WR-CALNAME:Litchfield Community Center
X-ORIGINAL-URL:https://thecommunitycenter.org
X-WR-CALDESC:Events for Litchfield Community Center
REFRESH-INTERVAL;VALUE=DURATION:PT1H
X-Robots-Tag:noindex
X-PUBLISHED-TTL:PT1H
BEGIN:VTIMEZONE
TZID:America/New_York
BEGIN:DAYLIGHT
TZOFFSETFROM:-0500
TZOFFSETTO:-0400
TZNAME:EDT
DTSTART:20240310T070000
END:DAYLIGHT
BEGIN:STANDARD
TZOFFSETFROM:-0400
TZOFFSETTO:-0500
TZNAME:EST
DTSTART:20241103T060000
END:STANDARD
BEGIN:DAYLIGHT
TZOFFSETFROM:-0500
TZOFFSETTO:-0400
TZNAME:EDT
DTSTART:20250309T070000
END:DAYLIGHT
BEGIN:STANDARD
TZOFFSETFROM:-0400
TZOFFSETTO:-0500
TZNAME:EST
DTSTART:20251102T060000
END:STANDARD
BEGIN:DAYLIGHT
TZOFFSETFROM:-0500
TZOFFSETTO:-0400
TZNAME:EDT
DTSTART:20260308T070000
END:DAYLIGHT
BEGIN:STANDARD
TZOFFSETFROM:-0400
TZOFFSETTO:-0500
TZNAME:EST
DTSTART:20261101T060000
END:STANDARD
END:VTIMEZONE
BEGIN:VEVENT
DTSTART;TZID=America/New_York:20251220T083000
DTEND;TZID=America/New_York:20251220T133000
DTSTAMP:20260425T152929
CREATED:20251103T192658Z
LAST-MODIFIED:20251217T212109Z
UID:10002605-1766219400-1766237400@thecommunitycenter.org
SUMMARY:*SOLD OUT* Teen Snow Tubing Trip (Ages 12-15)
DESCRIPTION:Teen Snow Tubing Trip \nHit the slopes with us for a winter adventure at Catamount Ski Resort. Teens ages 12–15 are invited to join us for a fun and exciting snow tubing trip. We will depart from the Litchfield Community Center at 8:30 AM and return at 1:30 PM. \nThis trip includes transportation\, admission to the snow tubing park\, and supervised tubing time on the mountain. \nTeens should dress warmly\, wear winter boots\, and bring snacks or money for concessions. \nSpace is limited and this program fills quickly\, so early registration is strongly encouraged. \nCost is $45 per teen. \nSOLD OUT
URL:https://thecommunitycenter.org/event/teen-snow-tubing-trip-ages-12-15/
LOCATION:Trip
CATEGORIES:Exercise,Trips,Youth
ATTACH;FMTTYPE=image/jpeg:https://thecommunitycenter.org/wp-content/uploads/2025/11/Dec-20th-snow-tubing-event-2.jpg
END:VEVENT
END:VCALENDAR