BEGIN:VCALENDAR
VERSION:2.0
PRODID:-//Litchfield Community Center - ECPv6.15.18//NONSGML v1.0//EN
CALSCALE:GREGORIAN
METHOD:PUBLISH
X-WR-CALNAME:Litchfield Community Center
X-ORIGINAL-URL:https://thecommunitycenter.org
X-WR-CALDESC:Events for Litchfield Community Center
REFRESH-INTERVAL;VALUE=DURATION:PT1H
X-Robots-Tag:noindex
X-PUBLISHED-TTL:PT1H
BEGIN:VTIMEZONE
TZID:America/New_York
BEGIN:DAYLIGHT
TZOFFSETFROM:-0500
TZOFFSETTO:-0400
TZNAME:EDT
DTSTART:20250309T070000
END:DAYLIGHT
BEGIN:STANDARD
TZOFFSETFROM:-0400
TZOFFSETTO:-0500
TZNAME:EST
DTSTART:20251102T060000
END:STANDARD
BEGIN:DAYLIGHT
TZOFFSETFROM:-0500
TZOFFSETTO:-0400
TZNAME:EDT
DTSTART:20260308T070000
END:DAYLIGHT
BEGIN:STANDARD
TZOFFSETFROM:-0400
TZOFFSETTO:-0500
TZNAME:EST
DTSTART:20261101T060000
END:STANDARD
BEGIN:DAYLIGHT
TZOFFSETFROM:-0500
TZOFFSETTO:-0400
TZNAME:EDT
DTSTART:20270314T070000
END:DAYLIGHT
BEGIN:STANDARD
TZOFFSETFROM:-0400
TZOFFSETTO:-0500
TZNAME:EST
DTSTART:20271107T060000
END:STANDARD
END:VTIMEZONE
BEGIN:VEVENT
DTSTART;TZID=America/New_York:20260507T080000
DTEND;TZID=America/New_York:20260507T180000
DTSTAMP:20260423T214910
CREATED:20260309T161246Z
LAST-MODIFIED:20260331T131058Z
UID:10005780-1778140800-1778176800@thecommunitycenter.org
SUMMARY:Adult Day Trip: Frick Museum NYC - SOLD OUT!
DESCRIPTION:CLICK HERE TO REGISTER\n\nDaytrip to Frick Museum NYC\nThursday May 7\n8 a.m. departure from LCC\n$60.00 per person. Includes transportation on lift equipped LCC Bus and an 11 a.m. admission to Frick Collection and the special exhibit Gainsborough: The Fashion Portraiture\n\nLunch on your own in the museum cafe (reservation can be made upon arrival at museum) or at a local eatery of your choice.\n\n\nDepart from Museum to LCC at 3 p.m.\nLimited to 16\n\nFor more info\, go to:\nhttps://www.frick.org/visit\nhttps://www.frick.org/exhibitions\n\nGainsborough: The Fashion of Portraiture\nexplores the relationship between works by period-defining English artist Thomas Gainsborough and fashion\, a concept and industry that touched nearly every aspect of British society in the eighteenth century. \nThe museum’s first special exhibition dedicated to the artist—and the first devoted to Gainsborough’s portraiture ever held in New York—this show brings together over two dozen of Gainsborough’s most spectacular portraits from across North America and the United Kingdom\, representing each stage of his four-decade career. \nCLICK HERE TO REGISTER
URL:https://thecommunitycenter.org/event/adult-day-trip-frick-museum-nyc/
CATEGORIES:Adults,Trips
ATTACH;FMTTYPE=image/jpeg:https://thecommunitycenter.org/wp-content/uploads/2026/03/IMG_1201-scaled-1.jpeg
END:VEVENT
BEGIN:VEVENT
DTSTART;TZID=America/New_York:20260507T133000
DTEND;TZID=America/New_York:20260507T153000
DTSTAMP:20260423T214910
CREATED:20260127T151412Z
LAST-MODIFIED:20260127T151414Z
UID:10003722-1778160600-1778167800@thecommunitycenter.org
SUMMARY:Watercolors Group
DESCRIPTION:* CLASS IS FULL. MORNING SESSION AVAILABLE \nThis session runs 8 weeks starting from: Jan. 22\, 2026 thru Mar. 12\, 2026. \nWatercolor is the perfect medium to lose oneself\, explore color\, and serendipitous occurrences\, and share experiences. \nInstructor: Rose Petruzzi.\nBring what materials you have to class.\nEmail Rose at rose4444@icloud.com for a list of suggested materials.
URL:https://thecommunitycenter.org/event/watercolors-group-2-2/2026-05-07/
CATEGORIES:Adults
ATTACH;FMTTYPE=image/jpeg:https://thecommunitycenter.org/wp-content/uploads/2025/09/watercolor-1.jpg
END:VEVENT
END:VCALENDAR