BEGIN:VCALENDAR
VERSION:2.0
PRODID:-//Litchfield Community Center - ECPv6.15.18//NONSGML v1.0//EN
CALSCALE:GREGORIAN
METHOD:PUBLISH
X-ORIGINAL-URL:https://thecommunitycenter.org
X-WR-CALDESC:Events for Litchfield Community Center
REFRESH-INTERVAL;VALUE=DURATION:PT1H
X-Robots-Tag:noindex
X-PUBLISHED-TTL:PT1H
BEGIN:VTIMEZONE
TZID:America/New_York
BEGIN:DAYLIGHT
TZOFFSETFROM:-0500
TZOFFSETTO:-0400
TZNAME:EDT
DTSTART:20250309T070000
END:DAYLIGHT
BEGIN:STANDARD
TZOFFSETFROM:-0400
TZOFFSETTO:-0500
TZNAME:EST
DTSTART:20251102T060000
END:STANDARD
BEGIN:DAYLIGHT
TZOFFSETFROM:-0500
TZOFFSETTO:-0400
TZNAME:EDT
DTSTART:20260308T070000
END:DAYLIGHT
BEGIN:STANDARD
TZOFFSETFROM:-0400
TZOFFSETTO:-0500
TZNAME:EST
DTSTART:20261101T060000
END:STANDARD
BEGIN:DAYLIGHT
TZOFFSETFROM:-0500
TZOFFSETTO:-0400
TZNAME:EDT
DTSTART:20270314T070000
END:DAYLIGHT
BEGIN:STANDARD
TZOFFSETFROM:-0400
TZOFFSETTO:-0500
TZNAME:EST
DTSTART:20271107T060000
END:STANDARD
END:VTIMEZONE
BEGIN:VEVENT
DTSTART;TZID=America/New_York:20260212T103000
DTEND;TZID=America/New_York:20260212T120000
DTSTAMP:20260423T033956
CREATED:20260113T154756Z
LAST-MODIFIED:20260114T213137Z
UID:10004951-1770892200-1770897600@thecommunitycenter.org
SUMMARY:The Final Fifth: For Women 80+
DESCRIPTION:The Final Fifth is a reflective and engaging discussion group designed for women ages 80 and beyond who are interested in connection\, storytelling\, and continued personal growth. This intimate series invites participants to explore the later chapters of life—not only by looking back\, but by honoring who we are still becoming. \nCLICK HERE TO REGISTER \nTogether\, we’ll reflect on questions such as: \n\nWhat are we learning now?\nHow are we continuing to evolve emotionally\, spiritually\, and socially?\nWhat wisdom do we carry\, and how do we want to share it?\n\nThis program offers a welcoming space for meaningful conversation\, laughter\, vulnerability\, and inspiration\, celebrating the richness and fullness of life at this stage. Guided by experienced moderators\, participants will connect with peers in a supportive and thoughtful environment. \nFacilitators: Rosemarie Greco\, Patricia Donovan\, and Tina BernackiSchedule: Thursdays\, 10:30 AM–12:00 PMDates: February 12\, February 26\, and March 12Location: Litchfield Community CenterCapacity: Limited to 10 participantsRegistration: Pre-registration required \n*Please note this program is for individuals who are 80 or older.
URL:https://thecommunitycenter.org/event/the-final-fifth-for-women-80/
LOCATION:Community Room
CATEGORIES:Adults,Free
ATTACH;FMTTYPE=image/jpeg:https://thecommunitycenter.org/wp-content/uploads/2026/01/The-Final-Fifth-program-is-for-women-ages-80-and-limited-to-10-1.jpg
END:VEVENT
BEGIN:VEVENT
DTSTART;TZID=America/New_York:20260212T133000
DTEND;TZID=America/New_York:20260212T153000
DTSTAMP:20260423T033956
CREATED:20260127T151412Z
LAST-MODIFIED:20260127T151414Z
UID:10003710-1770903000-1770910200@thecommunitycenter.org
SUMMARY:Watercolors Group
DESCRIPTION:* CLASS IS FULL. MORNING SESSION AVAILABLE \nThis session runs 8 weeks starting from: Jan. 22\, 2026 thru Mar. 12\, 2026. \nWatercolor is the perfect medium to lose oneself\, explore color\, and serendipitous occurrences\, and share experiences. \nInstructor: Rose Petruzzi.\nBring what materials you have to class.\nEmail Rose at rose4444@icloud.com for a list of suggested materials.
URL:https://thecommunitycenter.org/event/watercolors-group-2-2/2026-02-12/
CATEGORIES:Adults
ATTACH;FMTTYPE=image/jpeg:https://thecommunitycenter.org/wp-content/uploads/2025/09/watercolor-1.jpg
END:VEVENT
BEGIN:VEVENT
DTSTART;TZID=America/New_York:20260212T153000
DTEND;TZID=America/New_York:20260212T163000
DTSTAMP:20260423T033956
CREATED:20260113T154358Z
LAST-MODIFIED:20260113T171620Z
UID:10004950-1770910200-1770913800@thecommunitycenter.org
SUMMARY:Evening Glow - Feb 12th
DESCRIPTION:Evening Glow Music Series \nFeb 12th – 3:30PM \nTrue North Trio featuring: \nPianist\, William Braun \nViolinist\, Artemis Simerson \nCellist\, Julie Ribchinsky \n  \nDonations Welcome! \nClick Here to Register \nPerformances are followed by a reception with refreshments. \nFormed in 2024\, the piano trio True North is passionately dedicated to presenting the best of chamber music repertoire in New England. The three Connecticut musicians had previously performed in various combinations for over 40 years. \nCellist Julie Ribchinsky teaches cello at Wesleyan University\, and is a Professor Emeritus at Central Connecticut State University. A founding member of the Connecticut Trio\, for many decades Ribchinsky performed with violinist Gerard Rosa and pianist Linda Laurent in yearly concerts at the New Britain Museum of American Art. Ribchinsky performs often throughout the area as a soloist and recitalist. \nViolinist Artemis Simerson was the Assistant Concertmaster of the New Haven Symphony for 30 years until 2022\, and she continues to teach violin at Choate Rosemary Hall. She participates in numerous musical performances in the Wall Street Chamber Players and in recordings\, and she is delighted to have time to share her great love of the piano trio repertoire. \nPianist William Braun plays principal keyboards for the New Haven Symphony Orchestra\, and is a professor at The Hartt School of the University of Hartford. He has written more than 300 articles for Opera News magazine. He has made recordings for Koch Classics and the PBS TV series American Masters.
URL:https://thecommunitycenter.org/event/evening-glow-feb-12th/
LOCATION:Atrium
CATEGORIES:Adults,Family/All Ages,Free,Music
ATTACH;FMTTYPE=image/jpeg:https://thecommunitycenter.org/wp-content/uploads/2026/01/true_north.jpg
END:VEVENT
END:VCALENDAR