BEGIN:VCALENDAR
VERSION:2.0
PRODID:-//Litchfield Community Center - ECPv6.15.18//NONSGML v1.0//EN
CALSCALE:GREGORIAN
METHOD:PUBLISH
X-WR-CALNAME:Litchfield Community Center
X-ORIGINAL-URL:https://thecommunitycenter.org
X-WR-CALDESC:Events for Litchfield Community Center
REFRESH-INTERVAL;VALUE=DURATION:PT1H
X-Robots-Tag:noindex
X-PUBLISHED-TTL:PT1H
BEGIN:VTIMEZONE
TZID:America/New_York
BEGIN:DAYLIGHT
TZOFFSETFROM:-0500
TZOFFSETTO:-0400
TZNAME:EDT
DTSTART:20240310T070000
END:DAYLIGHT
BEGIN:STANDARD
TZOFFSETFROM:-0400
TZOFFSETTO:-0500
TZNAME:EST
DTSTART:20241103T060000
END:STANDARD
BEGIN:DAYLIGHT
TZOFFSETFROM:-0500
TZOFFSETTO:-0400
TZNAME:EDT
DTSTART:20250309T070000
END:DAYLIGHT
BEGIN:STANDARD
TZOFFSETFROM:-0400
TZOFFSETTO:-0500
TZNAME:EST
DTSTART:20251102T060000
END:STANDARD
BEGIN:DAYLIGHT
TZOFFSETFROM:-0500
TZOFFSETTO:-0400
TZNAME:EDT
DTSTART:20260308T070000
END:DAYLIGHT
BEGIN:STANDARD
TZOFFSETFROM:-0400
TZOFFSETTO:-0500
TZNAME:EST
DTSTART:20261101T060000
END:STANDARD
END:VTIMEZONE
BEGIN:VEVENT
DTSTART;TZID=America/New_York:20251204T133000
DTEND;TZID=America/New_York:20251204T153000
DTSTAMP:20260421T123415
CREATED:20250911T163315Z
LAST-MODIFIED:20260127T151418Z
UID:10002360-1764855000-1764862200@thecommunitycenter.org
SUMMARY:Watercolors Group
DESCRIPTION:* CLASS IS FULL. MORNING SESSION AVAILABLE \nThis session runs 8 weeks starting from: Oct. 30\, 2025 thru Jan. 8\, 2026. (No class Nov. 27\, Dec. 25\, Jan. 1) \nWatercolor is the perfect medium to lose oneself\, explore color\, and serendipitous occurrences\, and share experiences. \nInstructor: Rose Petruzzi.\nBring what materials you have to class.\nEmail Rose at rose4444@icloud.com for a list of suggested materials.
URL:https://thecommunitycenter.org/event/watercolors-group-2/2025-12-04/
CATEGORIES:Adults
ATTACH;FMTTYPE=image/jpeg:https://thecommunitycenter.org/wp-content/uploads/2025/09/watercolor-1.jpg
END:VEVENT
BEGIN:VEVENT
DTSTART;TZID=America/New_York:20251204T191500
DTEND;TZID=America/New_York:20251204T210000
DTSTAMP:20260421T123415
CREATED:20251120T153222Z
LAST-MODIFIED:20251120T153222Z
UID:10002936-1764875700-1764882000@thecommunitycenter.org
SUMMARY:Beginner Argentine Tango
DESCRIPTION:In this fun and welcoming course\,  you’ll learn the essentials: the tango walk\, the cross\, ochos\, the ocho cortado\, and turns – all while dancing to the music’s phrasing. \n\nNo partner or experience needed – limited to 10 leaders & 10 followers\nOpen embrace\, practice-friendly\nMusicality focus every class\n8 lessons | 1 hour 45 min each | 2x per week\n\nEnd the course with a mini-milonga – your first social tango night! \nCLICK HERE TO REGISTER
URL:https://thecommunitycenter.org/event/beginner-argentine-tango-2/2025-12-04/
CATEGORIES:Adults
ATTACH;FMTTYPE=image/png:https://thecommunitycenter.org/wp-content/uploads/2025/09/Dance-Day-Instagram-Post.png
END:VEVENT
END:VCALENDAR