BEGIN:VCALENDAR
VERSION:2.0
PRODID:-//Litchfield Community Center - ECPv6.15.18//NONSGML v1.0//EN
CALSCALE:GREGORIAN
METHOD:PUBLISH
X-WR-CALNAME:Litchfield Community Center
X-ORIGINAL-URL:https://thecommunitycenter.org
X-WR-CALDESC:Events for Litchfield Community Center
REFRESH-INTERVAL;VALUE=DURATION:PT1H
X-Robots-Tag:noindex
X-PUBLISHED-TTL:PT1H
BEGIN:VTIMEZONE
TZID:America/New_York
BEGIN:DAYLIGHT
TZOFFSETFROM:-0500
TZOFFSETTO:-0400
TZNAME:EDT
DTSTART:20240310T070000
END:DAYLIGHT
BEGIN:STANDARD
TZOFFSETFROM:-0400
TZOFFSETTO:-0500
TZNAME:EST
DTSTART:20241103T060000
END:STANDARD
BEGIN:DAYLIGHT
TZOFFSETFROM:-0500
TZOFFSETTO:-0400
TZNAME:EDT
DTSTART:20250309T070000
END:DAYLIGHT
BEGIN:STANDARD
TZOFFSETFROM:-0400
TZOFFSETTO:-0500
TZNAME:EST
DTSTART:20251102T060000
END:STANDARD
BEGIN:DAYLIGHT
TZOFFSETFROM:-0500
TZOFFSETTO:-0400
TZNAME:EDT
DTSTART:20260308T070000
END:DAYLIGHT
BEGIN:STANDARD
TZOFFSETFROM:-0400
TZOFFSETTO:-0500
TZNAME:EST
DTSTART:20261101T060000
END:STANDARD
END:VTIMEZONE
BEGIN:VEVENT
DTSTART;TZID=America/New_York:20251113T133000
DTEND;TZID=America/New_York:20251113T153000
DTSTAMP:20260420T090112
CREATED:20250911T163315Z
LAST-MODIFIED:20260127T151418Z
UID:10002357-1763040600-1763047800@thecommunitycenter.org
SUMMARY:Watercolors Group
DESCRIPTION:* CLASS IS FULL. MORNING SESSION AVAILABLE \nThis session runs 8 weeks starting from: Oct. 30\, 2025 thru Jan. 8\, 2026. (No class Nov. 27\, Dec. 25\, Jan. 1) \nWatercolor is the perfect medium to lose oneself\, explore color\, and serendipitous occurrences\, and share experiences. \nInstructor: Rose Petruzzi.\nBring what materials you have to class.\nEmail Rose at rose4444@icloud.com for a list of suggested materials.
URL:https://thecommunitycenter.org/event/watercolors-group-2/2025-11-13/
CATEGORIES:Adults
ATTACH;FMTTYPE=image/jpeg:https://thecommunitycenter.org/wp-content/uploads/2025/09/watercolor-1.jpg
END:VEVENT
BEGIN:VEVENT
DTSTART;TZID=America/New_York:20251113T153000
DTEND;TZID=America/New_York:20251113T163000
DTSTAMP:20260420T090112
CREATED:20250820T171350Z
LAST-MODIFIED:20250902T183541Z
UID:10001990-1763047800-1763051400@thecommunitycenter.org
SUMMARY:Evening Glow Series: Wendy Kerner\, Harp
DESCRIPTION:All are welcome to join us for relaxing and reflective music to close the day. \nPerformances are followed by a reception with refreshments. \nWendy Kerner\, Harp \nCLICK HERE TO REGISTER \nComplete Series:\nSept 11: Michael Ford\, Pianist\nOct 9: Apolline Duo Featuring Jennifer Berman\, Flute and Susan Knapp\, Harp\nNov 13: Wendy Kerner\, Harp\nDec 11: TBD \nFebruary 12\, 2026: United States Coast Guard Chamber Band\nMarch 12\, 2026: Entwyned – A Celtic Program\nNote this performance will run 3:30-4:45 and include a complimentary lecture on the history and culture of Ireland’s music\nApril 9\, 2026: Alyce Cognetta Bertz\, Violin & Meg Cognetta Heator\, Piano\nMay 14\, 2026: Mad River Quartet
URL:https://thecommunitycenter.org/event/evening-glow-series-wendy-kerner-harp/
LOCATION:Atrium
CATEGORIES:Adults,Family/All Ages,Free
ATTACH;FMTTYPE=image/jpeg:https://thecommunitycenter.org/wp-content/uploads/2025/08/Wendy_Harp.jpg
END:VEVENT
BEGIN:VEVENT
DTSTART;TZID=America/New_York:20251113T191500
DTEND;TZID=America/New_York:20251113T210000
DTSTAMP:20260420T090112
CREATED:20250925T202838Z
LAST-MODIFIED:20250925T203144Z
UID:10002371-1763061300-1763067600@thecommunitycenter.org
SUMMARY:Beginner Argentine Tango
DESCRIPTION:In this fun and welcoming course\,  you’ll learn the essentials: the tango walk\, the cross\, ochos\, the ocho cortado\, and turns – all while dancing to the music’s phrasing. \n\nNo partner or experience needed – limited to 10 leaders & 10 followers\nOpen embrace\, practice-friendly\nMusicality focus every class\n8 lessons | 1 hour 45 min each | 2x per week\n\nEnd the course with a mini-milonga – your first social tango night! \nCLICK HERE TO REGISTER
URL:https://thecommunitycenter.org/event/beginner-argentine-tango/2025-11-13/
CATEGORIES:Adults
ATTACH;FMTTYPE=image/png:https://thecommunitycenter.org/wp-content/uploads/2025/09/Dance-Day-Instagram-Post.png
END:VEVENT
END:VCALENDAR