BEGIN:VCALENDAR
VERSION:2.0
PRODID:-//Litchfield Community Center - ECPv6.15.18//NONSGML v1.0//EN
CALSCALE:GREGORIAN
METHOD:PUBLISH
X-WR-CALNAME:Litchfield Community Center
X-ORIGINAL-URL:https://thecommunitycenter.org
X-WR-CALDESC:Events for Litchfield Community Center
REFRESH-INTERVAL;VALUE=DURATION:PT1H
X-Robots-Tag:noindex
X-PUBLISHED-TTL:PT1H
BEGIN:VTIMEZONE
TZID:America/New_York
BEGIN:DAYLIGHT
TZOFFSETFROM:-0500
TZOFFSETTO:-0400
TZNAME:EDT
DTSTART:20240310T070000
END:DAYLIGHT
BEGIN:STANDARD
TZOFFSETFROM:-0400
TZOFFSETTO:-0500
TZNAME:EST
DTSTART:20241103T060000
END:STANDARD
BEGIN:DAYLIGHT
TZOFFSETFROM:-0500
TZOFFSETTO:-0400
TZNAME:EDT
DTSTART:20250309T070000
END:DAYLIGHT
BEGIN:STANDARD
TZOFFSETFROM:-0400
TZOFFSETTO:-0500
TZNAME:EST
DTSTART:20251102T060000
END:STANDARD
BEGIN:DAYLIGHT
TZOFFSETFROM:-0500
TZOFFSETTO:-0400
TZNAME:EDT
DTSTART:20260308T070000
END:DAYLIGHT
BEGIN:STANDARD
TZOFFSETFROM:-0400
TZOFFSETTO:-0500
TZNAME:EST
DTSTART:20261101T060000
END:STANDARD
END:VTIMEZONE
BEGIN:VEVENT
DTSTART;TZID=America/New_York:20251103T101500
DTEND;TZID=America/New_York:20251103T111500
DTSTAMP:20260420T091434
CREATED:20250820T154438Z
LAST-MODIFIED:20250820T154438Z
UID:10001892-1762164900-1762168500@thecommunitycenter.org
SUMMARY:Mindfulness Meditation
DESCRIPTION:Instruction & Practice\nMindfulness Meditation\nAll levels of experience welcome\n1st & 3rd Monday of the month \nMonday’s: With Mindfulness Meditation Led by Sheila Klapper \n$5 at the door / Walk-ins welcome \n* Registration appreciated – Walk-ins welcome \nSangha:\nA community of friends practicing together to maintain awareness
URL:https://thecommunitycenter.org/event/mindfulness-meditation-2/2025-11-03/
LOCATION:Community Room
CATEGORIES:Adults
ATTACH;FMTTYPE=image/jpeg:https://thecommunitycenter.org/wp-content/uploads/2025/08/msc-mindfulness.jpg
END:VEVENT
BEGIN:VEVENT
DTSTART;TZID=America/New_York:20251103T123000
DTEND;TZID=America/New_York:20251103T133000
DTSTAMP:20260420T091434
CREATED:20250820T154619Z
LAST-MODIFIED:20250902T174338Z
UID:10001983-1762173000-1762176600@thecommunitycenter.org
SUMMARY:Alzheimer's Support Group
DESCRIPTION:Build a support system with people who understand. \nAlzheimer’s Association support groups\, conducted by trained facilitators\, are a safe place for people living with dementia and their care partners to\n– Develop a support system\n– Exchange practical info on challenges and possible solutions\n– Talk through issues and ways of coping\n– Share feelings\, needs\, and concerns\n– Learn about community resources \nCLICK HERE TO REGISTER
URL:https://thecommunitycenter.org/event/alzheimers-support-group/2025-11-03/
LOCATION:Learning Center
CATEGORIES:Adults,Free
ATTACH;FMTTYPE=image/jpeg:https://thecommunitycenter.org/wp-content/uploads/2025/08/careforth.jpg
END:VEVENT
BEGIN:VEVENT
DTSTART;TZID=America/New_York:20251103T123000
DTEND;TZID=America/New_York:20251103T133000
DTSTAMP:20260420T091434
CREATED:20260105T145848Z
LAST-MODIFIED:20260105T145848Z
UID:10004909-1762173000-1762176600@thecommunitycenter.org
SUMMARY:Alzheimer's Support Group
DESCRIPTION:Build a support system with people who understand. \nAlzheimer’s Association support groups\, conducted by trained facilitators\, are a safe place for people living with dementia and their care partners to\n– Develop a support system\n– Exchange practical info on challenges and possible solutions\n– Talk through issues and ways of coping\n– Share feelings\, needs\, and concerns\n– Learn about community resources \nCLICK HERE TO REGISTER
URL:https://thecommunitycenter.org/event/alzheimers-support-group-2/2025-11-03/
LOCATION:Learning Center
CATEGORIES:Adults,Free
ATTACH;FMTTYPE=image/jpeg:https://thecommunitycenter.org/wp-content/uploads/2025/08/careforth.jpg
END:VEVENT
BEGIN:VEVENT
DTSTART;TZID=America/New_York:20251103T130000
DTEND;TZID=America/New_York:20251103T150000
DTSTAMP:20260420T091434
CREATED:20251030T190518Z
LAST-MODIFIED:20251030T193538Z
UID:10002439-1762174800-1762182000@thecommunitycenter.org
SUMMARY:Movie Mondays ~ The Thursday Murder Club
DESCRIPTION:The Thursday Murder Club – PG-13 (1h 58m)\nFour irrepressible retirees spend their time solving cold case murders for fun\, but their casual sleuthing takes a thrilling turn when they find themselves with a real whodunit on their hands.\nStars: Helen Mirren\, Pierce Brosnan\, Ben Kingsley \n$2.00 suggested donation
URL:https://thecommunitycenter.org/event/movie-mondays-the-thursday-murder-club/
LOCATION:Atrium
CATEGORIES:Adults,Free
ATTACH;FMTTYPE=image/jpeg:https://thecommunitycenter.org/wp-content/uploads/2025/10/Thurs-Murder-Club.jpg
END:VEVENT
BEGIN:VEVENT
DTSTART;TZID=America/New_York:20251103T184500
DTEND;TZID=America/New_York:20251103T210000
DTSTAMP:20260420T091434
CREATED:20250820T164139Z
LAST-MODIFIED:20250820T173639Z
UID:10001982-1762195500-1762203600@thecommunitycenter.org
SUMMARY:Litchfield Audubon Society Meeting
DESCRIPTION:Note: The meetings will be in person and on Zoom. To participate on Zoom\, go to the Calendar section of our website\, lhasct.org\, to register. You will be sent the login link. \nThe meeting times are when refreshments are available. A short business meeting begins at 7 p.m.\, followed by the presentation.
URL:https://thecommunitycenter.org/event/litchfield-audubon-society-meeting-3/2025-11-03/
LOCATION:Atrium
CATEGORIES:Adults,Free
ATTACH;FMTTYPE=image/jpeg:https://thecommunitycenter.org/wp-content/uploads/2025/08/Audubon.jpg
END:VEVENT
END:VCALENDAR