BEGIN:VCALENDAR
VERSION:2.0
PRODID:-//Litchfield Community Center - ECPv6.15.18//NONSGML v1.0//EN
CALSCALE:GREGORIAN
METHOD:PUBLISH
X-WR-CALNAME:Litchfield Community Center
X-ORIGINAL-URL:https://thecommunitycenter.org
X-WR-CALDESC:Events for Litchfield Community Center
REFRESH-INTERVAL;VALUE=DURATION:PT1H
X-Robots-Tag:noindex
X-PUBLISHED-TTL:PT1H
BEGIN:VTIMEZONE
TZID:America/New_York
BEGIN:DAYLIGHT
TZOFFSETFROM:-0500
TZOFFSETTO:-0400
TZNAME:EDT
DTSTART:20240310T070000
END:DAYLIGHT
BEGIN:STANDARD
TZOFFSETFROM:-0400
TZOFFSETTO:-0500
TZNAME:EST
DTSTART:20241103T060000
END:STANDARD
BEGIN:DAYLIGHT
TZOFFSETFROM:-0500
TZOFFSETTO:-0400
TZNAME:EDT
DTSTART:20250309T070000
END:DAYLIGHT
BEGIN:STANDARD
TZOFFSETFROM:-0400
TZOFFSETTO:-0500
TZNAME:EST
DTSTART:20251102T060000
END:STANDARD
BEGIN:DAYLIGHT
TZOFFSETFROM:-0500
TZOFFSETTO:-0400
TZNAME:EDT
DTSTART:20260308T070000
END:DAYLIGHT
BEGIN:STANDARD
TZOFFSETFROM:-0400
TZOFFSETTO:-0500
TZNAME:EST
DTSTART:20261101T060000
END:STANDARD
END:VTIMEZONE
BEGIN:VEVENT
DTSTART;TZID=America/New_York:20251016T133000
DTEND;TZID=America/New_York:20251016T153000
DTSTAMP:20260425T110356
CREATED:20250911T163315Z
LAST-MODIFIED:20260127T151418Z
UID:10002156-1760621400-1760628600@thecommunitycenter.org
SUMMARY:Watercolors Group
DESCRIPTION:* CLASS IS FULL. MORNING SESSION AVAILABLE \nThis session runs 8 weeks starting from: Oct. 30\, 2025 thru Jan. 8\, 2026. (No class Nov. 27\, Dec. 25\, Jan. 1) \nWatercolor is the perfect medium to lose oneself\, explore color\, and serendipitous occurrences\, and share experiences. \nInstructor: Rose Petruzzi.\nBring what materials you have to class.\nEmail Rose at rose4444@icloud.com for a list of suggested materials.
URL:https://thecommunitycenter.org/event/watercolors-group-2/2025-10-16/
CATEGORIES:Adults
ATTACH;FMTTYPE=image/jpeg:https://thecommunitycenter.org/wp-content/uploads/2025/09/watercolor-1.jpg
END:VEVENT
BEGIN:VEVENT
DTSTART;TZID=America/New_York:20251016T140000
DTEND;TZID=America/New_York:20251016T153000
DTSTAMP:20260425T110356
CREATED:20250911T165549Z
LAST-MODIFIED:20250911T170338Z
UID:10002351-1760623200-1760628600@thecommunitycenter.org
SUMMARY:Medicare 2025 Informational Presentation
DESCRIPTION:MEDICARE 2025 \nMedicare is poorly understood and puzzling to many seniors !\nThe basics of Medicare will be explained\, you will learn and understand the different Medicare plan choices and hear about Aetna™s new Advantage plans for 2025. \nUpcoming:\nTuesday Oct. 28 / 10:00am- 11:30am \nSteve Ardussi\, a licensed health insurance broker who is approved to sell Medicare plans offered by all the major carriers in Connecticut\, will make the presentations. He has been helping clients for more than 10 years understand their Medicare options and enroll in the plan that best suits their needs. \nIf you prefer not to attend a presentation\, please leave your name and phone number and Mr. Ardussi will contact you to answer your Medicare questions and provide any other assistance you may need to select your Medicare plan for 2025. \n* Pre registration is appreciated \nClick here to register
URL:https://thecommunitycenter.org/event/medicare-2025-informational-presentation/2025-10-16/
LOCATION:Atrium
CATEGORIES:Adults,Free
ATTACH;FMTTYPE=image/jpeg:https://thecommunitycenter.org/wp-content/uploads/2025/09/medicare.jpg
END:VEVENT
END:VCALENDAR