BEGIN:VCALENDAR
VERSION:2.0
PRODID:-//Litchfield Community Center - ECPv6.15.18//NONSGML v1.0//EN
CALSCALE:GREGORIAN
METHOD:PUBLISH
X-ORIGINAL-URL:https://thecommunitycenter.org
X-WR-CALDESC:Events for Litchfield Community Center
REFRESH-INTERVAL;VALUE=DURATION:PT1H
X-Robots-Tag:noindex
X-PUBLISHED-TTL:PT1H
BEGIN:VTIMEZONE
TZID:America/New_York
BEGIN:DAYLIGHT
TZOFFSETFROM:-0500
TZOFFSETTO:-0400
TZNAME:EDT
DTSTART:20240310T070000
END:DAYLIGHT
BEGIN:STANDARD
TZOFFSETFROM:-0400
TZOFFSETTO:-0500
TZNAME:EST
DTSTART:20241103T060000
END:STANDARD
BEGIN:DAYLIGHT
TZOFFSETFROM:-0500
TZOFFSETTO:-0400
TZNAME:EDT
DTSTART:20250309T070000
END:DAYLIGHT
BEGIN:STANDARD
TZOFFSETFROM:-0400
TZOFFSETTO:-0500
TZNAME:EST
DTSTART:20251102T060000
END:STANDARD
BEGIN:DAYLIGHT
TZOFFSETFROM:-0500
TZOFFSETTO:-0400
TZNAME:EDT
DTSTART:20260308T070000
END:DAYLIGHT
BEGIN:STANDARD
TZOFFSETFROM:-0400
TZOFFSETTO:-0500
TZNAME:EST
DTSTART:20261101T060000
END:STANDARD
END:VTIMEZONE
BEGIN:VEVENT
DTSTART;TZID=America/New_York:20251015T100000
DTEND;TZID=America/New_York:20251015T140000
DTSTAMP:20260425T112225
CREATED:20250729T182414Z
LAST-MODIFIED:20251126T143717Z
UID:10001001-1760522400-1760536800@thecommunitycenter.org
SUMMARY:Duplicate Bridge
DESCRIPTION:Cost: $6*\nBring a partner\, bring a lunch!\nFacilitated by David Bill.
URL:https://thecommunitycenter.org/event/duplicate-bridge/2025-10-15/
LOCATION:Community Room
CATEGORIES:Adults
ATTACH;FMTTYPE=image/jpeg:https://thecommunitycenter.org/wp-content/uploads/2025/07/IMG_1353-scaled.jpeg
END:VEVENT
BEGIN:VEVENT
DTSTART;TZID=America/New_York:20251015T180000
DTEND;TZID=America/New_York:20251015T193000
DTSTAMP:20260425T112225
CREATED:20250820T161050Z
LAST-MODIFIED:20250902T181836Z
UID:10001963-1760551200-1760556600@thecommunitycenter.org
SUMMARY:Twilight Talks & Presentations Series: Knit As To Turn Water
DESCRIPTION:* Pre-registration is advised \nKnit As To Turn Water: The History of New England’s Maritime Knitting. \nIt followed the fish\, the flight paths of immigrants\, the sea-lanes of war: the knitted clothing of New England reflects maritime cultures the world over. Rich with origin mythology and salty with sailors’ yarns\, garments like nippers\, half-handers\, and the infamous fisherman’s sweater each hold a romantic yet real place in our coastal history. Explore knitting a WWI submariner’s outfit with the Navy League! Imagine learning to knit with a pair of whalebone needles you carved yourself! Join Rebecca Bayreuther\nDonohue\, historian & knitter\, for an ode to wool and marvel once again at how the sea connects us all. A PowerPoint chronology comes to life with examples of breed-specific yarns and recreated garments. \nRebecca Bayreuther Donohue of Niantic has knit historical garments in between setting sails aboard New Bedford whalers\, splitting codfish aboard Grand Banks fishing schooners\, and lounging on O’Day Mariners. After more than 20 years at a major Connecticut maritime museum\, she co-founded the Dirty Blue Shirts living history collective\, whose participatory programs encompass everything from historic fashion & foodways to maritime culture & shipboard skills. Rebecca’s personal interest in historical\nhand-knitting stems from always being cold\, no matter what century she’s interpreting. With all the plastic in today’s oceans\, she thinks it’s time to revisit wool as the preeminent fiber of sustainability\,\nversatility\, and global community. \nDonations will be accepted at the Door – CLICK HERE TO REGISTER
URL:https://thecommunitycenter.org/event/twilight-talks-presentations-series-knit-as-to-turn-water/
LOCATION:Atrium
CATEGORIES:Adults,Free
ATTACH;FMTTYPE=image/jpeg:https://thecommunitycenter.org/wp-content/uploads/2025/08/Knit.jpg
END:VEVENT
END:VCALENDAR