BEGIN:VCALENDAR
VERSION:2.0
PRODID:-//Litchfield Community Center - ECPv6.15.18//NONSGML v1.0//EN
CALSCALE:GREGORIAN
METHOD:PUBLISH
X-WR-CALNAME:Litchfield Community Center
X-ORIGINAL-URL:https://thecommunitycenter.org
X-WR-CALDESC:Events for Litchfield Community Center
REFRESH-INTERVAL;VALUE=DURATION:PT1H
X-Robots-Tag:noindex
X-PUBLISHED-TTL:PT1H
BEGIN:VTIMEZONE
TZID:America/New_York
BEGIN:DAYLIGHT
TZOFFSETFROM:-0500
TZOFFSETTO:-0400
TZNAME:EDT
DTSTART:20240310T070000
END:DAYLIGHT
BEGIN:STANDARD
TZOFFSETFROM:-0400
TZOFFSETTO:-0500
TZNAME:EST
DTSTART:20241103T060000
END:STANDARD
BEGIN:DAYLIGHT
TZOFFSETFROM:-0500
TZOFFSETTO:-0400
TZNAME:EDT
DTSTART:20250309T070000
END:DAYLIGHT
BEGIN:STANDARD
TZOFFSETFROM:-0400
TZOFFSETTO:-0500
TZNAME:EST
DTSTART:20251102T060000
END:STANDARD
BEGIN:DAYLIGHT
TZOFFSETFROM:-0500
TZOFFSETTO:-0400
TZNAME:EDT
DTSTART:20260308T070000
END:DAYLIGHT
BEGIN:STANDARD
TZOFFSETFROM:-0400
TZOFFSETTO:-0500
TZNAME:EST
DTSTART:20261101T060000
END:STANDARD
END:VTIMEZONE
BEGIN:VEVENT
DTSTART;TZID=America/New_York:20251007T100000
DTEND;TZID=America/New_York:20251007T113000
DTSTAMP:20260424T163420
CREATED:20250820T155050Z
LAST-MODIFIED:20250902T175513Z
UID:10001954-1759831200-1759836600@thecommunitycenter.org
SUMMARY:Tent Talk: PT Connect - Free Balance Screenings
DESCRIPTION:Free Balance Screenings & “Don’t let your balance slip away!” \nCome listen to Amber Hayes from Connect PT discuss maintenance of balance and decreasing fall risk.\nThis 1.5 hour session will include education as well as active participation in balance testing. \nGroup participation on the balance assessment would require pt to stand unassisted without use of cane/walker. \nIndividual Balance Screenings.\nCall for an appt.\n11:30\, 11:50\, 12:10\, 12:30 \n* Pre-registration is advised – CLICK HERE TO REGISTER
URL:https://thecommunitycenter.org/event/tent-talk-pt-connect-free-balance-screenings/
LOCATION:Atrium
CATEGORIES:Adults,Free
ATTACH;FMTTYPE=image/jpeg:https://thecommunitycenter.org/wp-content/uploads/2025/08/Connect_PT.jpg
END:VEVENT
END:VCALENDAR