BEGIN:VCALENDAR
VERSION:2.0
PRODID:-//Litchfield Community Center - ECPv6.15.18//NONSGML v1.0//EN
CALSCALE:GREGORIAN
METHOD:PUBLISH
X-WR-CALNAME:Litchfield Community Center
X-ORIGINAL-URL:https://thecommunitycenter.org
X-WR-CALDESC:Events for Litchfield Community Center
REFRESH-INTERVAL;VALUE=DURATION:PT1H
X-Robots-Tag:noindex
X-PUBLISHED-TTL:PT1H
BEGIN:VTIMEZONE
TZID:America/New_York
BEGIN:DAYLIGHT
TZOFFSETFROM:-0500
TZOFFSETTO:-0400
TZNAME:EDT
DTSTART:20240310T070000
END:DAYLIGHT
BEGIN:STANDARD
TZOFFSETFROM:-0400
TZOFFSETTO:-0500
TZNAME:EST
DTSTART:20241103T060000
END:STANDARD
BEGIN:DAYLIGHT
TZOFFSETFROM:-0500
TZOFFSETTO:-0400
TZNAME:EDT
DTSTART:20250309T070000
END:DAYLIGHT
BEGIN:STANDARD
TZOFFSETFROM:-0400
TZOFFSETTO:-0500
TZNAME:EST
DTSTART:20251102T060000
END:STANDARD
BEGIN:DAYLIGHT
TZOFFSETFROM:-0500
TZOFFSETTO:-0400
TZNAME:EDT
DTSTART:20260308T070000
END:DAYLIGHT
BEGIN:STANDARD
TZOFFSETFROM:-0400
TZOFFSETTO:-0500
TZNAME:EST
DTSTART:20261101T060000
END:STANDARD
END:VTIMEZONE
BEGIN:VEVENT
DTSTART;TZID=America/New_York:20251001T100000
DTEND;TZID=America/New_York:20251001T140000
DTSTAMP:20260424T210555
CREATED:20250729T182414Z
LAST-MODIFIED:20251126T143717Z
UID:10000999-1759312800-1759327200@thecommunitycenter.org
SUMMARY:Duplicate Bridge
DESCRIPTION:Cost: $6*\nBring a partner\, bring a lunch!\nFacilitated by David Bill.
URL:https://thecommunitycenter.org/event/duplicate-bridge/2025-10-01/
LOCATION:Community Room
CATEGORIES:Adults
ATTACH;FMTTYPE=image/jpeg:https://thecommunitycenter.org/wp-content/uploads/2025/07/IMG_1353-scaled.jpeg
END:VEVENT
BEGIN:VEVENT
DTSTART;TZID=America/New_York:20251001T150000
DTEND;TZID=America/New_York:20251001T160000
DTSTAMP:20260424T210555
CREATED:20250820T153421Z
LAST-MODIFIED:20250902T171813Z
UID:10001879-1759330800-1759334400@thecommunitycenter.org
SUMMARY:Culturally Curious Art Lecture Series: Impossible Realities: The Art of M.C. Escher
DESCRIPTION:Impossible Realities: The Art of M.C. Escher\nM.C. Escher\, the Dutch graphic artist\, was a master of mind-bending creations\, blending art and mathematics. Born in 1898\, Escher’s journey from a struggling student to a renowned artist is as fascinating as his intricate lithographs and woodcuts.\nThis program will explore Escher’s life\, his unique artistic vision\, and the mathematical concepts that underpin his most famous works\, offering a glimpse into the imagination of one of the 20th century’s most innovative artists. \nAbout the presenter:\nJane Oneail is a sought-after speaker\, educator\, and independent art historian. Jane curates and delivers engaging art appreciation programs through her company Culturally Curious\, founded in 2017. Jane holds a master’s in Art History from Boston University and a master’s in Education from Harvard University. Born and raised in NH\, she has worked at some of the state’s most esteemed cultural institutions\, including the League of New Hampshire Craftsmen\, where she served as Executive Director\, and the Currier Museum of Art\, where she held the role of Senior Educator. Jane has also taught at the college level for more than a decade\, most recently at Southern New Hampshire University. \nFor more information visit: iamculturallycurious.com \nDonations welcome at door. \n* Pre-registration is advised \nCLICK HERE TO REGISTER
URL:https://thecommunitycenter.org/event/culturally-curious-art-lecture-series-impossible-realities-the-art-of-m-c-escher/
CATEGORIES:Adults,Free
ATTACH;FMTTYPE=image/jpeg:https://thecommunitycenter.org/wp-content/uploads/2025/08/drawing_hands.jpg
END:VEVENT
BEGIN:VEVENT
DTSTART;TZID=America/New_York:20251001T170000
DTEND;TZID=America/New_York:20251001T200000
DTSTAMP:20260424T210556
CREATED:20250820T153225Z
LAST-MODIFIED:20250820T153225Z
UID:10001878-1759338000-1759348800@thecommunitycenter.org
SUMMARY:Thai Cooking Class
DESCRIPTION:Cost: $60.00* Pre-registration and pre-payment required \nJoin Jeanine Kelly for a fun and social cooking class designed to expand your palette! \nPlease register on Active Health’s website at https://tinyurl.com/mtuwdta
URL:https://thecommunitycenter.org/event/thai-cooking-class/
LOCATION:Kitchen
CATEGORIES:Adults
ATTACH;FMTTYPE=image/jpeg:https://thecommunitycenter.org/wp-content/uploads/2025/08/Thai_Cooking_Oct_2025.jpg
END:VEVENT
END:VCALENDAR