BEGIN:VCALENDAR
VERSION:2.0
PRODID:-//Litchfield Community Center - ECPv6.15.18//NONSGML v1.0//EN
CALSCALE:GREGORIAN
METHOD:PUBLISH
X-WR-CALNAME:Litchfield Community Center
X-ORIGINAL-URL:https://thecommunitycenter.org
X-WR-CALDESC:Events for Litchfield Community Center
REFRESH-INTERVAL;VALUE=DURATION:PT1H
X-Robots-Tag:noindex
X-PUBLISHED-TTL:PT1H
BEGIN:VTIMEZONE
TZID:America/New_York
BEGIN:DAYLIGHT
TZOFFSETFROM:-0500
TZOFFSETTO:-0400
TZNAME:EDT
DTSTART:20240310T070000
END:DAYLIGHT
BEGIN:STANDARD
TZOFFSETFROM:-0400
TZOFFSETTO:-0500
TZNAME:EST
DTSTART:20241103T060000
END:STANDARD
BEGIN:DAYLIGHT
TZOFFSETFROM:-0500
TZOFFSETTO:-0400
TZNAME:EDT
DTSTART:20250309T070000
END:DAYLIGHT
BEGIN:STANDARD
TZOFFSETFROM:-0400
TZOFFSETTO:-0500
TZNAME:EST
DTSTART:20251102T060000
END:STANDARD
BEGIN:DAYLIGHT
TZOFFSETFROM:-0500
TZOFFSETTO:-0400
TZNAME:EDT
DTSTART:20260308T070000
END:DAYLIGHT
BEGIN:STANDARD
TZOFFSETFROM:-0400
TZOFFSETTO:-0500
TZNAME:EST
DTSTART:20261101T060000
END:STANDARD
END:VTIMEZONE
BEGIN:VEVENT
DTSTART;TZID=America/New_York:20250912T100000
DTEND;TZID=America/New_York:20250912T113000
DTSTAMP:20260424T202036
CREATED:20250818T175757Z
LAST-MODIFIED:20250820T174643Z
UID:10001433-1757671200-1757676600@thecommunitycenter.org
SUMMARY:Write and Share- Creative Poetry Group
DESCRIPTION:Calling all poems and writers! \nAll experience levels are welcome\, come learn how to write poems or take the time to creatively \nBring your previous poems and a pen to write new ones. \nCome take some time to explore your talent and share it with others. \nGroup meets every Friday from 10 am – 11:30 am
URL:https://thecommunitycenter.org/event/write-and-share-creative-poetry-group-2/2025-09-12/
LOCATION:Learning Center
CATEGORIES:Adults,Free
ATTACH;FMTTYPE=image/jpeg:https://thecommunitycenter.org/wp-content/uploads/2025/07/poetry.jpg
END:VEVENT
BEGIN:VEVENT
DTSTART;TZID=America/New_York:20250912T180000
DTEND;TZID=America/New_York:20250912T200000
DTSTAMP:20260424T202036
CREATED:20250818T200137Z
LAST-MODIFIED:20250818T200603Z
UID:10001586-1757700000-1757707200@thecommunitycenter.org
SUMMARY:Summer Sunset Concerts ~ Potter's Field
DESCRIPTION:Local favorite performing cover songs & originals\nwith amazing harmony and vocals. \nFood Truck: Meraki \nBYOB & lawn chairs\, blanket\nRain (Indoors) or Shine \nFull Summer Sunset Concert Series: \nFriday June 13: Scott Hopkins Trio\nThursday June 19: Nekita Waller & Band\nFriday July 25: Caribbean Vibe Steel Drum Band\nFriday August 22: Al Fenton Big Band\nFriday September 12: Potter’s Field
URL:https://thecommunitycenter.org/event/summer-sunset-concerts-potters-field/
LOCATION:Tent
CATEGORIES:Adults,Family/All Ages,Free
ATTACH;FMTTYPE=image/jpeg:https://thecommunitycenter.org/wp-content/uploads/2025/08/Potters_Field.jpg
END:VEVENT
END:VCALENDAR