BEGIN:VCALENDAR
VERSION:2.0
PRODID:-//Litchfield Community Center - ECPv6.15.18//NONSGML v1.0//EN
CALSCALE:GREGORIAN
METHOD:PUBLISH
X-ORIGINAL-URL:https://thecommunitycenter.org
X-WR-CALDESC:Events for Litchfield Community Center
REFRESH-INTERVAL;VALUE=DURATION:PT1H
X-Robots-Tag:noindex
X-PUBLISHED-TTL:PT1H
BEGIN:VTIMEZONE
TZID:America/New_York
BEGIN:DAYLIGHT
TZOFFSETFROM:-0500
TZOFFSETTO:-0400
TZNAME:EDT
DTSTART:20240310T070000
END:DAYLIGHT
BEGIN:STANDARD
TZOFFSETFROM:-0400
TZOFFSETTO:-0500
TZNAME:EST
DTSTART:20241103T060000
END:STANDARD
BEGIN:DAYLIGHT
TZOFFSETFROM:-0500
TZOFFSETTO:-0400
TZNAME:EDT
DTSTART:20250309T070000
END:DAYLIGHT
BEGIN:STANDARD
TZOFFSETFROM:-0400
TZOFFSETTO:-0500
TZNAME:EST
DTSTART:20251102T060000
END:STANDARD
BEGIN:DAYLIGHT
TZOFFSETFROM:-0500
TZOFFSETTO:-0400
TZNAME:EDT
DTSTART:20260308T070000
END:DAYLIGHT
BEGIN:STANDARD
TZOFFSETFROM:-0400
TZOFFSETTO:-0500
TZNAME:EST
DTSTART:20261101T060000
END:STANDARD
END:VTIMEZONE
BEGIN:VEVENT
DTSTART;TZID=America/New_York:20250904T133000
DTEND;TZID=America/New_York:20250904T153000
DTSTAMP:20260425T152005
CREATED:20250818T174950Z
LAST-MODIFIED:20250818T175212Z
UID:10001456-1756992600-1756999800@thecommunitycenter.org
SUMMARY:Watercolors Group
DESCRIPTION:Cost: $160/8 Weeks\n* CLASS IS FULL. MORNING SESSION AVAILABLE \nThis session runs 8 weeks starting from: \nWatercolor is the perfect medium to lose oneself\, explore color\, and serendipitous occurrences\, and share experiences. \nInstructor: Rose Petruzzi.\nBring what materials you have to class.\nEmail Rose at rose4444@icloud.com for a list of suggested materials.
URL:https://thecommunitycenter.org/event/watercolors-group/
LOCATION:Learning Center
CATEGORIES:Adults
ATTACH;FMTTYPE=image/jpeg:https://thecommunitycenter.org/wp-content/uploads/2025/08/watercolor.jpg
END:VEVENT
END:VCALENDAR