BEGIN:VCALENDAR
VERSION:2.0
PRODID:-//Litchfield Community Center - ECPv6.15.18//NONSGML v1.0//EN
CALSCALE:GREGORIAN
METHOD:PUBLISH
X-WR-CALNAME:Litchfield Community Center
X-ORIGINAL-URL:https://thecommunitycenter.org
X-WR-CALDESC:Events for Litchfield Community Center
REFRESH-INTERVAL;VALUE=DURATION:PT1H
X-Robots-Tag:noindex
X-PUBLISHED-TTL:PT1H
BEGIN:VTIMEZONE
TZID:America/New_York
BEGIN:DAYLIGHT
TZOFFSETFROM:-0500
TZOFFSETTO:-0400
TZNAME:EDT
DTSTART:20250309T070000
END:DAYLIGHT
BEGIN:STANDARD
TZOFFSETFROM:-0400
TZOFFSETTO:-0500
TZNAME:EST
DTSTART:20251102T060000
END:STANDARD
BEGIN:DAYLIGHT
TZOFFSETFROM:-0500
TZOFFSETTO:-0400
TZNAME:EDT
DTSTART:20260308T070000
END:DAYLIGHT
BEGIN:STANDARD
TZOFFSETFROM:-0400
TZOFFSETTO:-0500
TZNAME:EST
DTSTART:20261101T060000
END:STANDARD
BEGIN:DAYLIGHT
TZOFFSETFROM:-0500
TZOFFSETTO:-0400
TZNAME:EDT
DTSTART:20270314T070000
END:DAYLIGHT
BEGIN:STANDARD
TZOFFSETFROM:-0400
TZOFFSETTO:-0500
TZNAME:EST
DTSTART:20271107T060000
END:STANDARD
END:VTIMEZONE
BEGIN:VEVENT
DTSTART;TZID=America/New_York:20260722T090000
DTEND;TZID=America/New_York:20260722T100000
DTSTAMP:20260423T235651
CREATED:20250612T181029Z
LAST-MODIFIED:20251125T174932Z
UID:10003056-1784710800-1784714400@thecommunitycenter.org
SUMMARY:Yoga for Fitness and Mindfulness with Wendy
DESCRIPTION:Visit Wendy @ Yoga With Wendy \nClasses are Mondays and Wednesdays.\nA yoga class conducted in a casual\, practical\, fun atmosphere. Students are encouraged to breathe and stretch to their potential that day. Modifications are always offered. Suitable for people who are beginners to experienced in a yoga practice. \n  \n$15 per class.
URL:https://thecommunitycenter.org/event/yoga-for-fitness-and-mindfulness-with-wendy/2026-07-22/
LOCATION:Atrium
CATEGORIES:Exercise
ATTACH;FMTTYPE=image/jpeg:https://thecommunitycenter.org/wp-content/uploads/2025/06/Wendy_Larsen_Yoga-0.jpg
END:VEVENT
BEGIN:VEVENT
DTSTART;TZID=America/New_York:20260722T090000
DTEND;TZID=America/New_York:20260722T110000
DTSTAMP:20260423T235651
CREATED:20260312T185107Z
LAST-MODIFIED:20260312T185259Z
UID:10005796-1784710800-1784718000@thecommunitycenter.org
SUMMARY:Roots of Wonder Gardening Program (Ages 5-8)
DESCRIPTION:Roots of Wonder Garden Sessions is a hands-on gardening program designed for children ages 5–8 at the Litchfield Community Gardens. Through weekly outdoor sessions\, kids will explore how food grows while learning basic gardening skills such as planting\, watering\, harvesting\, and caring for plants. \nParticipants will work together in the garden\, discovering where their food comes from and gaining an appreciation for nature through engaging\, interactive activities. The program encourages curiosity\, teamwork\, and a connection to the natural world. \nSessions run from May 6 to July 29. From May 6 through June 24\, the program meets on Wednesdays from 4:00–6:00 PM. Beginning June 27\, the time shifts to 9:00–11:00 AM. \nSessions will Be Held on Saturday\, June 24th\, Saturday\, July 11th\, and July 25th \nThe cost for the full session is $300. \nCLICK HERE TO REGISTER \nThis drop-off program takes place at the Litchfield Community Gardens. Children will spend time planting\, tending garden beds\, and learning through hands-on experiences in a welcoming outdoor environment.
URL:https://thecommunitycenter.org/event/roots-of-wonder-gardening-program-ages-5-8/2026-07-22/
LOCATION:Communirty Garden
CATEGORIES:Exercise,Youth
ATTACH;FMTTYPE=image/jpeg:https://thecommunitycenter.org/wp-content/uploads/2026/03/ROW-Garden.jpg
END:VEVENT
BEGIN:VEVENT
DTSTART;TZID=America/New_York:20260722T093000
DTEND;TZID=America/New_York:20260722T120000
DTSTAMP:20260423T235651
CREATED:20251125T150333Z
LAST-MODIFIED:20251125T150641Z
UID:10002944-1784712600-1784721600@thecommunitycenter.org
SUMMARY:Free Hearing Screenings
DESCRIPTION:Free Comprehensive Hearing Screening! Call 860-567-8302 to book your 20 minute appointment between 9:30-12pm.\n\n\n\n\nHearing Care Centers will be on site at Litchfield Community Center to offer free comprehensive hearing screenings\, a series of tests that assess an individual’s ability to hear sounds and understand speech. The screening typically includes a range of tests such as pure-tone audiometry\, speech audiometry\, and middle ear testing. The purpose of the screening is to determine whether an individual has any hearing loss and the extent of the hearing loss. \nComprehensive hearing screening is important because hearing loss can have a significant impact on an individual’s quality of life. It can affect an individual’s ability to communicate effectively\, participate in social activities\, and perform daily tasks. Early detection of hearing loss can help prevent these negative impacts by allowing for prompt treatment\, such as hearing aids or cochlear implants\, which can improve an individual’s ability to hear and communicate. Additionally\, early detection of hearing loss can help identify any underlying medical conditions that may be causing the hearing loss and allow for timely treatment of those conditions. Overall\, comprehensive hearing screening is an important tool in maintaining overall health and wellbeing.
URL:https://thecommunitycenter.org/event/free-hearing-screenings/2026-07-22/
LOCATION:Learning Center
CATEGORIES:Adults,Family/All Ages,Free
ATTACH;FMTTYPE=image/png:https://thecommunitycenter.org/wp-content/uploads/2025/11/hearing-logo.png
END:VEVENT
BEGIN:VEVENT
DTSTART;TZID=America/New_York:20260722T100000
DTEND;TZID=America/New_York:20260722T140000
DTSTAMP:20260423T235651
CREATED:20250729T182414Z
LAST-MODIFIED:20251126T143717Z
UID:10003481-1784714400-1784728800@thecommunitycenter.org
SUMMARY:Duplicate Bridge
DESCRIPTION:Cost: $6*\nBring a partner\, bring a lunch!\nFacilitated by David Bill.
URL:https://thecommunitycenter.org/event/duplicate-bridge/2026-07-22/
LOCATION:Community Room
CATEGORIES:Adults
ATTACH;FMTTYPE=image/jpeg:https://thecommunitycenter.org/wp-content/uploads/2025/07/IMG_1353-scaled.jpeg
END:VEVENT
BEGIN:VEVENT
DTSTART;TZID=America/New_York:20260722T103000
DTEND;TZID=America/New_York:20260722T111500
DTSTAMP:20260423T235651
CREATED:20250729T183113Z
LAST-MODIFIED:20251126T144310Z
UID:10003532-1784716200-1784718900@thecommunitycenter.org
SUMMARY:Tai Chi with Marie
DESCRIPTION:Marie Boyens leads a light Tai Chi exercise each week focusing on reflexology and meditation.\nThis class is free. \n 
URL:https://thecommunitycenter.org/event/tai-chi-with-marie/2026-07-22/
LOCATION:Atrium
ATTACH;FMTTYPE=image/jpeg:https://thecommunitycenter.org/wp-content/uploads/2025/07/tai-chi.jpeg
END:VEVENT
END:VCALENDAR