BEGIN:VCALENDAR
VERSION:2.0
PRODID:-//Litchfield Community Center - ECPv6.15.18//NONSGML v1.0//EN
CALSCALE:GREGORIAN
METHOD:PUBLISH
X-ORIGINAL-URL:https://thecommunitycenter.org
X-WR-CALDESC:Events for Litchfield Community Center
REFRESH-INTERVAL;VALUE=DURATION:PT1H
X-Robots-Tag:noindex
X-PUBLISHED-TTL:PT1H
BEGIN:VTIMEZONE
TZID:America/New_York
BEGIN:DAYLIGHT
TZOFFSETFROM:-0500
TZOFFSETTO:-0400
TZNAME:EDT
DTSTART:20250309T070000
END:DAYLIGHT
BEGIN:STANDARD
TZOFFSETFROM:-0400
TZOFFSETTO:-0500
TZNAME:EST
DTSTART:20251102T060000
END:STANDARD
BEGIN:DAYLIGHT
TZOFFSETFROM:-0500
TZOFFSETTO:-0400
TZNAME:EDT
DTSTART:20260308T070000
END:DAYLIGHT
BEGIN:STANDARD
TZOFFSETFROM:-0400
TZOFFSETTO:-0500
TZNAME:EST
DTSTART:20261101T060000
END:STANDARD
BEGIN:DAYLIGHT
TZOFFSETFROM:-0500
TZOFFSETTO:-0400
TZNAME:EDT
DTSTART:20270314T070000
END:DAYLIGHT
BEGIN:STANDARD
TZOFFSETFROM:-0400
TZOFFSETTO:-0500
TZNAME:EST
DTSTART:20271107T060000
END:STANDARD
END:VTIMEZONE
BEGIN:VEVENT
DTSTART;TZID=America/New_York:20260711T090000
DTEND;TZID=America/New_York:20260711T110000
DTSTAMP:20260423T235551
CREATED:20260312T185107Z
LAST-MODIFIED:20260312T185259Z
UID:10005794-1783760400-1783767600@thecommunitycenter.org
SUMMARY:Roots of Wonder Gardening Program (Ages 5-8)
DESCRIPTION:Roots of Wonder Garden Sessions is a hands-on gardening program designed for children ages 5–8 at the Litchfield Community Gardens. Through weekly outdoor sessions\, kids will explore how food grows while learning basic gardening skills such as planting\, watering\, harvesting\, and caring for plants. \nParticipants will work together in the garden\, discovering where their food comes from and gaining an appreciation for nature through engaging\, interactive activities. The program encourages curiosity\, teamwork\, and a connection to the natural world. \nSessions run from May 6 to July 29. From May 6 through June 24\, the program meets on Wednesdays from 4:00–6:00 PM. Beginning June 27\, the time shifts to 9:00–11:00 AM. \nSessions will Be Held on Saturday\, June 24th\, Saturday\, July 11th\, and July 25th \nThe cost for the full session is $300. \nCLICK HERE TO REGISTER \nThis drop-off program takes place at the Litchfield Community Gardens. Children will spend time planting\, tending garden beds\, and learning through hands-on experiences in a welcoming outdoor environment.
URL:https://thecommunitycenter.org/event/roots-of-wonder-gardening-program-ages-5-8/2026-07-11/
LOCATION:Communirty Garden
CATEGORIES:Exercise,Youth
ATTACH;FMTTYPE=image/jpeg:https://thecommunitycenter.org/wp-content/uploads/2026/03/ROW-Garden.jpg
END:VEVENT
BEGIN:VEVENT
DTSTART;TZID=America/New_York:20260711T180000
DTEND;TZID=America/New_York:20260711T220000
DTSTAMP:20260423T235551
CREATED:20260204T202225Z
LAST-MODIFIED:20260205T141152Z
UID:10005546-1783792800-1783807200@thecommunitycenter.org
SUMMARY:SummerFest Sponsorship 2026
DESCRIPTION:“THE WILD\, WILD WEST” \nSUMMERFEST  JULY 11th 2026 \nSponsorship Levels: \n“Top Maverick” – $2\,500 includes 10 tickets \n“Wonderful Wrangler” – $1\,500 includes 8 tickets \n“Best Buckaroo” – $750 includes 6 tickets \n“Super Saddler” – $500 includes 4 tickets \n“Dynamite Dude” – $250 includes 2 tickets \n  \nClick here to be a Sponsor \n*Due by May 1\, 2026 to be included on printed material
URL:https://thecommunitycenter.org/event/summerfest-sponsorship-2026/
CATEGORIES:Adults
ATTACH;FMTTYPE=image/jpeg:https://thecommunitycenter.org/wp-content/uploads/2026/02/THE-WILD-WILD-WEST.jpg
END:VEVENT
END:VCALENDAR