BEGIN:VCALENDAR
VERSION:2.0
PRODID:-//Litchfield Community Center - ECPv6.15.18//NONSGML v1.0//EN
CALSCALE:GREGORIAN
METHOD:PUBLISH
X-WR-CALNAME:Litchfield Community Center
X-ORIGINAL-URL:https://thecommunitycenter.org
X-WR-CALDESC:Events for Litchfield Community Center
REFRESH-INTERVAL;VALUE=DURATION:PT1H
X-Robots-Tag:noindex
X-PUBLISHED-TTL:PT1H
BEGIN:VTIMEZONE
TZID:America/New_York
BEGIN:DAYLIGHT
TZOFFSETFROM:-0500
TZOFFSETTO:-0400
TZNAME:EDT
DTSTART:20250309T070000
END:DAYLIGHT
BEGIN:STANDARD
TZOFFSETFROM:-0400
TZOFFSETTO:-0500
TZNAME:EST
DTSTART:20251102T060000
END:STANDARD
BEGIN:DAYLIGHT
TZOFFSETFROM:-0500
TZOFFSETTO:-0400
TZNAME:EDT
DTSTART:20260308T070000
END:DAYLIGHT
BEGIN:STANDARD
TZOFFSETFROM:-0400
TZOFFSETTO:-0500
TZNAME:EST
DTSTART:20261101T060000
END:STANDARD
BEGIN:DAYLIGHT
TZOFFSETFROM:-0500
TZOFFSETTO:-0400
TZNAME:EDT
DTSTART:20270314T070000
END:DAYLIGHT
BEGIN:STANDARD
TZOFFSETFROM:-0400
TZOFFSETTO:-0500
TZNAME:EST
DTSTART:20271107T060000
END:STANDARD
END:VTIMEZONE
BEGIN:VEVENT
DTSTART;TZID=America/New_York:20260422T090000
DTEND;TZID=America/New_York:20260422T100000
DTSTAMP:20260422T171229
CREATED:20250612T181029Z
LAST-MODIFIED:20251125T174932Z
UID:10003030-1776848400-1776852000@thecommunitycenter.org
SUMMARY:Yoga for Fitness and Mindfulness with Wendy
DESCRIPTION:Visit Wendy @ Yoga With Wendy \nClasses are Mondays and Wednesdays.\nA yoga class conducted in a casual\, practical\, fun atmosphere. Students are encouraged to breathe and stretch to their potential that day. Modifications are always offered. Suitable for people who are beginners to experienced in a yoga practice. \n  \n$15 per class.
URL:https://thecommunitycenter.org/event/yoga-for-fitness-and-mindfulness-with-wendy/2026-04-22/
LOCATION:Atrium
CATEGORIES:Exercise
ATTACH;FMTTYPE=image/jpeg:https://thecommunitycenter.org/wp-content/uploads/2025/06/Wendy_Larsen_Yoga-0.jpg
END:VEVENT
BEGIN:VEVENT
DTSTART;TZID=America/New_York:20260422T090000
DTEND;TZID=America/New_York:20260422T110000
DTSTAMP:20260422T171229
CREATED:20260402T153503Z
LAST-MODIFIED:20260402T165225Z
UID:10005885-1776848400-1776855600@thecommunitycenter.org
SUMMARY:Pumpkin Workshop: 4/22
DESCRIPTION:Please join us in learning how to plant vegetable seeds\, particularly a heritage pumpkin variety called Connecticut Field pumpkins. This pumpkin will have its own class at the Litchfield Garden Club’s flower show called Celebrating Connecticut. The Flower Show will take place this September the 18th but entries will be accepted on the 17th also.\n\n\nJoin Kate in this fun and informative workshop!\n\nFree\, registration required\n\nClick Here to Register\n\n\nKate Jamison Horticulture Chair\, Litchfield Garden Club.\nKate has worked in plant nurseries all my adult life\, all different places growing and selling in retail and wholesale businesses. She completed a 2 yr program at the New York Botanical gardens. She loves all plants\, hardy plants\, non hardy/tropical plants as well as vegetable gardening. She has also been a member of the Garden Clubs of America for more than 30 years and has taught and chaired many horticulture projects.
URL:https://thecommunitycenter.org/event/pumpkin-workshop-4-22/
LOCATION:Learning Center
CATEGORIES:Adults,Free
ATTACH;FMTTYPE=image/png:https://thecommunitycenter.org/wp-content/uploads/2026/04/pumpkin-workshop-1.png
END:VEVENT
BEGIN:VEVENT
DTSTART;TZID=America/New_York:20260422T093000
DTEND;TZID=America/New_York:20260422T120000
DTSTAMP:20260422T171230
CREATED:20251125T150333Z
LAST-MODIFIED:20251125T150641Z
UID:10002941-1776850200-1776859200@thecommunitycenter.org
SUMMARY:Free Hearing Screenings
DESCRIPTION:Free Comprehensive Hearing Screening! Call 860-567-8302 to book your 20 minute appointment between 9:30-12pm.\n\n\n\n\nHearing Care Centers will be on site at Litchfield Community Center to offer free comprehensive hearing screenings\, a series of tests that assess an individual’s ability to hear sounds and understand speech. The screening typically includes a range of tests such as pure-tone audiometry\, speech audiometry\, and middle ear testing. The purpose of the screening is to determine whether an individual has any hearing loss and the extent of the hearing loss. \nComprehensive hearing screening is important because hearing loss can have a significant impact on an individual’s quality of life. It can affect an individual’s ability to communicate effectively\, participate in social activities\, and perform daily tasks. Early detection of hearing loss can help prevent these negative impacts by allowing for prompt treatment\, such as hearing aids or cochlear implants\, which can improve an individual’s ability to hear and communicate. Additionally\, early detection of hearing loss can help identify any underlying medical conditions that may be causing the hearing loss and allow for timely treatment of those conditions. Overall\, comprehensive hearing screening is an important tool in maintaining overall health and wellbeing.
URL:https://thecommunitycenter.org/event/free-hearing-screenings/2026-04-22/
LOCATION:Learning Center
CATEGORIES:Adults,Family/All Ages,Free
ATTACH;FMTTYPE=image/png:https://thecommunitycenter.org/wp-content/uploads/2025/11/hearing-logo.png
END:VEVENT
BEGIN:VEVENT
DTSTART;TZID=America/New_York:20260422T100000
DTEND;TZID=America/New_York:20260422T140000
DTSTAMP:20260422T171230
CREATED:20250729T182414Z
LAST-MODIFIED:20251126T143717Z
UID:10003468-1776852000-1776866400@thecommunitycenter.org
SUMMARY:Duplicate Bridge
DESCRIPTION:Cost: $6*\nBring a partner\, bring a lunch!\nFacilitated by David Bill.
URL:https://thecommunitycenter.org/event/duplicate-bridge/2026-04-22/
LOCATION:Community Room
CATEGORIES:Adults
ATTACH;FMTTYPE=image/jpeg:https://thecommunitycenter.org/wp-content/uploads/2025/07/IMG_1353-scaled.jpeg
END:VEVENT
BEGIN:VEVENT
DTSTART;TZID=America/New_York:20260422T103000
DTEND;TZID=America/New_York:20260422T111500
DTSTAMP:20260422T171230
CREATED:20250729T183113Z
LAST-MODIFIED:20251126T144310Z
UID:10003519-1776853800-1776856500@thecommunitycenter.org
SUMMARY:Tai Chi with Marie
DESCRIPTION:Marie Boyens leads a light Tai Chi exercise each week focusing on reflexology and meditation.\nThis class is free. \n 
URL:https://thecommunitycenter.org/event/tai-chi-with-marie/2026-04-22/
LOCATION:Atrium
ATTACH;FMTTYPE=image/jpeg:https://thecommunitycenter.org/wp-content/uploads/2025/07/tai-chi.jpeg
END:VEVENT
BEGIN:VEVENT
DTSTART;TZID=America/New_York:20260422T120000
DTEND;TZID=America/New_York:20260422T133000
DTSTAMP:20260422T171230
CREATED:20260303T170002Z
LAST-MODIFIED:20260421T160854Z
UID:10005757-1776859200-1776864600@thecommunitycenter.org
SUMMARY:Live\, Learn\, Lunch: "Fit Generation" Documentary and Discussion
DESCRIPTION:A Bagged lunch will be provided following with the watching of documentary\, “THE FIT GENERATION”. \nThis award winning documentary is about the lives of active seniors in Western Canada. It is inspiring\, funny and speaks to us all on that same journey. \nFollowing the documentary there will a brief period of discussion. \n  \n\n 
URL:https://thecommunitycenter.org/event/live-learn-lunch-fit-generation-documentary-and-discussion/
CATEGORIES:Adults,Free,movie
END:VEVENT
BEGIN:VEVENT
DTSTART;TZID=America/New_York:20260422T170000
DTEND;TZID=America/New_York:20260422T190000
DTSTAMP:20260422T171230
CREATED:20260306T145317Z
LAST-MODIFIED:20260421T145334Z
UID:10005767-1776877200-1776884400@thecommunitycenter.org
SUMMARY:April Family Dinner
DESCRIPTION:  \nJoin us at the Litchfield Community Center for our April Family Dinner celebrating Earth Day. This free community event will take place on Wednesday\, April 22nd\, from 5:00 PM to 7:00 PM and is open to everyone. \nFamilies and community members are invited to enjoy a relaxed evening together with a kid-friendly meal and a chance to celebrate the spirit of Earth Day. Dinner will include chicken nuggets\, fries\, veggie wedgies\, and dirt pudding. \nThis event is free and open to all. Thank you to the Litchfield Community Services Fund for sponsoring the event.
URL:https://thecommunitycenter.org/event/april-family-dinner/
CATEGORIES:Family/All Ages,Free
ATTACH;FMTTYPE=image/jpeg:https://thecommunitycenter.org/wp-content/uploads/2026/03/Litchfield-Community-Center-30.jpg
END:VEVENT
END:VCALENDAR